Package: ACE Version: 1.25.0 Command: /Library/Frameworks/R.framework/Resources/bin/R CMD INSTALL ACE StartedAt: 2025-02-17 15:13:17 -0500 (Mon, 17 Feb 2025) EndedAt: 2025-02-17 15:13:24 -0500 (Mon, 17 Feb 2025) EllapsedTime: 6.7 seconds RetCode: 0 Status: OK