Package: ABarray Version: 1.75.0 Command: /home/biocbuild/bbs-3.21-bioc/R/bin/R CMD build --keep-empty-dirs --no-resave-data ABarray StartedAt: 2025-02-19 16:05:09 -0500 (Wed, 19 Feb 2025) EndedAt: 2025-02-19 16:05:22 -0500 (Wed, 19 Feb 2025) EllapsedTime: 13.0 seconds RetCode: 0 Status: OK PackageFile: ABarray_1.75.0.tar.gz PackageFileSize: 686.1 KiB