Package: ABarray Version: 1.75.0 Command: /Library/Frameworks/R.framework/Resources/bin/R CMD INSTALL ABarray StartedAt: 2025-02-19 15:38:11 -0500 (Wed, 19 Feb 2025) EndedAt: 2025-02-19 15:38:25 -0500 (Wed, 19 Feb 2025) EllapsedTime: 13.5 seconds RetCode: 0 Status: OK