Package: ABarray Version: 1.75.0 Command: /Library/Frameworks/R.framework/Resources/bin/R CMD check --install=check:ABarray.install-out.txt --library=/Library/Frameworks/R.framework/Resources/library --no-vignettes --timings ABarray_1.75.0.tar.gz StartedAt: 2025-02-19 18:45:42 -0500 (Wed, 19 Feb 2025) EndedAt: 2025-02-19 18:47:12 -0500 (Wed, 19 Feb 2025) EllapsedTime: 89.6 seconds RetCode: 0 Status: OK CheckDir: ABarray.Rcheck Warnings: 0