Package: ABarray Version: 1.76.0 Command: rm -rf ABarray.buildbin-libdir && mkdir ABarray.buildbin-libdir && /Users/biocbuild/BBS/utils/build-universal.sh ABarray_1.76.0.tar.gz /Library/Frameworks/R.framework/Resources/bin/R ABarray.buildbin-libdir StartedAt: 2025-10-15 17:18:49 -0400 (Wed, 15 Oct 2025) EndedAt: 2025-10-15 17:19:02 -0400 (Wed, 15 Oct 2025) EllapsedTime: 13.5 seconds RetCode: 0 Status: OK PackageFile: ABarray_1.76.0.tgz PackageFileSize: 747.4 KiB