Package: ABSSeq Version: 1.61.0 Command: chmod a+r ABSSeq -R && E:\biocbuild\bbs-3.21-bioc\R\bin\R.exe CMD build --keep-empty-dirs --no-resave-data ABSSeq StartedAt: 2025-02-20 17:09:27 -0500 (Thu, 20 Feb 2025) EndedAt: 2025-02-20 17:11:17 -0500 (Thu, 20 Feb 2025) EllapsedTime: 109.5 seconds RetCode: 0 Status: OK PackageFile: ABSSeq_1.61.0.tar.gz PackageFileSize: 995.2 KiB