Package: ABSSeq Version: 1.61.0 Command: /home/biocbuild/bbs-3.21-bioc/R/bin/R CMD check --install=check:ABSSeq.install-out.txt --library=/home/biocbuild/bbs-3.21-bioc/R/site-library --timings ABSSeq_1.61.0.tar.gz StartedAt: 2025-02-19 19:50:43 -0500 (Wed, 19 Feb 2025) EndedAt: 2025-02-19 19:53:30 -0500 (Wed, 19 Feb 2025) EllapsedTime: 167.3 seconds RetCode: 0 Status: OK CheckDir: ABSSeq.Rcheck Warnings: 0