Package: ABSSeq Version: 1.61.0 Command: rm -rf ABSSeq.buildbin-libdir && mkdir ABSSeq.buildbin-libdir && /Users/biocbuild/BBS/utils/build-universal.sh ABSSeq_1.61.0.tar.gz /Library/Frameworks/R.framework/Resources/bin/R ABSSeq.buildbin-libdir StartedAt: 2025-02-21 00:18:23 -0500 (Fri, 21 Feb 2025) EndedAt: 2025-02-21 00:18:36 -0500 (Fri, 21 Feb 2025) EllapsedTime: 12.7 seconds RetCode: 0 Status: OK PackageFile: ABSSeq_1.61.0.tgz PackageFileSize: 1.312 MiB