Welcome to mirrors.dotsrc.org

All our mirrors of open source software are available via http, https, ftp and an onion service. More information about our mirrors including statistics and contact information is available on our mirror info pages.

For information about dotsrc.org and our other services please go to our website.

Index of /bioconductor/checkResults/3.21/bioc-LATEST/

File Name  ↓ File Size  ↓ Date  ↓ 
Parent directory/--
zinbwave/-2025-02-15 16:44:57
zFPKM/-2025-02-15 16:44:57
zitools/-2025-02-15 16:44:57
ZygosityPredictor/-2025-02-15 16:44:57
zlibbioc/-2025-02-15 16:44:57
XVector/-2025-02-15 16:44:56
wppi/-2025-02-15 16:44:56
zellkonverter/-2025-02-15 16:44:56
wiggleplotr/-2025-02-15 16:44:56
wpm/-2025-02-15 16:44:56
webbioc/-2025-02-15 16:44:56
xCell2/-2025-02-15 16:44:56
xmapbridge/-2025-02-15 16:44:56
zenith/-2025-02-15 16:44:56
XNAString/-2025-02-15 16:44:56
xcore/-2025-02-15 16:44:56
Wrench/-2025-02-15 16:44:56
XDE/-2025-02-15 16:44:56
XINA/-2025-02-15 16:44:56
xenLite/-2025-02-15 16:44:56
weaver/-2025-02-15 16:44:56
widgetTools/-2025-02-15 16:44:56
Xeva/-2025-02-15 16:44:56
yamss/-2025-02-15 16:44:56
yarn/-2025-02-15 16:44:56
weitrix/-2025-02-15 16:44:56
xcms/-2025-02-15 16:44:56
YAPSA/-2025-02-15 16:44:56
ViSEAGO/-2025-02-15 16:44:55
VaSP/-2025-02-15 16:44:55
VegaMC/-2025-02-15 16:44:55
vbmp/-2025-02-15 16:44:55
VDJdive/-2025-02-15 16:44:55
vtpnet/-2025-02-15 16:44:55
vissE/-2025-02-15 16:44:55
wateRmelon/-2025-02-15 16:44:55
velociraptor/-2025-02-15 16:44:55
vsclust/-2025-02-15 16:44:55
VisiumIO/-2025-02-15 16:44:55
vsn/-2025-02-15 16:44:55
VariantTools/-2025-02-15 16:44:55
visiumStitched/-2025-02-15 16:44:55
vulcan/-2025-02-15 16:44:55
veloviz/-2025-02-15 16:44:55
VERSO/-2025-02-15 16:44:55
VennDetail/-2025-02-15 16:44:55
VCFArray/-2025-02-15 16:44:55
waddR/-2025-02-15 16:44:55
wavClusteR/-2025-02-15 16:44:55
viper/-2025-02-15 16:44:55
vidger/-2025-02-15 16:44:55
Voyager/-2025-02-15 16:44:55
VplotR/-2025-02-15 16:44:55
updateObject/-2025-02-15 16:44:54
VAExprs/-2025-02-15 16:44:54
tximport/-2025-02-15 16:44:54
uSORT/-2025-02-15 16:44:54
uncoverappLib/-2025-02-15 16:44:54
txdbmaker/-2025-02-15 16:44:54
Uniquorn/-2025-02-15 16:44:54
txcutr/-2025-02-15 16:44:54
variancePartition/-2025-02-15 16:44:54
VariantExperiment/-2025-02-15 16:44:54
VariantAnnotation/-2025-02-15 16:44:54
UCSC.utils/-2025-02-15 16:44:54
Ularcirc/-2025-02-15 16:44:54
UPDhmm/-2025-02-15 16:44:54
UNDO/-2025-02-15 16:44:54
twoddpcr/-2025-02-15 16:44:54
VanillaICE/-2025-02-15 16:44:54
VarCon/-2025-02-15 16:44:54
TypeInfo/-2025-02-15 16:44:54
universalmotif/-2025-02-15 16:44:54
UniProt.ws/-2025-02-15 16:44:54
UMI4Cats/-2025-02-15 16:44:54
VariantFiltering/-2025-02-15 16:44:54
UCell/-2025-02-15 16:44:54
unifiedWMWqPCR/-2025-02-15 16:44:54
tximeta/-2025-02-15 16:44:54
TreeSummarizedExperiment/-2025-02-15 16:44:53
Trendy/-2025-02-15 16:44:53
tricycle/-2025-02-15 16:44:53
ttgsea/-2025-02-15 16:44:53
tRNAdbImport/-2025-02-15 16:44:53
tweeDEseq/-2025-02-15 16:44:53
tRNA/-2025-02-15 16:44:53
twilight/-2025-02-15 16:44:53
TREG/-2025-02-15 16:44:53
TrIdent/-2025-02-15 16:44:53
treekoR/-2025-02-15 16:44:53
treeclimbR/-2025-02-15 16:44:53
TurboNorm/-2025-02-15 16:44:53
trio/-2025-02-15 16:44:53
TreeAndLeaf/-2025-02-15 16:44:53
TTMap/-2025-02-15 16:44:53
TSCAN/-2025-02-15 16:44:53
TSAR/-2025-02-15 16:44:53
triplex/-2025-02-15 16:44:53
TVTB/-2025-02-15 16:44:53
treeio/-2025-02-15 16:44:53
tripr/-2025-02-15 16:44:53
TRONCO/-2025-02-15 16:44:53
TRESS/-2025-02-15 16:44:53
trigger/-2025-02-15 16:44:53
tRNAscanImport/-2025-02-15 16:44:53
transite/-2025-02-15 16:44:52
tracktables/-2025-02-15 16:44:52
transcriptR/-2025-02-15 16:44:52
TPP2D/-2025-02-15 16:44:52
trackViewer/-2025-02-15 16:44:52
transcriptogramer/-2025-02-15 16:44:52
tpSVG/-2025-02-15 16:44:52
TrajectoryGeometry/-2025-02-15 16:44:52
topGO/-2025-02-15 16:44:52
transomics2cytoscape/-2025-02-15 16:44:52
topdownr/-2025-02-15 16:44:52
topconfects/-2025-02-15 16:44:52
tradeSeq/-2025-02-15 16:44:52
tRanslatome/-2025-02-15 16:44:52
TrajectoryUtils/-2025-02-15 16:44:52
ToxicoGx/-2025-02-15 16:44:52
transmogR/-2025-02-15 16:44:52
traviz/-2025-02-15 16:44:52
traseR/-2025-02-15 16:44:52
tomoseqr/-2025-02-15 16:44:52
TransView/-2025-02-15 16:44:52
TPP/-2025-02-15 16:44:52
TOP/-2025-02-15 16:44:52
transformGamPoi/-2025-02-15 16:44:52
tidytof/-2025-02-15 16:44:51
timeOmics/-2025-02-15 16:44:51
tidyomics/-2025-02-15 16:44:51
timescape/-2025-02-15 16:44:51
tidySummarizedExperiment/-2025-02-15 16:44:51
tidySingleCellExperiment/-2025-02-15 16:44:51
tLOH/-2025-02-15 16:44:51
tigre/-2025-02-15 16:44:51
TMSig/-2025-02-15 16:44:51
timecourse/-2025-02-15 16:44:51
tilingArray/-2025-02-15 16:44:51
TitanCNA/-2025-02-15 16:44:51
TissueEnrich/-2025-02-15 16:44:51
tomoda/-2025-02-15 16:44:51
tidyFlowCore/-2025-02-15 16:44:51
tidysbml/-2025-02-15 16:44:51
TileDBArray/-2025-02-15 16:44:51
TIN/-2025-02-15 16:44:51
tkWidgets/-2025-02-15 16:44:51
TnT/-2025-02-15 16:44:51
TOAST/-2025-02-15 16:44:51
tidySpatialExperiment/-2025-02-15 16:44:51
TMixClust/-2025-02-15 16:44:51
tanggle/-2025-02-15 16:44:50
tenXplore/-2025-02-15 16:44:50
TargetSearch/-2025-02-15 16:44:50
TCC/-2025-02-15 16:44:50
TDbasedUFEadv/-2025-02-15 16:44:50
TDbasedUFE/-2025-02-15 16:44:50
TEQC/-2025-02-15 16:44:50
TFARM/-2025-02-15 16:44:50
TENxIO/-2025-02-15 16:44:50
terraTCGAdata/-2025-02-15 16:44:50
TFBSTools/-2025-02-15 16:44:50
TCGAbiolinks/-2025-02-15 16:44:50
TFEA.ChIP/-2025-02-15 16:44:50
TCGAutils/-2025-02-15 16:44:50
TFHAZ/-2025-02-15 16:44:50
TAPseq/-2025-02-15 16:44:50
tidyCoverage/-2025-02-15 16:44:50
TBSignatureProfiler/-2025-02-15 16:44:50
TargetScore/-2025-02-15 16:44:50
ternarynet/-2025-02-15 16:44:50
TCseq/-2025-02-15 16:44:50
TFutils/-2025-02-15 16:44:50
TEKRABber/-2025-02-15 16:44:50
TargetDecoy/-2025-02-15 16:44:50
target/-2025-02-15 16:44:50
tidybulk/-2025-02-15 16:44:50
survtype/-2025-02-15 16:44:49
TADCompare/-2025-02-15 16:44:49
SVMDO/-2025-02-15 16:44:49
switchde/-2025-02-15 16:44:49
sva/-2025-02-15 16:44:49
synapsis/-2025-02-15 16:44:49
survClust/-2025-02-15 16:44:49
SurfR/-2025-02-15 16:44:49
switchBox/-2025-02-15 16:44:49
SynExtend/-2025-02-15 16:44:49
survcomp/-2025-02-15 16:44:49
tadar/-2025-02-15 16:44:49
synlet/-2025-02-15 16:44:49
SWATH2stats/-2025-02-15 16:44:49
svaNUMT/-2025-02-15 16:44:49
syntenet/-2025-02-15 16:44:49
systemPipeR/-2025-02-15 16:44:49
systemPipeTools/-2025-02-15 16:44:49
synergyfinder/-2025-02-15 16:44:49
swfdr/-2025-02-15 16:44:49
SwathXtend/-2025-02-15 16:44:49
systemPipeShiny/-2025-02-15 16:44:49
SynMut/-2025-02-15 16:44:49
synapter/-2025-02-15 16:44:49
svaRetro/-2025-02-15 16:44:49
surfaltr/-2025-02-15 16:44:48
Summix/-2025-02-15 16:44:48
StructuralVariantAnnotation/-2025-02-15 16:44:48
STRINGdb/-2025-02-15 16:44:48
STdeconvolve/-2025-02-15 16:44:48
SubCellBarCode/-2025-02-15 16:44:48
supraHex/-2025-02-15 16:44:48
SUITOR/-2025-02-15 16:44:48
Streamer/-2025-02-15 16:44:48
StabMap/-2025-02-15 16:44:48
standR/-2025-02-15 16:44:48
stageR/-2025-02-15 16:44:48
ssviz/-2025-02-15 16:44:48
structToolbox/-2025-02-15 16:44:48
strandCheckR/-2025-02-15 16:44:48
staRank/-2025-02-15 16:44:48
Statial/-2025-02-15 16:44:48
SummarizedExperiment/-2025-02-15 16:44:48
stepNorm/-2025-02-15 16:44:48
STATegRa/-2025-02-15 16:44:48
subSeq/-2025-02-15 16:44:48
struct/-2025-02-15 16:44:48
stJoincount/-2025-02-15 16:44:48
Structstrings/-2025-02-15 16:44:48
statTarget/-2025-02-15 16:44:48
supersigs/-2025-02-15 16:44:48
ssize/-2025-02-15 16:44:47
spqn/-2025-02-15 16:44:47
sscu/-2025-02-15 16:44:47
SPONGE/-2025-02-15 16:44:47
sSNAPPY/-2025-02-15 16:44:47
SPLINTER/-2025-02-15 16:44:47
sSeq/-2025-02-15 16:44:47
SpliceWiz/-2025-02-15 16:44:47
sRACIPE/-2025-02-15 16:44:47
SplicingFactory/-2025-02-15 16:44:47
squallms/-2025-02-15 16:44:47
splots/-2025-02-15 16:44:47
SPsimSeq/-2025-02-15 16:44:47
SRAdb/-2025-02-15 16:44:47
SPOTlight/-2025-02-15 16:44:47
SplineDV/-2025-02-15 16:44:47
spoon/-2025-02-15 16:44:47
ssrch/-2025-02-15 16:44:47
srnadiff/-2025-02-15 16:44:47
SpotSweeper/-2025-02-15 16:44:47
splineTimeR/-2025-02-15 16:44:47
SQLDataFrame/-2025-02-15 16:44:47
SplicingGraphs/-2025-02-15 16:44:47
ssPATHS/-2025-02-15 16:44:47
splatter/-2025-02-15 16:44:47
SpotClean/-2025-02-15 16:44:47
SpectralTAD/-2025-02-15 16:44:46
spkTools/-2025-02-15 16:44:46
spikeLI/-2025-02-15 16:44:46
Spectra/-2025-02-15 16:44:46
spatzie/-2025-02-15 16:44:46
spillR/-2025-02-15 16:44:46
spaSim/-2025-02-15 16:44:46
SpatialDecon/-2025-02-15 16:44:46
SpatialExperimentIO/-2025-02-15 16:44:46
SpatialFeatureExperiment/-2025-02-15 16:44:46
SpatialExperiment/-2025-02-15 16:44:46
SpeCond/-2025-02-15 16:44:46
spicyR/-2025-02-15 16:44:46
spatialSimGP/-2025-02-15 16:44:46
specL/-2025-02-15 16:44:46
SpatialCPie/-2025-02-15 16:44:46
speckle/-2025-02-15 16:44:46
spiky/-2025-02-15 16:44:46
SPEM/-2025-02-15 16:44:46
SpatialOmicsOverlay/-2025-02-15 16:44:46
SpectraQL/-2025-02-15 16:44:46
spatialDE/-2025-02-15 16:44:46
spatialFDA/-2025-02-15 16:44:46
spatialHeatmap/-2025-02-15 16:44:46
SPIAT/-2025-02-15 16:44:46
SPIA/-2025-02-15 16:44:46
sparsenetgls/-2025-02-15 16:44:45
smoothclust/-2025-02-15 16:44:45
sparseMatrixStats/-2025-02-15 16:44:45
smartid/-2025-02-15 16:44:45
sosta/-2025-02-15 16:44:45
SparseArray/-2025-02-15 16:44:45
smoppix/-2025-02-15 16:44:45
SNPRelate/-2025-02-15 16:44:45
Spaniel/-2025-02-15 16:44:45
SpaceMarkers/-2025-02-15 16:44:45
SMITE/-2025-02-15 16:44:45
snpStats/-2025-02-15 16:44:45
SMAD/-2025-02-15 16:44:45
soGGi/-2025-02-15 16:44:45
SNPediaR/-2025-02-15 16:44:45
SparseSignatures/-2025-02-15 16:44:45
SpaNorm/-2025-02-15 16:44:45
SNPhood/-2025-02-15 16:44:45
snm/-2025-02-15 16:44:45
snapcount/-2025-02-15 16:44:45
SOMNiBUS/-2025-02-15 16:44:45
sparrow/-2025-02-15 16:44:45
SomaticSignatures/-2025-02-15 16:44:45
SNAGEE/-2025-02-15 16:44:45
SpacePAC/-2025-02-15 16:44:45
snifter/-2025-02-15 16:44:45
simplifyEnrichment/-2025-02-15 16:44:44
sizepower/-2025-02-15 16:44:44
similaRpeak/-2025-02-15 16:44:44
SingleMoleculeFootprinting/-2025-02-15 16:44:44
singleCellTK/-2025-02-15 16:44:44
SimFFPE/-2025-02-15 16:44:44
sketchR/-2025-02-15 16:44:44
SingleCellExperiment/-2025-02-15 16:44:44
singscore/-2025-02-15 16:44:44
slalom/-2025-02-15 16:44:44
SiPSiC/-2025-02-15 16:44:44
sitadela/-2025-02-15 16:44:44
simPIC/-2025-02-15 16:44:44
sincell/-2025-02-15 16:44:44
slingshot/-2025-02-15 16:44:44
SingleCellAlleleExperiment/-2025-02-15 16:44:44
SingleCellSignalR/-2025-02-15 16:44:44
SingleR/-2025-02-15 16:44:44
sitePath/-2025-02-15 16:44:44
SIMLR/-2025-02-15 16:44:44
simpleSeg/-2025-02-15 16:44:44
simona/-2025-02-15 16:44:44
skewr/-2025-02-15 16:44:44
SLqPCR/-2025-02-15 16:44:44
signeR/-2025-02-15 16:44:43
SICtools/-2025-02-15 16:44:43
sigFeature/-2025-02-15 16:44:43
ShortRead/-2025-02-15 16:44:43
SIAMCAT/-2025-02-15 16:44:43
SigsPack/-2025-02-15 16:44:43
SharedObject/-2025-02-15 16:44:43
SIM/-2025-02-15 16:44:43
siggenes/-2025-02-15 16:44:43
signatureSearch/-2025-02-15 16:44:43
shinyepico/-2025-02-15 16:44:43
SIMD/-2025-02-15 16:44:43
SigCheck/-2025-02-15 16:44:43
SGSeq/-2025-02-15 16:44:43
SimBu/-2025-02-15 16:44:43
SigFuge/-2025-02-15 16:44:43
signifinder/-2025-02-15 16:44:43
shiny.gosling/-2025-02-15 16:44:43
sights/-2025-02-15 16:44:43
SIMAT/-2025-02-15 16:44:43
sigsquared/-2025-02-15 16:44:43
shinyMethyl/-2025-02-15 16:44:43
sevenC/-2025-02-15 16:44:43
SGCP/-2025-02-15 16:44:43
sevenbridges/-2025-02-15 16:44:43
seqcombo/-2025-02-15 16:44:42
seqCAT/-2025-02-15 16:44:42
segmenter/-2025-02-15 16:44:42
SemDist/-2025-02-15 16:44:42
SeqSQC/-2025-02-15 16:44:42
semisup/-2025-02-15 16:44:42
SDAMS/-2025-02-15 16:44:42
seqArchR/-2025-02-15 16:44:42
selectKSigs/-2025-02-15 16:44:42
SeqVarTools/-2025-02-15 16:44:42
seqsetvis/-2025-02-15 16:44:42
SELEX/-2025-02-15 16:44:42
SeqArray/-2025-02-15 16:44:42
seahtrue/-2025-02-15 16:44:42
sechm/-2025-02-15 16:44:42
seq.hotSPOT/-2025-02-15 16:44:42
seqTools/-2025-02-15 16:44:42
SeqGate/-2025-02-15 16:44:42
seq2pathway/-2025-02-15 16:44:42
segmentSeq/-2025-02-15 16:44:42
SeqGSEA/-2025-02-15 16:44:42
seqArchRplus/-2025-02-15 16:44:42
SEtools/-2025-02-15 16:44:42
seqLogo/-2025-02-15 16:44:42
seqPattern/-2025-02-15 16:44:42
sesame/-2025-02-15 16:44:42
scShapes/-2025-02-15 16:44:41
scQTLtools/-2025-02-15 16:44:41
scviR/-2025-02-15 16:44:41
scry/-2025-02-15 16:44:41
scruff/-2025-02-15 16:44:41
scrapper/-2025-02-15 16:44:41
scoreInvHap/-2025-02-15 16:44:41
scPCA/-2025-02-15 16:44:41
scp/-2025-02-15 16:44:41
scoup/-2025-02-15 16:44:41
scTreeViz/-2025-02-15 16:44:41
scRNAseqApp/-2025-02-15 16:44:41
scRepertoire/-2025-02-15 16:44:41
Sconify/-2025-02-15 16:44:41
scReClassify/-2025-02-15 16:44:41
SCOPE/-2025-02-15 16:44:41
scTHI/-2025-02-15 16:44:41
scTensor/-2025-02-15 16:44:41
ScreenR/-2025-02-15 16:44:41
scRecover/-2025-02-15 16:44:41
scran/-2025-02-15 16:44:41
scuttle/-2025-02-15 16:44:41
scPipe/-2025-02-15 16:44:41
screenCounter/-2025-02-15 16:44:41
scTGIF/-2025-02-15 16:44:41
SCnorm/-2025-02-15 16:44:40
scone/-2025-02-15 16:44:40
schex/-2025-02-15 16:44:40
scFeatures/-2025-02-15 16:44:40
SCFA/-2025-02-15 16:44:40
scDotPlot/-2025-02-15 16:44:40
scDDboost/-2025-02-15 16:44:40
scDblFinder/-2025-02-15 16:44:40
scFeatureFilter/-2025-02-15 16:44:40
scGPS/-2025-02-15 16:44:40
scds/-2025-02-15 16:44:40
scDD/-2025-02-15 16:44:40
scDiagnostics/-2025-02-15 16:44:40
scHOT/-2025-02-15 16:44:40
scde/-2025-02-15 16:44:40
scDataviz/-2025-02-15 16:44:40
scDesign3/-2025-02-15 16:44:40
scider/-2025-02-15 16:44:40
sccomp/-2025-02-15 16:44:40
scMitoMut/-2025-02-15 16:44:40
scMerge/-2025-02-15 16:44:40
scmap/-2025-02-15 16:44:40
scifer/-2025-02-15 16:44:40
scMultiSim/-2025-02-15 16:44:40
scmeth/-2025-02-15 16:44:40
scMET/-2025-02-15 16:44:40
saseR/-2025-02-15 16:44:39
SC3/-2025-02-15 16:44:39
sarks/-2025-02-15 16:44:39
SANTA/-2025-02-15 16:44:39
scAnnotatR/-2025-02-15 16:44:39
ScaledMatrix/-2025-02-15 16:44:39
SARC/-2025-02-15 16:44:39
scCB2/-2025-02-15 16:44:39
scClassify/-2025-02-15 16:44:39
SCBN/-2025-02-15 16:44:39
sangeranalyseR/-2025-02-15 16:44:39
sangerseqR/-2025-02-15 16:44:39
scBFA/-2025-02-15 16:44:39
SBGNview/-2025-02-15 16:44:39
SBMLR/-2025-02-15 16:44:39
SCArray.sat/-2025-02-15 16:44:39
scBubbletree/-2025-02-15 16:44:39
scanMiR/-2025-02-15 16:44:39
scater/-2025-02-15 16:44:39
scanMiRApp/-2025-02-15 16:44:39
satuRn/-2025-02-15 16:44:39
Scale4C/-2025-02-15 16:44:39
SCANVIS/-2025-02-15 16:44:39
scatterHatch/-2025-02-15 16:44:39
SCAN.UPC/-2025-02-15 16:44:39
SCArray/-2025-02-15 16:44:39
RTCGA/-2025-02-15 16:44:38
RVS/-2025-02-15 16:44:38
RUVSeq/-2025-02-15 16:44:38
SamSPECTRAL/-2025-02-15 16:44:38
rTRMui/-2025-02-15 16:44:38
Rtreemix/-2025-02-15 16:44:38
Rtpca/-2025-02-15 16:44:38
RUVnormalize/-2025-02-15 16:44:38
safe/-2025-02-15 16:44:38
sampleClassifier/-2025-02-15 16:44:38
RTNsurvival/-2025-02-15 16:44:38
Rvisdiff/-2025-02-15 16:44:38
RTCA/-2025-02-15 16:44:38
RTCGAToolbox/-2025-02-15 16:44:38
rWikiPathways/-2025-02-15 16:44:38
RUVcorr/-2025-02-15 16:44:38
rTRM/-2025-02-15 16:44:38
RTopper/-2025-02-15 16:44:38
SAIGEgds/-2025-02-15 16:44:38
S4Arrays/-2025-02-15 16:44:38
sagenhaft/-2025-02-15 16:44:38
S4Vectors/-2025-02-15 16:44:38
rSWeeP/-2025-02-15 16:44:38
rtracklayer/-2025-02-15 16:44:38
RTN/-2025-02-15 16:44:38
RTNduals/-2025-02-15 16:44:38
ROC/-2025-02-15 16:44:37
ROSeq/-2025-02-15 16:44:37
rpx/-2025-02-15 16:44:37
rRDP/-2025-02-15 16:44:37
rprimer/-2025-02-15 16:44:37
RSVSim/-2025-02-15 16:44:37
RolDE/-2025-02-15 16:44:37
roastgsa/-2025-02-15 16:44:37
rScudo/-2025-02-15 16:44:37
rqubic/-2025-02-15 16:44:37
rqt/-2025-02-15 16:44:37
RProtoBufLib/-2025-02-15 16:44:37
ropls/-2025-02-15 16:44:37
Rsamtools/-2025-02-15 16:44:37
RRHO/-2025-02-15 16:44:37
ROCpAI/-2025-02-15 16:44:37
ROTS/-2025-02-15 16:44:37
ROntoTools/-2025-02-15 16:44:37
rsemmed/-2025-02-15 16:44:37
rols/-2025-02-15 16:44:37
rrvgo/-2025-02-15 16:44:37
Rqc/-2025-02-15 16:44:37
RSeqAn/-2025-02-15 16:44:37
RPA/-2025-02-15 16:44:37
Rsubread/-2025-02-15 16:44:37
rmelting/-2025-02-15 16:44:36
RNAseqCovarImpute/-2025-02-15 16:44:36
RITAN/-2025-02-15 16:44:36
RNASeqPower/-2025-02-15 16:44:36
RJMCMCNucleosomes/-2025-02-15 16:44:36
RImmPort/-2025-02-15 16:44:36
RNAmodR.RiboMethSeq/-2025-02-15 16:44:36
RNAAgeCalc/-2025-02-15 16:44:36
rmspc/-2025-02-15 16:44:36
RNAmodR.ML/-2025-02-15 16:44:36
RIVER/-2025-02-15 16:44:36
RMassBank/-2025-02-15 16:44:36
RnaSeqSampleSize/-2025-02-15 16:44:36
RNAdecay/-2025-02-15 16:44:36
RLassoCox/-2025-02-15 16:44:36
RNAmodR.AlkAnilineSeq/-2025-02-15 16:44:36
rifiComparative/-2025-02-15 16:44:36
roar/-2025-02-15 16:44:36
Rnits/-2025-02-15 16:44:36
RnBeads/-2025-02-15 16:44:36
RNAmodR/-2025-02-15 16:44:36
rnaseqcomp/-2025-02-15 16:44:36
rnaEditr/-2025-02-15 16:44:36
Rmmquant/-2025-02-15 16:44:36
RLMM/-2025-02-15 16:44:36
RNAsense/-2025-02-15 16:44:36
Rmagpie/-2025-02-15 16:44:36
RGSEA/-2025-02-15 16:44:35
rGREAT/-2025-02-15 16:44:35
ribor/-2025-02-15 16:44:35
rhdf5filters/-2025-02-15 16:44:35
RiboProfiling/-2025-02-15 16:44:35
RiboCrypt/-2025-02-15 16:44:35
rhdf5client/-2025-02-15 16:44:35
Rhdf5lib/-2025-02-15 16:44:35
rgoslin/-2025-02-15 16:44:35
Rgraphviz/-2025-02-15 16:44:35
rGenomeTracks/-2025-02-15 16:44:35
Rhisat2/-2025-02-15 16:44:35
RGraph2js/-2025-02-15 16:44:35
RgnTX/-2025-02-15 16:44:35
rhdf5/-2025-02-15 16:44:35
RiboDiPA/-2025-02-15 16:44:35
rGADEM/-2025-02-15 16:44:35
rifi/-2025-02-15 16:44:35
riboSeqR/-2025-02-15 16:44:35
rgsepd/-2025-02-15 16:44:35
ribosomeProfilingQC/-2025-02-15 16:44:35
Rhtslib/-2025-02-15 16:44:35
rhinotypeR/-2025-02-15 16:44:35
rfPred/-2025-02-15 16:44:35
RegionalST/-2025-02-15 16:44:34
RESOLVE/-2025-02-15 16:44:34
ResidualMatrix/-2025-02-15 16:44:34
rexposome/-2025-02-15 16:44:34
RepViz/-2025-02-15 16:44:34
ReducedExperiment/-2025-02-15 16:44:34
retrofit/-2025-02-15 16:44:34
ReportingTools/-2025-02-15 16:44:34
regioneR/-2025-02-15 16:44:34
regionalpcs/-2025-02-15 16:44:34
regioneReloaded/-2025-02-15 16:44:34
RedeR/-2025-02-15 16:44:34
recountmethylation/-2025-02-15 16:44:34
regsplice/-2025-02-15 16:44:34
ReUseData/-2025-02-15 16:44:34
regionReport/-2025-02-15 16:44:34
rfaRm/-2025-02-15 16:44:34
recoup/-2025-02-15 16:44:34
REDseq/-2025-02-15 16:44:34
Rfastp/-2025-02-15 16:44:34
RedisParam/-2025-02-15 16:44:34
RegEnrich/-2025-02-15 16:44:34
regutools/-2025-02-15 16:44:34
Repitools/-2025-02-15 16:44:34
recount3/-2025-02-15 16:44:34
REMP/-2025-02-15 16:44:34
RCy3/-2025-02-15 16:44:33
reconsi/-2025-02-15 16:44:33
recount/-2025-02-15 16:44:33
RCX/-2025-02-15 16:44:33
RCASPAR/-2025-02-15 16:44:33
RCyjs/-2025-02-15 16:44:33
ReactomeGSA/-2025-02-15 16:44:33
Rdisop/-2025-02-15 16:44:33
rcellminer/-2025-02-15 16:44:33
ReadqPCR/-2025-02-15 16:44:33
Rcpi/-2025-02-15 16:44:33
REBET/-2025-02-15 16:44:33
RDRToolbox/-2025-02-15 16:44:33
RcwlPipelines/-2025-02-15 16:44:33
Rcwl/-2025-02-15 16:44:33
receptLoss/-2025-02-15 16:44:33
RCM/-2025-02-15 16:44:33
ReactomePA/-2025-02-15 16:44:33
ReactomeContentService4R/-2025-02-15 16:44:33
ReactomeGraph4R/-2025-02-15 16:44:33
RCSL/-2025-02-15 16:44:33
rCGH/-2025-02-15 16:44:33
RcisTarget/-2025-02-15 16:44:33
rebook/-2025-02-15 16:44:33
RBGL/-2025-02-15 16:44:32
rBiopaxParser/-2025-02-15 16:44:32
rBLAST/-2025-02-15 16:44:32
RankProd/-2025-02-15 16:44:32
rawrr/-2025-02-15 16:44:32
rawDiag/-2025-02-15 16:44:32
RAIDS/-2025-02-15 16:44:32
randPack/-2025-02-15 16:44:32
randRotation/-2025-02-15 16:44:32
Rbowtie2/-2025-02-15 16:44:32
Rarr/-2025-02-15 16:44:32
rbsurv/-2025-02-15 16:44:32
RaggedExperiment/-2025-02-15 16:44:32
RBioinf/-2025-02-15 16:44:32
Rbwa/-2025-02-15 16:44:32
RbcBook1/-2025-02-15 16:44:32
RBioFormats/-2025-02-15 16:44:32
Rbowtie/-2025-02-15 16:44:32
rain/-2025-02-15 16:44:32
ramwas/-2025-02-15 16:44:32
RCAS/-2025-02-15 16:44:32
Rbec/-2025-02-15 16:44:32
ramr/-2025-02-15 16:44:32
RareVariantVis/-2025-02-15 16:44:32
RAREsim/-2025-02-15 16:44:32
RBM/-2025-02-15 16:44:32
r3Cseq/-2025-02-15 16:44:31
qusage/-2025-02-15 16:44:31
R453Plus1Toolbox/-2025-02-15 16:44:31
qpcrNorm/-2025-02-15 16:44:31
qsea/-2025-02-15 16:44:31
Qtlizer/-2025-02-15 16:44:31
QSutils/-2025-02-15 16:44:31
QTLExperiment/-2025-02-15 16:44:31
qsmooth/-2025-02-15 16:44:31
QUBIC/-2025-02-15 16:44:31
qPLEXanalyzer/-2025-02-15 16:44:31
R4RNA/-2025-02-15 16:44:31
quantro/-2025-02-15 16:44:31
quantsmooth/-2025-02-15 16:44:31
qvalue/-2025-02-15 16:44:31
qmtools/-2025-02-15 16:44:31
QuaternaryProd/-2025-02-15 16:44:31
RadioGx/-2025-02-15 16:44:31
quantiseqr/-2025-02-15 16:44:31
QuasR/-2025-02-15 16:44:31
QuartPAC/-2025-02-15 16:44:31
qsvaR/-2025-02-15 16:44:31
QFeatures/-2025-02-15 16:44:31
qpgraph/-2025-02-15 16:44:31
raer/-2025-02-15 16:44:31
Pviz/-2025-02-15 16:44:30
pwalign/-2025-02-15 16:44:30
pRolocGUI/-2025-02-15 16:44:30
protGear/-2025-02-15 16:44:30
PWMEnrich/-2025-02-15 16:44:30
PRONE/-2025-02-15 16:44:30
ptairMS/-2025-02-15 16:44:30
proteinProfiles/-2025-02-15 16:44:30
pRoloc/-2025-02-15 16:44:30
ProteoMM/-2025-02-15 16:44:30
qckitfastq/-2025-02-15 16:44:30
pvac/-2025-02-15 16:44:30
QDNAseq/-2025-02-15 16:44:30
PROMISE/-2025-02-15 16:44:30
PureCN/-2025-02-15 16:44:30
puma/-2025-02-15 16:44:30
ProtGenerics/-2025-02-15 16:44:30
PROPS/-2025-02-15 16:44:30
ProteoDisco/-2025-02-15 16:44:30
PROPER/-2025-02-15 16:44:30
Prostar/-2025-02-15 16:44:30
qcmetrics/-2025-02-15 16:44:30
psichomics/-2025-02-15 16:44:30
PSMatch/-2025-02-15 16:44:30
pvca/-2025-02-15 16:44:30
progeny/-2025-02-15 16:44:29
profileScoreDist/-2025-02-15 16:44:29
POWSC/-2025-02-15 16:44:29
PROcess/-2025-02-15 16:44:29
POMA/-2025-02-15 16:44:29
pram/-2025-02-15 16:44:29
proBAMr/-2025-02-15 16:44:29
PrInCE/-2025-02-15 16:44:29
powerTCR/-2025-02-15 16:44:29
proActiv/-2025-02-15 16:44:29
preprocessCore/-2025-02-15 16:44:29
profileplyr/-2025-02-15 16:44:29
pqsfinder/-2025-02-15 16:44:29
PREDA/-2025-02-15 16:44:29
PolySTest/-2025-02-15 16:44:29
pogos/-2025-02-15 16:44:29
podkat/-2025-02-15 16:44:29
prebs/-2025-02-15 16:44:29
PPInfer/-2025-02-15 16:44:29
ppcseq/-2025-02-15 16:44:29
preciseTAD/-2025-02-15 16:44:29
primirTSS/-2025-02-15 16:44:29
Polytect/-2025-02-15 16:44:29
proDA/-2025-02-15 16:44:29
procoil/-2025-02-15 16:44:29
projectR/-2025-02-15 16:44:29
plasmut/-2025-02-15 16:44:28
plgem/-2025-02-15 16:44:28
plyranges/-2025-02-15 16:44:28
pmm/-2025-02-15 16:44:28
planet/-2025-02-15 16:44:28
planttfhunter/-2025-02-15 16:44:28
pipeComp/-2025-02-15 16:44:28
Pirat/-2025-02-15 16:44:28
PLSDAbatch/-2025-02-15 16:44:28
plier/-2025-02-15 16:44:28
plotgardener/-2025-02-15 16:44:28
plotGrouper/-2025-02-15 16:44:28
pmp/-2025-02-15 16:44:28
PICS/-2025-02-15 16:44:28
Pigengene/-2025-02-15 16:44:28
pickgene/-2025-02-15 16:44:28
PLPE/-2025-02-15 16:44:28
PIUMA/-2025-02-15 16:44:28
PICB/-2025-02-15 16:44:28
pipeFrame/-2025-02-15 16:44:28
PIPETS/-2025-02-15 16:44:28
PoDCall/-2025-02-15 16:44:28
plyxp/-2025-02-15 16:44:28
plyinteractions/-2025-02-15 16:44:28
PING/-2025-02-15 16:44:28
piano/-2025-02-15 16:44:28
peco/-2025-02-15 16:44:27
phantasusLite/-2025-02-15 16:44:27
pgca/-2025-02-15 16:44:27
Pedixplorer/-2025-02-15 16:44:27
phosphonormalizer/-2025-02-15 16:44:27
pepStat/-2025-02-15 16:44:27
PhenStat/-2025-02-15 16:44:27
periodicDNA/-2025-02-15 16:44:27
PepsNMR/-2025-02-15 16:44:27
philr/-2025-02-15 16:44:27
pfamAnalyzeR/-2025-02-15 16:44:27
PECA/-2025-02-15 16:44:27
phenomis/-2025-02-15 16:44:27
phenopath/-2025-02-15 16:44:27
phantasus/-2025-02-15 16:44:27
PhyloProfile/-2025-02-15 16:44:27
phenoTest/-2025-02-15 16:44:27
pgxRpi/-2025-02-15 16:44:27
PhIPData/-2025-02-15 16:44:27
PepSetTest/-2025-02-15 16:44:27
pengls/-2025-02-15 16:44:27
phyloseq/-2025-02-15 16:44:27
PhenoGeneRanker/-2025-02-15 16:44:27
PharmacoGx/-2025-02-15 16:44:27
pepXMLTab/-2025-02-15 16:44:27
PhosR/-2025-02-15 16:44:27
peakPantheR/-2025-02-15 16:44:27
pathwayPCA/-2025-02-15 16:44:26
partCNV/-2025-02-15 16:44:26
pcaMethods/-2025-02-15 16:44:26
PAST/-2025-02-15 16:44:26
parglms/-2025-02-15 16:44:26
paxtoolsr/-2025-02-15 16:44:26
PANR/-2025-02-15 16:44:26
PathNet/-2025-02-15 16:44:26
PDATK/-2025-02-15 16:44:26
panelcn.mops/-2025-02-15 16:44:26
pathlinkR/-2025-02-15 16:44:26
pathview/-2025-02-15 16:44:26
pathifier/-2025-02-15 16:44:26
pairkat/-2025-02-15 16:44:26
pcaExplorer/-2025-02-15 16:44:26
PCAN/-2025-02-15 16:44:26
pareg/-2025-02-15 16:44:26
PathoStat/-2025-02-15 16:44:26
pdInfoBuilder/-2025-02-15 16:44:26
pathRender/-2025-02-15 16:44:26
pandaR/-2025-02-15 16:44:26
panp/-2025-02-15 16:44:26
PeacoQC/-2025-02-15 16:44:26
PCAtools/-2025-02-15 16:44:26
PanViz/-2025-02-15 16:44:26
Path2PPI/-2025-02-15 16:44:26
parody/-2025-02-15 16:44:26
PanomiR/-2025-02-15 16:44:26
PAIRADISE/-2025-02-15 16:44:25
OUTRIDER/-2025-02-15 16:44:25
OutSplice/-2025-02-15 16:44:25
ORFik/-2025-02-15 16:44:25
oppar/-2025-02-15 16:44:25
paircompviz/-2025-02-15 16:44:25
OPWeight/-2025-02-15 16:44:25
ORFhunteR/-2025-02-15 16:44:25
oppti/-2025-02-15 16:44:25
packFinder/-2025-02-15 16:44:25
OrderedList/-2025-02-15 16:44:25
padma/-2025-02-15 16:44:25
orthos/-2025-02-15 16:44:25
OTUbase/-2025-02-15 16:44:25
pairedGSEA/-2025-02-15 16:44:25
oposSOM/-2025-02-15 16:44:25
optimalFlow/-2025-02-15 16:44:25
OpenStats/-2025-02-15 16:44:25
OrganismDbi/-2025-02-15 16:44:25
PADOG/-2025-02-15 16:44:25
Oscope/-2025-02-15 16:44:25
OSAT/-2025-02-15 16:44:25
Organism.dplyr/-2025-02-15 16:44:25
pageRank/-2025-02-15 16:44:25
orthogene/-2025-02-15 16:44:25
OVESEG/-2025-02-15 16:44:25
PAA/-2025-02-15 16:44:25
ompBAM/-2025-02-15 16:44:24
OncoScore/-2025-02-15 16:44:24
oncomix/-2025-02-15 16:44:24
ontoProc/-2025-02-15 16:44:24
Omixer/-2025-02-15 16:44:24
omXplore/-2025-02-15 16:44:24
oligo/-2025-02-15 16:44:24
omicplotR/-2025-02-15 16:44:24
OLINgui/-2025-02-15 16:44:24
oligoClasses/-2025-02-15 16:44:24
oncoscanR/-2025-02-15 16:44:24
OmicCircos/-2025-02-15 16:44:24
OmaDB/-2025-02-15 16:44:24
OmicsMLRepoR/-2025-02-15 16:44:24
openCyto/-2025-02-15 16:44:24
OMICsPCA/-2025-02-15 16:44:24
OLIN/-2025-02-15 16:44:24
omicsViewer/-2025-02-15 16:44:24
onlineFDR/-2025-02-15 16:44:24
omada/-2025-02-15 16:44:24
omicsPrint/-2025-02-15 16:44:24
omicRexposome/-2025-02-15 16:44:24
openPrimeR/-2025-02-15 16:44:24
OmnipathR/-2025-02-15 16:44:24
OGRE/-2025-02-15 16:44:24
omicade4/-2025-02-15 16:44:24
netSmooth/-2025-02-15 16:44:23
nondetects/-2025-02-15 16:44:23
nnNorm/-2025-02-15 16:44:23
npGSEA/-2025-02-15 16:44:23
nucleR/-2025-02-15 16:44:23
NormqPCR/-2025-02-15 16:44:23
normr/-2025-02-15 16:44:23
nuCpos/-2025-02-15 16:44:23
NoRCE/-2025-02-15 16:44:23
NPARC/-2025-02-15 16:44:23
octad/-2025-02-15 16:44:23
normalize450K/-2025-02-15 16:44:23
NeuCA/-2025-02-15 16:44:23
netZooR/-2025-02-15 16:44:23
NuPoP/-2025-02-15 16:44:23
NewWave/-2025-02-15 16:44:23
ngsReports/-2025-02-15 16:44:23
NTW/-2025-02-15 16:44:23
occugene/-2025-02-15 16:44:23
nipalsMCIA/-2025-02-15 16:44:23
NormalyzerDE/-2025-02-15 16:44:23
odseq/-2025-02-15 16:44:23
nullranges/-2025-02-15 16:44:23
nnSVG/-2025-02-15 16:44:23
OCplus/-2025-02-15 16:44:23
nucleoSim/-2025-02-15 16:44:23
NOISeq/-2025-02-15 16:44:23
mzR/-2025-02-15 16:44:22
NetSAM/-2025-02-15 16:44:22
ncRNAtools/-2025-02-15 16:44:22
NanoTube/-2025-02-15 16:44:22
Nebulosa/-2025-02-15 16:44:22
ndexr/-2025-02-15 16:44:22
nethet/-2025-02-15 16:44:22
NanoMethViz/-2025-02-15 16:44:22
netboost/-2025-02-15 16:44:22
netDx/-2025-02-15 16:44:22
mzID/-2025-02-15 16:44:22
NanoStringNCTools/-2025-02-15 16:44:22
mygene/-2025-02-15 16:44:22
NBAMSeq/-2025-02-15 16:44:22
netprioR/-2025-02-15 16:44:22
nempi/-2025-02-15 16:44:22
myvariant/-2025-02-15 16:44:22
ncGTW/-2025-02-15 16:44:22
nearBynding/-2025-02-15 16:44:22
ncdfFlow/-2025-02-15 16:44:22
NetActivity/-2025-02-15 16:44:22
NetPathMiner/-2025-02-15 16:44:22
netresponse/-2025-02-15 16:44:22
MWASTools/-2025-02-15 16:44:22
NanoStringDiff/-2025-02-15 16:44:22
NADfinder/-2025-02-15 16:44:22
MultiRNAflow/-2025-02-15 16:44:21
MVCClass/-2025-02-15 16:44:21
MultiDataSet/-2025-02-15 16:44:21
multistateQTL/-2025-02-15 16:44:21
multtest/-2025-02-15 16:44:21
MultiMed/-2025-02-15 16:44:21
multiMiR/-2025-02-15 16:44:21
multiGSEA/-2025-02-15 16:44:21
multiClust/-2025-02-15 16:44:21
MSstatsQCgui/-2025-02-15 16:44:21
MultimodalExperiment/-2025-02-15 16:44:21
MultiAssayExperiment/-2025-02-15 16:44:21
Mulcom/-2025-02-15 16:44:21
multiscan/-2025-02-15 16:44:21
MultiBaC/-2025-02-15 16:44:21
muscat/-2025-02-15 16:44:21
multicrispr/-2025-02-15 16:44:21
MSstatsQC/-2025-02-15 16:44:21
multiWGCNA/-2025-02-15 16:44:21
MutationalPatterns/-2025-02-15 16:44:21
MSstatsShiny/-2025-02-15 16:44:21
MuData/-2025-02-15 16:44:21
musicatk/-2025-02-15 16:44:21
muscle/-2025-02-15 16:44:21
MSstatsTMT/-2025-02-15 16:44:21
multiHiCcompare/-2025-02-15 16:44:21
MungeSumstats/-2025-02-15 16:44:21
mumosa/-2025-02-15 16:44:21
MsBackendRawFileReader/-2025-02-15 16:44:20
MSstatsLOBD/-2025-02-15 16:44:20
MsExperiment/-2025-02-15 16:44:20
mslp/-2025-02-15 16:44:20
MsCoreUtils/-2025-02-15 16:44:20
msgbsR/-2025-02-15 16:44:20
MSPrep/-2025-02-15 16:44:20
msqrob2/-2025-02-15 16:44:20
MSstatsConvert/-2025-02-15 16:44:20
MSnbase/-2025-02-15 16:44:20
MSstatsPTM/-2025-02-15 16:44:20
MSnID/-2025-02-15 16:44:20
MSstatsLiP/-2025-02-15 16:44:20
MsDataHub/-2025-02-15 16:44:20
msPurity/-2025-02-15 16:44:20
MsBackendSql/-2025-02-15 16:44:20
msImpute/-2025-02-15 16:44:20
msmsTests/-2025-02-15 16:44:20
MSstats/-2025-02-15 16:44:20
MsBackendMsp/-2025-02-15 16:44:20
mspms/-2025-02-15 16:44:20
MSstatsBig/-2025-02-15 16:44:20
MsQuality/-2025-02-15 16:44:20
MsBackendMgf/-2025-02-15 16:44:20
msmsEDA/-2025-02-15 16:44:20
MsFeatures/-2025-02-15 16:44:20
mosbi/-2025-02-15 16:44:19
motifStack/-2025-02-15 16:44:19
MoonlightR/-2025-02-15 16:44:19
motifmatchr/-2025-02-15 16:44:19
mosdef/-2025-02-15 16:44:19
motifTestR/-2025-02-15 16:44:19
MPFE/-2025-02-15 16:44:19
Moonlight2R/-2025-02-15 16:44:19
MsBackendMassbank/-2025-02-15 16:44:19
MPRAnalyze/-2025-02-15 16:44:19
MotifPeeker/-2025-02-15 16:44:19
msa/-2025-02-15 16:44:19
MsBackendMetaboLights/-2025-02-15 16:44:19
MOSClip/-2025-02-15 16:44:19
monaLisa/-2025-02-15 16:44:19
mpra/-2025-02-15 16:44:19
MouseFM/-2025-02-15 16:44:19
monocle/-2025-02-15 16:44:19
MotifDb/-2025-02-15 16:44:19
motifbreakR/-2025-02-15 16:44:19
MOMA/-2025-02-15 16:44:19
motifcounter/-2025-02-15 16:44:19
Motif2Site/-2025-02-15 16:44:19
MPAC/-2025-02-15 16:44:19
MOSim/-2025-02-15 16:44:19
MSA2dist/-2025-02-15 16:44:19
mosaics/-2025-02-15 16:44:19
mixOmics/-2025-02-15 16:44:18
Modstrings/-2025-02-15 16:44:18
mitch/-2025-02-15 16:44:18
MMDiff2/-2025-02-15 16:44:18
mirTarRnaSeq/-2025-02-15 16:44:18
missRows/-2025-02-15 16:44:18
MoleculeExperiment/-2025-02-15 16:44:18
ModCon/-2025-02-15 16:44:18
MOFA2/-2025-02-15 16:44:18
moanin/-2025-02-15 16:44:18
mnem/-2025-02-15 16:44:18
miRNApath/-2025-02-15 16:44:18
MOGAMUN/-2025-02-15 16:44:18
MODA/-2025-02-15 16:44:18
mitoClone2/-2025-02-15 16:44:18
miRNAtap/-2025-02-15 16:44:18
MMUPHin/-2025-02-15 16:44:18
MLInterfaces/-2025-02-15 16:44:18
mist/-2025-02-15 16:44:18
mogsa/-2025-02-15 16:44:18
mistyR/-2025-02-15 16:44:18
MLP/-2025-02-15 16:44:18
miRspongeR/-2025-02-15 16:44:18
missMethyl/-2025-02-15 16:44:18
MLSeq/-2025-02-15 16:44:18
miRSM/-2025-02-15 16:44:18
mobileRNA/-2025-02-15 16:44:18
microRNA/-2025-02-15 16:44:17
MiPP/-2025-02-15 16:44:17
MicrobiotaProcess/-2025-02-15 16:44:17
MICSQTL/-2025-02-15 16:44:17
miRcomp/-2025-02-15 16:44:17
microSTASIS/-2025-02-15 16:44:17
midasHLA/-2025-02-15 16:44:17
minet/-2025-02-15 16:44:17
microbiomeExplorer/-2025-02-15 16:44:17
MIRA/-2025-02-15 16:44:17
miRBaseConverter/-2025-02-15 16:44:17
microbiomeDASim/-2025-02-15 16:44:17
mirIntegrator/-2025-02-15 16:44:17
MinimumDistance/-2025-02-15 16:44:17
miRLAB/-2025-02-15 16:44:17
MiChip/-2025-02-15 16:44:17
MineICA/-2025-02-15 16:44:17
mina/-2025-02-15 16:44:17
miaViz/-2025-02-15 16:44:17
mimager/-2025-02-15 16:44:17
MIRit/-2025-02-15 16:44:17
MiRaGE/-2025-02-15 16:44:17
miRNAmeConverter/-2025-02-15 16:44:17
MicrobiomeProfiler/-2025-02-15 16:44:17
microbiome/-2025-02-15 16:44:17
miQC/-2025-02-15 16:44:17
miloR/-2025-02-15 16:44:17
minfi/-2025-02-15 16:44:17
methrix/-2025-02-15 16:44:16
mia/-2025-02-15 16:44:16
methylGSA/-2025-02-15 16:44:16
methylKit/-2025-02-15 16:44:16
methylPipe/-2025-02-15 16:44:16
miaSim/-2025-02-15 16:44:16
mfa/-2025-02-15 16:44:16
MethylMix/-2025-02-15 16:44:16
MethylSeekR/-2025-02-15 16:44:16
methylMnM/-2025-02-15 16:44:16
MethylAid/-2025-02-15 16:44:16
methylInheritance/-2025-02-15 16:44:16
MGFR/-2025-02-15 16:44:16
MGnifyR/-2025-02-15 16:44:16
MethTargetedNGS/-2025-02-15 16:44:16
methyLImp2/-2025-02-15 16:44:16
MetNet/-2025-02-15 16:44:16
MetMashR/-2025-02-15 16:44:16
methylumi/-2025-02-15 16:44:16
methylSig/-2025-02-15 16:44:16
methylclock/-2025-02-15 16:44:16
Mfuzz/-2025-02-15 16:44:16
MetID/-2025-02-15 16:44:16
methylCC/-2025-02-15 16:44:16
methylscaper/-2025-02-15 16:44:16
MGFM/-2025-02-15 16:44:16
MethReg/-2025-02-15 16:44:16
mgsa/-2025-02-15 16:44:16
metahdep/-2025-02-15 16:44:15
metapod/-2025-02-15 16:44:15
metaCCA/-2025-02-15 16:44:15
metabolomicsWorkbenchR/-2025-02-15 16:44:15
MetCirc/-2025-02-15 16:44:15
MetaCyto/-2025-02-15 16:44:15
MetaNeighbor/-2025-02-15 16:44:15
metagenomeSeq/-2025-02-15 16:44:15
methimpute/-2025-02-15 16:44:15
metaMS/-2025-02-15 16:44:15
MetaboDynamics/-2025-02-15 16:44:15
MetaboAnnotation/-2025-02-15 16:44:15
methInheritSim/-2025-02-15 16:44:15
messina/-2025-02-15 16:44:15
metaSeq/-2025-02-15 16:44:15
metabomxtr/-2025-02-15 16:44:15
MetaPhOR/-2025-02-15 16:44:15
metabinR/-2025-02-15 16:44:15
meshr/-2025-02-15 16:44:15
MetaboSignal/-2025-02-15 16:44:15
MethPed/-2025-02-15 16:44:15
metapone/-2025-02-15 16:44:15
MesKit/-2025-02-15 16:44:15
metabCombiner/-2025-02-15 16:44:15
MetaboCoreUtils/-2025-02-15 16:44:15
metaseqR2/-2025-02-15 16:44:15
metagene2/-2025-02-15 16:44:15
methodical/-2025-02-15 16:44:15
MEDIPS/-2025-02-15 16:44:14
MEB/-2025-02-15 16:44:14
MBttest/-2025-02-15 16:44:14
MDTS/-2025-02-15 16:44:14
MBECS/-2025-02-15 16:44:14
MEAL/-2025-02-15 16:44:14
MatrixRider/-2025-02-15 16:44:14
MBCB/-2025-02-15 16:44:14
mCSEA/-2025-02-15 16:44:14
MBQN/-2025-02-15 16:44:14
MatrixQCvis/-2025-02-15 16:44:14
mBPCR/-2025-02-15 16:44:14
mdp/-2025-02-15 16:44:14
MBASED/-2025-02-15 16:44:14
mbkmeans/-2025-02-15 16:44:14
MCbiclust/-2025-02-15 16:44:14
Mergeomics/-2025-02-15 16:44:14
MeasurementError.cor/-2025-02-15 16:44:14
memes/-2025-02-15 16:44:14
matter/-2025-02-15 16:44:14
MEAT/-2025-02-15 16:44:14
MeSHDbi/-2025-02-15 16:44:14
megadepth/-2025-02-15 16:44:14
MBAmethyl/-2025-02-15 16:44:14
MEDME/-2025-02-15 16:44:14
Melissa/-2025-02-15 16:44:14
MEIGOR/-2025-02-15 16:44:14
meshes/-2025-02-15 16:44:14
mdqc/-2025-02-15 16:44:14
mbQTL/-2025-02-15 16:44:14
MassArray/-2025-02-15 16:44:13
makecdfenv/-2025-02-15 16:44:13
maPredictDSC/-2025-02-15 16:44:13
marr/-2025-02-15 16:44:13
marray/-2025-02-15 16:44:13
MAPFX/-2025-02-15 16:44:13
MAIT/-2025-02-15 16:44:13
MANOR/-2025-02-15 16:44:13
MassSpecWavelet/-2025-02-15 16:44:13
maser/-2025-02-15 16:44:13
MADSEQ/-2025-02-15 16:44:13
MAGAR/-2025-02-15 16:44:13
massiR/-2025-02-15 16:44:13
MantelCorr/-2025-02-15 16:44:13
maftools/-2025-02-15 16:44:13
MAI/-2025-02-15 16:44:13
mapscape/-2025-02-15 16:44:13
MatrixGenerics/-2025-02-15 16:44:13
martini/-2025-02-15 16:44:13
maskBAD/-2025-02-15 16:44:13
magpie/-2025-02-15 16:44:13
magrene/-2025-02-15 16:44:13
matchBox/-2025-02-15 16:44:13
maSigPro/-2025-02-15 16:44:13
MAST/-2025-02-15 16:44:13
mastR/-2025-02-15 16:44:13
mariner/-2025-02-15 16:44:13
made4/-2025-02-15 16:44:13
MAGeCKFlute/-2025-02-15 16:44:13
m6Aboost/-2025-02-15 16:44:12
M3Drop/-2025-02-15 16:44:12
lute/-2025-02-15 16:44:12
LymphoSeq/-2025-02-15 16:44:12
lisaClust/-2025-02-15 16:44:12
M3C/-2025-02-15 16:44:12
maCorrPlot/-2025-02-15 16:44:12
LOBSTAHS/-2025-02-15 16:44:12
logicFS/-2025-02-15 16:44:12
LRcell/-2025-02-15 16:44:12
lpsymphony/-2025-02-15 16:44:12
LRBaseDbi/-2025-02-15 16:44:12
lpNet/-2025-02-15 16:44:12
LOLA/-2025-02-15 16:44:12
lmdme/-2025-02-15 16:44:12
maaslin3/-2025-02-15 16:44:12
MACSQuantifyR/-2025-02-15 16:44:12
LinTInd/-2025-02-15 16:44:12
LPE/-2025-02-15 16:44:12
LoomExperiment/-2025-02-15 16:44:12
lipidr/-2025-02-15 16:44:12
Macarron/-2025-02-15 16:44:12
Maaslin2/-2025-02-15 16:44:12
LiquidAssociation/-2025-02-15 16:44:12
lumi/-2025-02-15 16:44:12
MACSr/-2025-02-15 16:44:12
lionessR/-2025-02-15 16:44:12
loci2path/-2025-02-15 16:44:12
lfa/-2025-02-15 16:44:11
knowYourCG/-2025-02-15 16:44:11
LACE/-2025-02-15 16:44:11
LedPred/-2025-02-15 16:44:11
ldblock/-2025-02-15 16:44:11
keggorthology/-2025-02-15 16:44:11
LBE/-2025-02-15 16:44:11
KEGGREST/-2025-02-15 16:44:11
limmaGUI/-2025-02-15 16:44:11
KEGGlincs/-2025-02-15 16:44:11
kissDE/-2025-02-15 16:44:11
LinkHD/-2025-02-15 16:44:11
lemur/-2025-02-15 16:44:11
LEA/-2025-02-15 16:44:11
les/-2025-02-15 16:44:11
limpca/-2025-02-15 16:44:11
KnowSeq/-2025-02-15 16:44:11
KinSwingR/-2025-02-15 16:44:11
Linnorm/-2025-02-15 16:44:11
KEGGgraph/-2025-02-15 16:44:11
koinar/-2025-02-15 16:44:11
lineagespot/-2025-02-15 16:44:11
kmcut/-2025-02-15 16:44:11
LimROTS/-2025-02-15 16:44:11
lapmix/-2025-02-15 16:44:11
lefser/-2025-02-15 16:44:11
levi/-2025-02-15 16:44:11
limma/-2025-02-15 16:44:11
kebabs/-2025-02-15 16:44:10
iSEE/-2025-02-15 16:44:10
IsoCorrectoR/-2025-02-15 16:44:10
IsoformSwitchAnalyzeR/-2025-02-15 16:44:10
ivygapSE/-2025-02-15 16:44:10
iSEEtree/-2025-02-15 16:44:10
KBoost/-2025-02-15 16:44:10
iterativeBMAsurv/-2025-02-15 16:44:10
iSEEu/-2025-02-15 16:44:10
iSEEpathways/-2025-02-15 16:44:10
ISoLDE/-2025-02-15 16:44:10
iSEEde/-2025-02-15 16:44:10
IVAS/-2025-02-15 16:44:10
iSEEhex/-2025-02-15 16:44:10
ISLET/-2025-02-15 16:44:10
IsoCorrectoRGUI/-2025-02-15 16:44:10
iSeq/-2025-02-15 16:44:10
isomiRs/-2025-02-15 16:44:10
isobar/-2025-02-15 16:44:10
KCsmart/-2025-02-15 16:44:10
IWTomics/-2025-02-15 16:44:10
iSEEhub/-2025-02-15 16:44:10
katdetectr/-2025-02-15 16:44:10
iSEEindex/-2025-02-15 16:44:10
iterativeBMA/-2025-02-15 16:44:10
ITALICS/-2025-02-15 16:44:10
IsoBayes/-2025-02-15 16:44:10
iSEEfier/-2025-02-15 16:44:10
karyoploteR/-2025-02-15 16:44:10
iPAC/-2025-02-15 16:44:09
infinityFlow/-2025-02-15 16:44:09
intansv/-2025-02-15 16:44:09
InteractiveComplexHeatmap/-2025-02-15 16:44:09
ISAnalytics/-2025-02-15 16:44:09
IRanges/-2025-02-15 16:44:09
iNETgrate/-2025-02-15 16:44:09
INTACT/-2025-02-15 16:44:09
interacCircos/-2025-02-15 16:44:09
interactiveDisplayBase/-2025-02-15 16:44:09
INPower/-2025-02-15 16:44:09
INSPEcT/-2025-02-15 16:44:09
IPO/-2025-02-15 16:44:09
IntEREst/-2025-02-15 16:44:09
InPAS/-2025-02-15 16:44:09
impute/-2025-02-15 16:44:09
Informeasure/-2025-02-15 16:44:09
IMPCdata/-2025-02-15 16:44:09
infercnv/-2025-02-15 16:44:09
interactiveDisplay/-2025-02-15 16:44:09
InterCellar/-2025-02-15 16:44:09
InTAD/-2025-02-15 16:44:09
INDEED/-2025-02-15 16:44:09
IntramiRExploreR/-2025-02-15 16:44:09
iPath/-2025-02-15 16:44:09
ipdDb/-2025-02-15 16:44:09
InteractionSet/-2025-02-15 16:44:09
IONiseR/-2025-02-15 16:44:09
idiogram/-2025-02-15 16:44:08
iClusterPlus/-2025-02-15 16:44:08
idpr/-2025-02-15 16:44:08
iCNV/-2025-02-15 16:44:08
igvShiny/-2025-02-15 16:44:08
IFAA/-2025-02-15 16:44:08
iCOBRA/-2025-02-15 16:44:08
immunoClust/-2025-02-15 16:44:08
immunogenViewer/-2025-02-15 16:44:08
ideal/-2025-02-15 16:44:08
Icens/-2025-02-15 16:44:08
icetea/-2025-02-15 16:44:08
imcRtools/-2025-02-15 16:44:08
IgGeneUsage/-2025-02-15 16:44:08
idr2d/-2025-02-15 16:44:08
IMAS/-2025-02-15 16:44:08
illuminaio/-2025-02-15 16:44:08
iCheck/-2025-02-15 16:44:08
ILoReg/-2025-02-15 16:44:08
iChip/-2025-02-15 16:44:08
IHW/-2025-02-15 16:44:08
IdeoViz/-2025-02-15 16:44:08
iGC/-2025-02-15 16:44:08
immApex/-2025-02-15 16:44:08
immunotation/-2025-02-15 16:44:08
igvR/-2025-02-15 16:44:08
IMMAN/-2025-02-15 16:44:08
hypergraph/-2025-02-15 16:44:07
HPAanalyze/-2025-02-15 16:44:07
hummingbird/-2025-02-15 16:44:07
HiLDA/-2025-02-15 16:44:07
HTSFilter/-2025-02-15 16:44:07
HIREewas/-2025-02-15 16:44:07
iBBiG/-2025-02-15 16:44:07
ibh/-2025-02-15 16:44:07
hpar/-2025-02-15 16:44:07
hyperdraw/-2025-02-15 16:44:07
iASeq/-2025-02-15 16:44:07
iasva/-2025-02-15 16:44:07
HoloFoodR/-2025-02-15 16:44:07
HybridExpress/-2025-02-15 16:44:07
HIPPO/-2025-02-15 16:44:07
iCARE/-2025-02-15 16:44:07
HybridMTest/-2025-02-15 16:44:07
hoodscanR/-2025-02-15 16:44:07
HiTC/-2025-02-15 16:44:07
HMMcopy/-2025-02-15 16:44:07
hmdbQuery/-2025-02-15 16:44:07
HubPub/-2025-02-15 16:44:07
hopach/-2025-02-15 16:44:07
hipathia/-2025-02-15 16:44:07
hiReadsProcessor/-2025-02-15 16:44:07
HPiP/-2025-02-15 16:44:07
HuBMAPR/-2025-02-15 16:44:07
hypeR/-2025-02-15 16:44:07
HiCBricks/-2025-02-15 16:44:06
HEM/-2025-02-15 16:44:06
Harshlight/-2025-02-15 16:44:06
Herper/-2025-02-15 16:44:06
HilbertCurve/-2025-02-15 16:44:06
HelloRanges/-2025-02-15 16:44:06
hierinf/-2025-02-15 16:44:06
HELP/-2025-02-15 16:44:06
HERON/-2025-02-15 16:44:06
HDTD/-2025-02-15 16:44:06
HIBAG/-2025-02-15 16:44:06
HiCDCPlus/-2025-02-15 16:44:06
hermes/-2025-02-15 16:44:06
hierGWAS/-2025-02-15 16:44:06
hca/-2025-02-15 16:44:06
HicAggR/-2025-02-15 16:44:06
hicVennDiagram/-2025-02-15 16:44:06
HilbertVis/-2025-02-15 16:44:06
HarmonizR/-2025-02-15 16:44:06
HiCDOC/-2025-02-15 16:44:06
hiAnnotator/-2025-02-15 16:44:06
HDF5Array/-2025-02-15 16:44:06
HiCcompare/-2025-02-15 16:44:06
Heatplus/-2025-02-15 16:44:06
hdxmsqc/-2025-02-15 16:44:06
HiContacts/-2025-02-15 16:44:06
HGC/-2025-02-15 16:44:06
HiCool/-2025-02-15 16:44:06
HiCExperiment/-2025-02-15 16:44:06
heatmaps/-2025-02-15 16:44:06
Gviz/-2025-02-15 16:44:05
gscreend/-2025-02-15 16:44:05
GSEABenchmarkeR/-2025-02-15 16:44:05
GSReg/-2025-02-15 16:44:05
GSEAlm/-2025-02-15 16:44:05
h5vc/-2025-02-15 16:44:05
GSCA/-2025-02-15 16:44:05
GWASTools/-2025-02-15 16:44:05
gwasurvivr/-2025-02-15 16:44:05
GSEAmining/-2025-02-15 16:44:05
GWAS.BAYES/-2025-02-15 16:44:05
GSALightning/-2025-02-15 16:44:05
GUIDEseq/-2025-02-15 16:44:05
h5mread/-2025-02-15 16:44:05
GRmetrics/-2025-02-15 16:44:05
GSVA/-2025-02-15 16:44:05
Harman/-2025-02-15 16:44:05
gsean/-2025-02-15 16:44:05
gwascat/-2025-02-15 16:44:05
hapFabia/-2025-02-15 16:44:05
Guitar/-2025-02-15 16:44:05
GSAR/-2025-02-15 16:44:05
GSEABase/-2025-02-15 16:44:05
GSRI/-2025-02-15 16:44:05
gtrellis/-2025-02-15 16:44:05
groHMM/-2025-02-15 16:44:05
GWENA/-2025-02-15 16:44:05
gypsum/-2025-02-15 16:44:05
GSgalgoR/-2025-02-15 16:44:05
gmoviz/-2025-02-15 16:44:04
GOTHiC/-2025-02-15 16:44:04
GrafGen/-2025-02-15 16:44:04
GNOSIS/-2025-02-15 16:44:04
granulator/-2025-02-15 16:44:04
GOSemSim/-2025-02-15 16:44:04
goseq/-2025-02-15 16:44:04
GOpro/-2025-02-15 16:44:04
GNET2/-2025-02-15 16:44:04
GOstats/-2025-02-15 16:44:04
graphite/-2025-02-15 16:44:04
goProfiles/-2025-02-15 16:44:04
goSTAG/-2025-02-15 16:44:04
GraphPAC/-2025-02-15 16:44:04
GRaNIE/-2025-02-15 16:44:04
GRENITS/-2025-02-15 16:44:04
GMRP/-2025-02-15 16:44:04
graph/-2025-02-15 16:44:04
GreyListChIP/-2025-02-15 16:44:04
GraphAT/-2025-02-15 16:44:04
gpls/-2025-02-15 16:44:04
goSorensen/-2025-02-15 16:44:04
gpuMagic/-2025-02-15 16:44:04
graper/-2025-02-15 16:44:04
GOfuncR/-2025-02-15 16:44:04
GPA/-2025-02-15 16:44:04
GOexpress/-2025-02-15 16:44:04
GraphAlignment/-2025-02-15 16:44:04
goTools/-2025-02-15 16:44:04
ggkegg/-2025-02-15 16:44:03
ggmanh/-2025-02-15 16:44:03
GloScope/-2025-02-15 16:44:03
GlobalAncova/-2025-02-15 16:44:03
ginmappeR/-2025-02-15 16:44:03
GLAD/-2025-02-15 16:44:03
Glimma/-2025-02-15 16:44:03
globalSeq/-2025-02-15 16:44:03
ggspavis/-2025-02-15 16:44:03
ggbio/-2025-02-15 16:44:03
GIGSEA/-2025-02-15 16:44:03
ggcyto/-2025-02-15 16:44:03
glmGamPoi/-2025-02-15 16:44:03
glmSparseNet/-2025-02-15 16:44:03
ggtreeExtra/-2025-02-15 16:44:03
ggtreeSpace/-2025-02-15 16:44:03
GmicR/-2025-02-15 16:44:03
ggmsa/-2025-02-15 16:44:03
GladiaTOX/-2025-02-15 16:44:03
gmapR/-2025-02-15 16:44:03
GGPA/-2025-02-15 16:44:03
ggtree/-2025-02-15 16:44:03
ggseqalign/-2025-02-15 16:44:03
ggsc/-2025-02-15 16:44:03
gINTomics/-2025-02-15 16:44:03
ggtreeDendro/-2025-02-15 16:44:03
girafe/-2025-02-15 16:44:03
globaltest/-2025-02-15 16:44:03
GenomicRanges/-2025-02-15 16:44:02
GenomicFeatures/-2025-02-15 16:44:02
GenomicDistributions/-2025-02-15 16:44:02
GenomicPlot/-2025-02-15 16:44:02
GenomicInteractionNodes/-2025-02-15 16:44:02
GEWIST/-2025-02-15 16:44:02
genomicInstability/-2025-02-15 16:44:02
GenProSeq/-2025-02-15 16:44:02
GEOexplorer/-2025-02-15 16:44:02
gep2pep/-2025-02-15 16:44:02
GenomicTuples/-2025-02-15 16:44:02
getDEE2/-2025-02-15 16:44:02
GenomicFiles/-2025-02-15 16:44:02
GEOmetadb/-2025-02-15 16:44:02
gg4way/-2025-02-15 16:44:02
geyser/-2025-02-15 16:44:02
GEOquery/-2025-02-15 16:44:02
GeoTcgaData/-2025-02-15 16:44:02
GenomicSuperSignature/-2025-02-15 16:44:02
GenomicInteractions/-2025-02-15 16:44:02
GeoDiff/-2025-02-15 16:44:02
geva/-2025-02-15 16:44:02
GEOsubmission/-2025-02-15 16:44:02
GenomicScores/-2025-02-15 16:44:02
GeomxTools/-2025-02-15 16:44:02
GenVisR/-2025-02-15 16:44:02
GenomicOZone/-2025-02-15 16:44:02
GEOfastq/-2025-02-15 16:44:02
geomeTriD/-2025-02-15 16:44:02
gespeR/-2025-02-15 16:44:02
GenomAutomorphism/-2025-02-15 16:44:01
GENIE3/-2025-02-15 16:44:01
genefu/-2025-02-15 16:44:01
geneRecommender/-2025-02-15 16:44:01
genefilter/-2025-02-15 16:44:01
geneXtendeR/-2025-02-15 16:44:01
GeneRegionScan/-2025-02-15 16:44:01
geneplotter/-2025-02-15 16:44:01
GeneTonic/-2025-02-15 16:44:01
GENESIS/-2025-02-15 16:44:01
GeneSelectMMD/-2025-02-15 16:44:01
GeneGA/-2025-02-15 16:44:01
GeneMeta/-2025-02-15 16:44:01
GeneOverlap/-2025-02-15 16:44:01
geneplast/-2025-02-15 16:44:01
geneRxCluster/-2025-02-15 16:44:01
GenomicAlignments/-2025-02-15 16:44:01
GenomeInfoDb/-2025-02-15 16:44:01
genomeIntervals/-2025-02-15 16:44:01
genomation/-2025-02-15 16:44:01
GeneGeneInteR/-2025-02-15 16:44:01
geneClassifiers/-2025-02-15 16:44:01
genomes/-2025-02-15 16:44:01
geNetClassifier/-2025-02-15 16:44:01
GeneticsPed/-2025-02-15 16:44:01
GeneNetworkBuilder/-2025-02-15 16:44:01
GenomicDataCommons/-2025-02-15 16:44:01
genoCN/-2025-02-15 16:44:01
GeneExpressionSignature/-2025-02-15 16:44:01
GeneStructureTools/-2025-02-15 16:44:01
gatom/-2025-02-15 16:44:00
gDRstyle/-2025-02-15 16:44:00
genArise/-2025-02-15 16:44:00
gDR/-2025-02-15 16:44:00
GDCRNATools/-2025-02-15 16:44:00
gage/-2025-02-15 16:44:00
gaga/-2025-02-15 16:44:00
gemini/-2025-02-15 16:44:00
GAprediction/-2025-02-15 16:44:00
geneAttribution/-2025-02-15 16:44:00
gcapc/-2025-02-15 16:44:00
GeDi/-2025-02-15 16:44:00
GDSArray/-2025-02-15 16:44:00
GARS/-2025-02-15 16:44:00
gDRimport/-2025-02-15 16:44:00
gDRutils/-2025-02-15 16:44:00
gDNAx/-2025-02-15 16:44:00
garfield/-2025-02-15 16:44:00
gdsfmt/-2025-02-15 16:44:00
gcrma/-2025-02-15 16:44:00
GeneBreak/-2025-02-15 16:44:00
gDRcore/-2025-02-15 16:44:00
gcatest/-2025-02-15 16:44:00
GBScleanR/-2025-02-15 16:44:00
gemma.R/-2025-02-15 16:44:00
GEM/-2025-02-15 16:44:00
GateFinder/-2025-02-15 16:44:00
gCrisprTools/-2025-02-15 16:44:00
flowMatch/-2025-02-15 16:43:59
flowMerge/-2025-02-15 16:43:59
fmcsR/-2025-02-15 16:43:59
GA4GHshiny/-2025-02-15 16:43:59
flowMeans/-2025-02-15 16:43:59
funtooNorm/-2025-02-15 16:43:59
flowPloidy/-2025-02-15 16:43:59
flowStats/-2025-02-15 16:43:59
flowGraph/-2025-02-15 16:43:59
flowViz/-2025-02-15 16:43:59
funOmics/-2025-02-15 16:43:59
frma/-2025-02-15 16:43:59
GA4GHclient/-2025-02-15 16:43:59
flowWorkspace/-2025-02-15 16:43:59
frmaTools/-2025-02-15 16:43:59
FRASER/-2025-02-15 16:43:59
FRGEpistasis/-2025-02-15 16:43:59
FlowSOM/-2025-02-15 16:43:59
flowTrans/-2025-02-15 16:43:59
G4SNVHunter/-2025-02-15 16:43:59
flowTime/-2025-02-15 16:43:59
fobitools/-2025-02-15 16:43:59
flowVS/-2025-02-15 16:43:59
flowSpecs/-2025-02-15 16:43:59
FuseSOM/-2025-02-15 16:43:59
flowPlots/-2025-02-15 16:43:59
frenchFISH/-2025-02-15 16:43:59
flowPeaks/-2025-02-15 16:43:59
fmrs/-2025-02-15 16:43:59
flowCyBar/-2025-02-15 16:43:58
FeatSeekR/-2025-02-15 16:43:58
fedup/-2025-02-15 16:43:58
FEAST/-2025-02-15 16:43:58
flagme/-2025-02-15 16:43:58
FELLA/-2025-02-15 16:43:58
flowCore/-2025-02-15 16:43:58
FGNet/-2025-02-15 16:43:58
findIPs/-2025-02-15 16:43:58
flowCHIC/-2025-02-15 16:43:58
flowClean/-2025-02-15 16:43:58
FitHiC/-2025-02-15 16:43:58
FISHalyseR/-2025-02-15 16:43:58
flowBin/-2025-02-15 16:43:58
flowClust/-2025-02-15 16:43:58
FilterFFPE/-2025-02-15 16:43:58
flowcatchR/-2025-02-15 16:43:58
ffpe/-2025-02-15 16:43:58
fdrame/-2025-02-15 16:43:58
fgsea/-2025-02-15 16:43:58
FLAMES/-2025-02-15 16:43:58
fishpond/-2025-02-15 16:43:58
flowAI/-2025-02-15 16:43:58
flowFP/-2025-02-15 16:43:58
flowBeads/-2025-02-15 16:43:58
flowGate/-2025-02-15 16:43:58
fgga/-2025-02-15 16:43:58
fenr/-2025-02-15 16:43:58
flowDensity/-2025-02-15 16:43:58
FindIT2/-2025-02-15 16:43:58
flowCut/-2025-02-15 16:43:58
fcScan/-2025-02-15 16:43:57
ExperimentHub/-2025-02-15 16:43:57
FamAgg/-2025-02-15 16:43:57
ExploreModelMatrix/-2025-02-15 16:43:57
faers/-2025-02-15 16:43:57
ExperimentSubset/-2025-02-15 16:43:57
fCCAC/-2025-02-15 16:43:57
escheR/-2025-02-15 16:43:57
fastLiquidAssociation/-2025-02-15 16:43:57
esetVis/-2025-02-15 16:43:57
escape/-2025-02-15 16:43:57
extraChIPs/-2025-02-15 16:43:57
fastseg/-2025-02-15 16:43:57
FastqCleaner/-2025-02-15 16:43:57
ExCluster/-2025-02-15 16:43:57
EventPointer/-2025-02-15 16:43:57
EWCE/-2025-02-15 16:43:57
famat/-2025-02-15 16:43:57
ExperimentHubData/-2025-02-15 16:43:57
esATAC/-2025-02-15 16:43:57
factR/-2025-02-15 16:43:57
ERSSA/-2025-02-15 16:43:57
fCI/-2025-02-15 16:43:57
ExpressionAtlas/-2025-02-15 16:43:57
factDesign/-2025-02-15 16:43:57
ExiMiR/-2025-02-15 16:43:57
evaluomeR/-2025-02-15 16:43:57
fastreeR/-2025-02-15 16:43:57
fabia/-2025-02-15 16:43:57
eudysbiome/-2025-02-15 16:43:57
epistack/-2025-02-15 16:43:56
epistasisGA/-2025-02-15 16:43:56
epigraHMM/-2025-02-15 16:43:56
ENmix/-2025-02-15 16:43:56
erccdashboard/-2025-02-15 16:43:56
enrichplot/-2025-02-15 16:43:56
epidecodeR/-2025-02-15 16:43:56
EnrichDO/-2025-02-15 16:43:56
epialleleR/-2025-02-15 16:43:56
EnrichmentBrowser/-2025-02-15 16:43:56
epivizrChart/-2025-02-15 16:43:56
epivizr/-2025-02-15 16:43:56
epiNEM/-2025-02-15 16:43:56
erma/-2025-02-15 16:43:56
enrichViewNet/-2025-02-15 16:43:56
epivizrServer/-2025-02-15 16:43:56
epivizrData/-2025-02-15 16:43:56
EpiMix/-2025-02-15 16:43:56
EpipwR/-2025-02-15 16:43:56
epiregulon.extra/-2025-02-15 16:43:56
EpiCompare/-2025-02-15 16:43:56
epimutacions/-2025-02-15 16:43:56
EpiTxDb/-2025-02-15 16:43:56
epigenomix/-2025-02-15 16:43:56
epiregulon/-2025-02-15 16:43:56
EpiDISH/-2025-02-15 16:43:56
EnMCB/-2025-02-15 16:43:56
ensembldb/-2025-02-15 16:43:56
epivizrStandalone/-2025-02-15 16:43:56
EnrichedHeatmap/-2025-02-15 16:43:56
easylift/-2025-02-15 16:43:55
EBSeq/-2025-02-15 16:43:55
EBcoexpress/-2025-02-15 16:43:55
EDASeq/-2025-02-15 16:43:55
EGAD/-2025-02-15 16:43:55
easyRNASeq/-2025-02-15 16:43:55
ecolitk/-2025-02-15 16:43:55
EMDomics/-2025-02-15 16:43:55
ELMER/-2025-02-15 16:43:55
EBImage/-2025-02-15 16:43:55
EnhancedVolcano/-2025-02-15 16:43:55
eds/-2025-02-15 16:43:55
dupRadar/-2025-02-15 16:43:55
EBarrays/-2025-02-15 16:43:55
dyebias/-2025-02-15 16:43:55
enhancerHomologSearch/-2025-02-15 16:43:55
easier/-2025-02-15 16:43:55
EasyCellType/-2025-02-15 16:43:55
EGSEA/-2025-02-15 16:43:55
easyreporting/-2025-02-15 16:43:55
eiR/-2025-02-15 16:43:55
DynDoc/-2025-02-15 16:43:55
edgeR/-2025-02-15 16:43:55
DuplexDiscovereR/-2025-02-15 16:43:55
EBSEA/-2025-02-15 16:43:55
edge/-2025-02-15 16:43:55
eisaR/-2025-02-15 16:43:55
Dune/-2025-02-15 16:43:55
EDIRquery/-2025-02-15 16:43:55
EmpiricalBrownsMethod/-2025-02-15 16:43:55
DOSE/-2025-02-15 16:43:54
doseR/-2025-02-15 16:43:54
DMRScan/-2025-02-15 16:43:54
dominoSignal/-2025-02-15 16:43:54
DMCFB/-2025-02-15 16:43:54
drawProteins/-2025-02-15 16:43:54
DTA/-2025-02-15 16:43:54
dks/-2025-02-15 16:43:54
DNABarcodes/-2025-02-15 16:43:54
dreamlet/-2025-02-15 16:43:54
dStruct/-2025-02-15 16:43:54
doppelgangR/-2025-02-15 16:43:54
DNAfusion/-2025-02-15 16:43:54
DNAcopy/-2025-02-15 16:43:54
DominoEffect/-2025-02-15 16:43:54
drugTargetInteractions/-2025-02-15 16:43:54
DNAshapeR/-2025-02-15 16:43:54
DriverNet/-2025-02-15 16:43:54
DMRcate/-2025-02-15 16:43:54
DropletUtils/-2025-02-15 16:43:54
divergence/-2025-02-15 16:43:54
DrugVsDisease/-2025-02-15 16:43:54
DRIMSeq/-2025-02-15 16:43:54
DMRcaller/-2025-02-15 16:43:54
DMCHMM/-2025-02-15 16:43:54
doubletrouble/-2025-02-15 16:43:54
DNABarcodeCompatibility/-2025-02-15 16:43:54
DSS/-2025-02-15 16:43:54
Doscheda/-2025-02-15 16:43:54
dmrseq/-2025-02-15 16:43:54
dittoSeq/-2025-02-15 16:43:54
diffcoexp/-2025-02-15 16:43:53
diffHic/-2025-02-15 16:43:53
destiny/-2025-02-15 16:43:53
DifferentialRegulation/-2025-02-15 16:43:53
DEWSeq/-2025-02-15 16:43:53
diggit/-2025-02-15 16:43:53
DiffBind/-2025-02-15 16:43:53
diffuStats/-2025-02-15 16:43:53
DFP/-2025-02-15 16:43:53
DEsingle/-2025-02-15 16:43:53
DiscoRhythm/-2025-02-15 16:43:53
DirichletMultinomial/-2025-02-15 16:43:53
diffcyt/-2025-02-15 16:43:53
DEScan2/-2025-02-15 16:43:53
discordant/-2025-02-15 16:43:53
dinoR/-2025-02-15 16:43:53
DEsubs/-2025-02-15 16:43:53
Dino/-2025-02-15 16:43:53
diffUTR/-2025-02-15 16:43:53
DEXSeq/-2025-02-15 16:43:53
DESpace/-2025-02-15 16:43:53
DFplyr/-2025-02-15 16:43:53
dir.expiry/-2025-02-15 16:43:53
DESeq2/-2025-02-15 16:43:53
DiffLogo/-2025-02-15 16:43:53
DExMA/-2025-02-15 16:43:53
derfinderPlot/-2025-02-15 16:43:53
Director/-2025-02-15 16:43:53
diffGeneAnalysis/-2025-02-15 16:43:53
DIAlignR/-2025-02-15 16:43:53
distinct/-2025-02-15 16:43:53
DeMAND/-2025-02-15 16:43:52
DelayedDataFrame/-2025-02-15 16:43:52
deltaCaptureC/-2025-02-15 16:43:52
DEqMS/-2025-02-15 16:43:52
deepSNV/-2025-02-15 16:43:52
DelayedRandomArray/-2025-02-15 16:43:52
DeMixT/-2025-02-15 16:43:52
DELocal/-2025-02-15 16:43:52
DepecheR/-2025-02-15 16:43:52
demuxmix/-2025-02-15 16:43:52
densvis/-2025-02-15 16:43:52
DepInfeR/-2025-02-15 16:43:52
DEFormats/-2025-02-15 16:43:52
demuxSNP/-2025-02-15 16:43:52
DeepPINCS/-2025-02-15 16:43:52
derfinder/-2025-02-15 16:43:52
DelayedMatrixStats/-2025-02-15 16:43:52
DEGseq/-2025-02-15 16:43:52
DeProViR/-2025-02-15 16:43:52
derfinderHelper/-2025-02-15 16:43:52
DegNorm/-2025-02-15 16:43:52
DelayedArray/-2025-02-15 16:43:52
DelayedTensor/-2025-02-15 16:43:52
DeepTarget/-2025-02-15 16:43:52
DEGreport/-2025-02-15 16:43:52
DegCre/-2025-02-15 16:43:52
decoupleR/-2025-02-15 16:43:52
DEP/-2025-02-15 16:43:52
deconvR/-2025-02-15 16:43:52
deltaGseg/-2025-02-15 16:43:52
DAPAR/-2025-02-15 16:43:51
debrowser/-2025-02-15 16:43:51
DAMEfinder/-2025-02-15 16:43:51
DECIPHER/-2025-02-15 16:43:51
dcanr/-2025-02-15 16:43:51
DaMiRseq/-2025-02-15 16:43:51
dagLogo/-2025-02-15 16:43:51
Damsel/-2025-02-15 16:43:51
CytoML/-2025-02-15 16:43:51
decontX/-2025-02-15 16:43:51
decompTumor2Sig/-2025-02-15 16:43:51
dar/-2025-02-15 16:43:51
DeconRNASeq/-2025-02-15 16:43:51
daMA/-2025-02-15 16:43:51
DART/-2025-02-15 16:43:51
CytoMDS/-2025-02-15 16:43:51
cytoMEM/-2025-02-15 16:43:51
dce/-2025-02-15 16:43:51
dearseq/-2025-02-15 16:43:51
debCAM/-2025-02-15 16:43:51
ddCt/-2025-02-15 16:43:51
dada2/-2025-02-15 16:43:51
dcGSA/-2025-02-15 16:43:51
ddPCRclust/-2025-02-15 16:43:51
decontam/-2025-02-15 16:43:51
CytoPipelineGUI/-2025-02-15 16:43:51
CytoPipeline/-2025-02-15 16:43:51
cytoviewer/-2025-02-15 16:43:51
DCATS/-2025-02-15 16:43:51
cytomapper/-2025-02-15 16:43:51
cypress/-2025-02-15 16:43:50
cytofQC/-2025-02-15 16:43:50
csaw/-2025-02-15 16:43:50
crisprVerse/-2025-02-15 16:43:50
CSSQ/-2025-02-15 16:43:50
cytolib/-2025-02-15 16:43:50
ctsGE/-2025-02-15 16:43:50
cycle/-2025-02-15 16:43:50
cyanoFilter/-2025-02-15 16:43:50
CTdata/-2025-02-15 16:43:50
CytoGLMM/-2025-02-15 16:43:50
cytoKernel/-2025-02-15 16:43:50
cydar/-2025-02-15 16:43:50
cTRAP/-2025-02-15 16:43:50
crossmeta/-2025-02-15 16:43:50
customCMPdb/-2025-02-15 16:43:50
cummeRbund/-2025-02-15 16:43:50
crisprViz/-2025-02-15 16:43:50
CyTOFpower/-2025-02-15 16:43:50
CTSV/-2025-02-15 16:43:50
CTexploreR/-2025-02-15 16:43:50
CTDquerier/-2025-02-15 16:43:50
crlmm/-2025-02-15 16:43:50
ctc/-2025-02-15 16:43:50
csdR/-2025-02-15 16:43:50
CuratedAtlasQueryR/-2025-02-15 16:43:50
CrispRVariants/-2025-02-15 16:43:50
customProDB/-2025-02-15 16:43:50
CSAR/-2025-02-15 16:43:50
CytoDx/-2025-02-15 16:43:50
cqn/-2025-02-15 16:43:49
crisprBase/-2025-02-15 16:43:49
cosmiq/-2025-02-15 16:43:49
coRdon/-2025-02-15 16:43:49
convert/-2025-02-15 16:43:49
Cormotif/-2025-02-15 16:43:49
CoSIA/-2025-02-15 16:43:49
corral/-2025-02-15 16:43:49
CRISPRball/-2025-02-15 16:43:49
crisprDesign/-2025-02-15 16:43:49
COSNet/-2025-02-15 16:43:49
crisprShiny/-2025-02-15 16:43:49
CONSTANd/-2025-02-15 16:43:49
crisprBowtie/-2025-02-15 16:43:49
CopyNumberPlots/-2025-02-15 16:43:49
COTAN/-2025-02-15 16:43:49
conumee/-2025-02-15 16:43:49
cpvSNP/-2025-02-15 16:43:49
CRISPRseek/-2025-02-15 16:43:49
coseq/-2025-02-15 16:43:49
countsimQC/-2025-02-15 16:43:49
CoreGx/-2025-02-15 16:43:49
covRNA/-2025-02-15 16:43:49
cosmosR/-2025-02-15 16:43:49
crisprScore/-2025-02-15 16:43:49
copa/-2025-02-15 16:43:49
crisprBwa/-2025-02-15 16:43:49
CoverageView/-2025-02-15 16:43:49
covEB/-2025-02-15 16:43:49
CRImage/-2025-02-15 16:43:49
cogena/-2025-02-15 16:43:48
coMethDMR/-2025-02-15 16:43:48
ComPrAn/-2025-02-15 16:43:48
compcodeR/-2025-02-15 16:43:48
combi/-2025-02-15 16:43:48
cola/-2025-02-15 16:43:48
comapr/-2025-02-15 16:43:48
CODEX/-2025-02-15 16:43:48
consensusSeekeR/-2025-02-15 16:43:48
coGPS/-2025-02-15 16:43:48
CoCiteStats/-2025-02-15 16:43:48
consensusOV/-2025-02-15 16:43:48
compEpiTools/-2025-02-15 16:43:48
CNVrd2/-2025-02-15 16:43:48
COCOA/-2025-02-15 16:43:48
codelink/-2025-02-15 16:43:48
CompoundDb/-2025-02-15 16:43:48
consICA/-2025-02-15 16:43:48
condiments/-2025-02-15 16:43:48
CoGAPS/-2025-02-15 16:43:48
compSPOT/-2025-02-15 16:43:48
ComplexHeatmap/-2025-02-15 16:43:48
ConsensusClusterPlus/-2025-02-15 16:43:48
consensusDE/-2025-02-15 16:43:48
consensus/-2025-02-15 16:43:48
CONFESS/-2025-02-15 16:43:48
coMET/-2025-02-15 16:43:48
Cogito/-2025-02-15 16:43:48
COMPASS/-2025-02-15 16:43:48
concordexR/-2025-02-15 16:43:48
cogeqc/-2025-02-15 16:43:48
ClusterFoldSimilarity/-2025-02-15 16:43:47
clusterSeq/-2025-02-15 16:43:47
CNTools/-2025-02-15 16:43:47
CNORdt/-2025-02-15 16:43:47
Clomial/-2025-02-15 16:43:47
cmapR/-2025-02-15 16:43:47
CNAnorm/-2025-02-15 16:43:47
cn.mops/-2025-02-15 16:43:47
CNVPanelizer/-2025-02-15 16:43:47
cnvGSA/-2025-02-15 16:43:47
CluMSID/-2025-02-15 16:43:47
clusterExperiment/-2025-02-15 16:43:47
CNViz/-2025-02-15 16:43:47
ClustAll/-2025-02-15 16:43:47
clusterProfiler/-2025-02-15 16:43:47
CNVfilteR/-2025-02-15 16:43:47
cn.farms/-2025-02-15 16:43:47
CNVMetrics/-2025-02-15 16:43:47
CNVRanger/-2025-02-15 16:43:47
CNEr/-2025-02-15 16:43:47
ClusterJudge/-2025-02-15 16:43:47
CMA/-2025-02-15 16:43:47
CNORfeeder/-2025-02-15 16:43:47
ClusterSignificance/-2025-02-15 16:43:47
CNORode/-2025-02-15 16:43:47
clst/-2025-02-15 16:43:47
clstutils/-2025-02-15 16:43:47
CNORfuzzy/-2025-02-15 16:43:47
clustifyr/-2025-02-15 16:43:47
clustComp/-2025-02-15 16:43:47
clusterStab/-2025-02-15 16:43:47
ClustIRR/-2025-02-15 16:43:47
cisPath/-2025-02-15 16:43:46
ClassifyR/-2025-02-15 16:43:46
CircSeqAlignTk/-2025-02-15 16:43:46
clippda/-2025-02-15 16:43:46
cleanUpdTSeq/-2025-02-15 16:43:46
cleaver/-2025-02-15 16:43:46
chromDraw/-2025-02-15 16:43:46
CHRONOS/-2025-02-15 16:43:46
ChromSCape/-2025-02-15 16:43:46
chipseq/-2025-02-15 16:43:46
clipper/-2025-02-15 16:43:46
chromVAR/-2025-02-15 16:43:46
chromstaR/-2025-02-15 16:43:46
chromPlot/-2025-02-15 16:43:46
CleanUpRNAseq/-2025-02-15 16:43:46
ChIPXpress/-2025-02-15 16:43:46
circRNAprofiler/-2025-02-15 16:43:46
CIMICE/-2025-02-15 16:43:46
ChIPsim/-2025-02-15 16:43:46
cliProfiler/-2025-02-15 16:43:46
cicero/-2025-02-15 16:43:46
CINdex/-2025-02-15 16:43:46
ChIPseeker/-2025-02-15 16:43:46
ChIPseqR/-2025-02-15 16:43:46
chopsticks/-2025-02-15 16:43:46
ChIPpeakAnno/-2025-02-15 16:43:46
cliqueMS/-2025-02-15 16:43:46
ChIPQC/-2025-02-15 16:43:46
clevRvis/-2025-02-15 16:43:46
ChromHeatMap/-2025-02-15 16:43:46
CiteFuse/-2025-02-15 16:43:46
CeTF/-2025-02-15 16:43:45
CGHnormaliter/-2025-02-15 16:43:45
cfdnakit/-2025-02-15 16:43:45
ChIPexoQual/-2025-02-15 16:43:45
cfDNAPro/-2025-02-15 16:43:45
CGHregions/-2025-02-15 16:43:45
chipenrich/-2025-02-15 16:43:45
CFAssay/-2025-02-15 16:43:45
cfTools/-2025-02-15 16:43:45
Cepo/-2025-02-15 16:43:45
ChemmineR/-2025-02-15 16:43:45
ceRNAnetsim/-2025-02-15 16:43:45
chevreulProcess/-2025-02-15 16:43:45
CEMiTool/-2025-02-15 16:43:45
chevreulShiny/-2025-02-15 16:43:45
Chicago/-2025-02-15 16:43:45
CexoR/-2025-02-15 16:43:45
CGHcall/-2025-02-15 16:43:45
ChIPanalyser/-2025-02-15 16:43:45
ChAMP/-2025-02-15 16:43:45
cellxgenedp/-2025-02-15 16:43:45
cghMCR/-2025-02-15 16:43:45
chimeraviz/-2025-02-15 16:43:45
CGEN/-2025-02-15 16:43:45
chihaya/-2025-02-15 16:43:45
CHETAH/-2025-02-15 16:43:45
CGHbase/-2025-02-15 16:43:45
censcyt/-2025-02-15 16:43:45
chevreulPlot/-2025-02-15 16:43:45
ChIPComp/-2025-02-15 16:43:45
CellTrails/-2025-02-15 16:43:45
ChemmineOB/-2025-02-15 16:43:45
CDI/-2025-02-15 16:43:44
CBNplot/-2025-02-15 16:43:44
cbaf/-2025-02-15 16:43:44
cellscape/-2025-02-15 16:43:44
cellity/-2025-02-15 16:43:44
CellNOptR/-2025-02-15 16:43:44
CCPROMISE/-2025-02-15 16:43:44
celda/-2025-02-15 16:43:44
cellbaseR/-2025-02-15 16:43:44
CATALYST/-2025-02-15 16:43:44
CellBench/-2025-02-15 16:43:44
ccmap/-2025-02-15 16:43:44
CARNIVAL/-2025-02-15 16:43:44
cBioPortalData/-2025-02-15 16:43:44
celaref/-2025-02-15 16:43:44
cbpManager/-2025-02-15 16:43:44
CellMapper/-2025-02-15 16:43:44
CatsCradle/-2025-02-15 16:43:44
cellmigRation/-2025-02-15 16:43:44
Category/-2025-02-15 16:43:44
CellBarcode/-2025-02-15 16:43:44
categoryCompare/-2025-02-15 16:43:44
CellScore/-2025-02-15 16:43:44
ccImpute/-2025-02-15 16:43:44
ccrepe/-2025-02-15 16:43:44
ccfindR/-2025-02-15 16:43:44
CausalR/-2025-02-15 16:43:44
CBEA/-2025-02-15 16:43:44
CelliD/-2025-02-15 16:43:44
CellMixS/-2025-02-15 16:43:44
casper/-2025-02-15 16:43:44
CCPlotR/-2025-02-15 16:43:44
BUScorrect/-2025-02-15 16:43:43
CAFE/-2025-02-15 16:43:43
BulkSignalR/-2025-02-15 16:43:43
CaDrA/-2025-02-15 16:43:43
BUSseq/-2025-02-15 16:43:43
BUS/-2025-02-15 16:43:43
bsseq/-2025-02-15 16:43:43
CAEN/-2025-02-15 16:43:43
BumpyMatrix/-2025-02-15 16:43:43
CAGEr/-2025-02-15 16:43:43
canceR/-2025-02-15 16:43:43
BUSpaRse/-2025-02-15 16:43:43
CAMERA/-2025-02-15 16:43:43
BufferedMatrixMethods/-2025-02-15 16:43:43
calm/-2025-02-15 16:43:43
BUMHMM/-2025-02-15 16:43:43
CAGEfightR/-2025-02-15 16:43:43
BSgenomeForge/-2025-02-15 16:43:43
CardinalIO/-2025-02-15 16:43:43
CaMutQC/-2025-02-15 16:43:43
cageminer/-2025-02-15 16:43:43
BubbleTree/-2025-02-15 16:43:43
bumphunter/-2025-02-15 16:43:43
BrowserViz/-2025-02-15 16:43:43
BSgenome/-2025-02-15 16:43:43
cancerclass/-2025-02-15 16:43:43
Cardinal/-2025-02-15 16:43:43
bugsigdbr/-2025-02-15 16:43:43
cardelino/-2025-02-15 16:43:43
BufferedMatrix/-2025-02-15 16:43:43
broadSeq/-2025-02-15 16:43:43
BridgeDbR/-2025-02-15 16:43:42
BioMVCClass/-2025-02-15 16:43:42
blacksheepr/-2025-02-15 16:43:42
breakpointR/-2025-02-15 16:43:42
BLMA/-2025-02-15 16:43:42
biosigner/-2025-02-15 16:43:42
BRAIN/-2025-02-15 16:43:42
BioNet/-2025-02-15 16:43:42
BREW3R.r/-2025-02-15 16:43:42
BioNERO/-2025-02-15 16:43:42
BiSeq/-2025-02-15 16:43:42
biotmle/-2025-02-15 16:43:42
branchpointer/-2025-02-15 16:43:42
blima/-2025-02-15 16:43:42
biscuiteer/-2025-02-15 16:43:42
biovizBase/-2025-02-15 16:43:42
BOBaFIT/-2025-02-15 16:43:42
biomformat/-2025-02-15 16:43:42
BPRMeth/-2025-02-15 16:43:42
BiRewire/-2025-02-15 16:43:42
bnbc/-2025-02-15 16:43:42
biomaRt/-2025-02-15 16:43:42
biomvRCNS/-2025-02-15 16:43:42
Biostrings/-2025-02-15 16:43:42
bluster/-2025-02-15 16:43:42
BioNAR/-2025-02-15 16:43:42
bnem/-2025-02-15 16:43:42
BloodGen3Module/-2025-02-15 16:43:42
borealis/-2025-02-15 16:43:42
BioTIP/-2025-02-15 16:43:42
BioQC/-2025-02-15 16:43:42
brendaDb/-2025-02-15 16:43:42
biodbChebi/-2025-02-15 16:43:41
BiocIO/-2025-02-15 16:43:41
BiocGenerics/-2025-02-15 16:43:41
biodbUniprot/-2025-02-15 16:43:41
biocroxytest/-2025-02-15 16:43:41
biocmake/-2025-02-15 16:43:41
biodbHmdb/-2025-02-15 16:43:41
BiocHubsShiny/-2025-02-15 16:43:41
BiocWorkflowTools/-2025-02-15 16:43:41
BioGA/-2025-02-15 16:43:41
BiocVersion/-2025-02-15 16:43:41
biodbNcbi/-2025-02-15 16:43:41
BiocPkgTools/-2025-02-15 16:43:41
BiocSet/-2025-02-15 16:43:41
BiocSklearn/-2025-02-15 16:43:41
BiocFileCache/-2025-02-15 16:43:41
BiocFHIR/-2025-02-15 16:43:41
biodb/-2025-02-15 16:43:41
biocthis/-2025-02-15 16:43:41
BiocCheck/-2025-02-15 16:43:41
BiocNeighbors/-2025-02-15 16:43:41
biocGraph/-2025-02-15 16:43:41
BioCor/-2025-02-15 16:43:41
bioDist/-2025-02-15 16:43:41
BiocSingular/-2025-02-15 16:43:41
biocViews/-2025-02-15 16:43:41
biodbNci/-2025-02-15 16:43:41
BiocParallel/-2025-02-15 16:43:41
BiocStyle/-2025-02-15 16:43:41
bioassayR/-2025-02-15 16:43:40
beadarray/-2025-02-15 16:43:40
BEAT/-2025-02-15 16:43:40
BiocBaseUtils/-2025-02-15 16:43:40
BicARE/-2025-02-15 16:43:40
BiFET/-2025-02-15 16:43:40
bigmelon/-2025-02-15 16:43:40
beer/-2025-02-15 16:43:40
bcSeq/-2025-02-15 16:43:40
BgeeCall/-2025-02-15 16:43:40
biobroom/-2025-02-15 16:43:40
beachmat/-2025-02-15 16:43:40
benchdamic/-2025-02-15 16:43:40
Biobase/-2025-02-15 16:43:40
beachmat.hdf5/-2025-02-15 16:43:40
BioCartaImage/-2025-02-15 16:43:40
BCRANK/-2025-02-15 16:43:40
bgx/-2025-02-15 16:43:40
BG2/-2025-02-15 16:43:40
BiocBook/-2025-02-15 16:43:40
beachmat.tiledb/-2025-02-15 16:43:40
BeadDataPackR/-2025-02-15 16:43:40
bettr/-2025-02-15 16:43:40
betaHMM/-2025-02-15 16:43:40
BindingSiteFinder/-2025-02-15 16:43:40
BBCAnalyzer/-2025-02-15 16:43:40
BERT/-2025-02-15 16:43:40
bioCancer/-2025-02-15 16:43:40
BEclear/-2025-02-15 16:43:40
BgeeDB/-2025-02-15 16:43:40
BEARscc/-2025-02-15 16:43:40
awst/-2025-02-15 16:43:39
BaalChIP/-2025-02-15 16:43:39
basecallQC/-2025-02-15 16:43:39
attract/-2025-02-15 16:43:39
basilisk/-2025-02-15 16:43:39
batchelor/-2025-02-15 16:43:39
ballgown/-2025-02-15 16:43:39
bambu/-2025-02-15 16:43:39
autonomics/-2025-02-15 16:43:39
Basic4Cseq/-2025-02-15 16:43:39
bamsignals/-2025-02-15 16:43:39
bayNorm/-2025-02-15 16:43:39
atSNP/-2025-02-15 16:43:39
BayesSpace/-2025-02-15 16:43:39
BadRegionFinder/-2025-02-15 16:43:39
bandle/-2025-02-15 16:43:39
barcodetrackR/-2025-02-15 16:43:39
baySeq/-2025-02-15 16:43:39
BASiCStan/-2025-02-15 16:43:39
BASiCS/-2025-02-15 16:43:39
BatchQC/-2025-02-15 16:43:39
basilisk.utils/-2025-02-15 16:43:39
BANDITS/-2025-02-15 16:43:39
BaseSpaceR/-2025-02-15 16:43:39
AUCell/-2025-02-15 16:43:39
bacon/-2025-02-15 16:43:39
BAGS/-2025-02-15 16:43:39
BADER/-2025-02-15 16:43:39
BasicSTARRseq/-2025-02-15 16:43:39
AWFisher/-2025-02-15 16:43:39
BayesKnockdown/-2025-02-15 16:43:39
Banksy/-2025-02-15 16:43:39
banocc/-2025-02-15 16:43:39
ASpli/-2025-02-15 16:43:38
AnVIL/-2025-02-15 16:43:38
ATACseqTFEA/-2025-02-15 16:43:38
ATACseqQC/-2025-02-15 16:43:38
artMS/-2025-02-15 16:43:38
AnVILBilling/-2025-02-15 16:43:38
arrayMvout/-2025-02-15 16:43:38
ASURAT/-2025-02-15 16:43:38
apComplex/-2025-02-15 16:43:38
AnVILGCP/-2025-02-15 16:43:38
appreci8R/-2025-02-15 16:43:38
atena/-2025-02-15 16:43:38
ASICS/-2025-02-15 16:43:38
antiProfiles/-2025-02-15 16:43:38
APL/-2025-02-15 16:43:38
apeglm/-2025-02-15 16:43:38
ArrayExpress/-2025-02-15 16:43:38
ASEB/-2025-02-15 16:43:38
assorthead/-2025-02-15 16:43:38
AssessORF/-2025-02-15 16:43:38
ASAFE/-2025-02-15 16:43:38
AnVILWorkflow/-2025-02-15 16:43:38
AnVILAz/-2025-02-15 16:43:38
ASGSCA/-2025-02-15 16:43:38
APAlyzer/-2025-02-15 16:43:38
ASSIGN/-2025-02-15 16:43:38
aroma.light/-2025-02-15 16:43:38
ASSET/-2025-02-15 16:43:38
arrayQualityMetrics/-2025-02-15 16:43:38
AnVILBase/-2025-02-15 16:43:38
ARRmNormalization/-2025-02-15 16:43:38
AnVILPublish/-2025-02-15 16:43:38
arrayQuality/-2025-02-15 16:43:38
ANF/-2025-02-15 16:43:37
annotatr/-2025-02-15 16:43:37
AnnotationForge/-2025-02-15 16:43:37
AnnotationFilter/-2025-02-15 16:43:37
alabaster.string/-2025-02-15 16:43:37
altcdfenvs/-2025-02-15 16:43:37
alabaster.vcf/-2025-02-15 16:43:37
annotate/-2025-02-15 16:43:37
AnnotationHubData/-2025-02-15 16:43:37
anota/-2025-02-15 16:43:37
AllelicImbalance/-2025-02-15 16:43:37
anota2seq/-2025-02-15 16:43:37
alevinQC/-2025-02-15 16:43:37
AnnotationHub/-2025-02-15 16:43:37
annaffy/-2025-02-15 16:43:37
AlpsNMR/-2025-02-15 16:43:37
ANCOMBC/-2025-02-15 16:43:37
annotationTools/-2025-02-15 16:43:37
AMOUNTAIN/-2025-02-15 16:43:37
alabaster.se/-2025-02-15 16:43:37
AnnotationDbi/-2025-02-15 16:43:37
alabaster.spatial/-2025-02-15 16:43:37
AlphaMissenseR/-2025-02-15 16:43:37
AMARETTO/-2025-02-15 16:43:37
amplican/-2025-02-15 16:43:37
Anaquin/-2025-02-15 16:43:37
ALDEx2/-2025-02-15 16:43:37
annmap/-2025-02-15 16:43:37
AneuFinder/-2025-02-15 16:43:37
animalcules/-2025-02-15 16:43:37
AlphaBeta/-2025-02-15 16:43:37
airpart/-2025-02-15 16:43:36
ADImpute/-2025-02-15 16:43:36
AffiXcan/-2025-02-15 16:43:36
AGDEX/-2025-02-15 16:43:36
affyPLM/-2025-02-15 16:43:36
alabaster.files/-2025-02-15 16:43:36
affycomp/-2025-02-15 16:43:36
affyContam/-2025-02-15 16:43:36
alabaster.mae/-2025-02-15 16:43:36
AIMS/-2025-02-15 16:43:36
alabaster.schemas/-2025-02-15 16:43:36
affxparser/-2025-02-15 16:43:36
adductomicsR/-2025-02-15 16:43:36
affy/-2025-02-15 16:43:36
adverSCarial/-2025-02-15 16:43:36
ADAMgui/-2025-02-15 16:43:36
alabaster.ranges/-2025-02-15 16:43:36
alabaster.bumpy/-2025-02-15 16:43:36
alabaster.matrix/-2025-02-15 16:43:36
affyILM/-2025-02-15 16:43:36
adSplit/-2025-02-15 16:43:36
alabaster.sce/-2025-02-15 16:43:36
affylmGUI/-2025-02-15 16:43:36
AHMassBank/-2025-02-15 16:43:36
ADAPT/-2025-02-15 16:43:36
agilp/-2025-02-15 16:43:36
affyio/-2025-02-15 16:43:36
aggregateBioVar/-2025-02-15 16:43:36
alabaster/-2025-02-15 16:43:36
AffyRNADegradation/-2025-02-15 16:43:36
affycoretools/-2025-02-15 16:43:36
alabaster.base/-2025-02-15 16:43:36
AgiMicroRna/-2025-02-15 16:43:36
a4Reporting/-2025-02-15 16:43:35
a4Base/-2025-02-15 16:43:35
ABSSeq/-2025-02-15 16:43:35
ADAM/-2025-02-15 16:43:35
ADaCGH2/-2025-02-15 16:43:35
ABarray/-2025-02-15 16:43:35
a4/-2025-02-15 16:43:35
a4Classif/-2025-02-15 16:43:35
a4Preproc/-2025-02-15 16:43:35
ACME/-2025-02-15 16:43:35
a4Core/-2025-02-15 16:43:35
aCGH/-2025-02-15 16:43:35
ACE/-2025-02-15 16:43:35
abseqR/-2025-02-15 16:43:35
acde/-2025-02-15 16:43:35
OncoSimulR/-2025-02-15 16:43:03
biobtreeR/-2025-02-15 16:42:19
runibic/-2025-02-15 16:41:55
rsbml/-2025-02-15 16:41:54
RGMQL/-2025-02-15 16:41:51
R3CPET/-2025-02-15 16:41:47
iBMQ/-2025-02-15 16:41:23
BiGGR/-2025-02-15 16:40:54
Rcollectl/-2025-02-15 16:40:30
NCIgraph/-2025-02-15 16:40:21
HTSeqGenie/-2025-02-15 16:40:08
HilbertVisGUI/-2025-02-15 16:40:07
DEGraph/-2025-02-15 16:39:55
BiocHail/-2025-02-15 16:39:46
single/-2024-10-24 15:04:43
SummarizedBenchmark/-2024-10-24 15:04:43
Risa/-2024-10-24 15:04:43
RNAinteract/-2024-10-24 15:04:43
psygenet2r/-2024-10-24 15:04:42
polyester/-2024-10-24 15:04:42
RandomWalkRestartMH/-2024-10-24 15:04:42
rDGIdb/-2024-10-24 15:04:42
Pi/-2024-10-24 15:04:42
nanotatoR/-2024-10-24 15:04:41
MQmetrics/-2024-10-24 15:04:41
microbiomeMarker/-2024-10-24 15:04:41
netOmics/-2024-10-24 15:04:41
HTqPCR/-2024-10-24 15:04:40
brainflowprobes/-2024-10-24 15:04:38
BiocOncoTK/-2024-10-24 15:04:38
biodbKegg/-2024-10-24 15:04:38
biodbExpasy/-2024-10-24 15:04:38
CellaRepertorium/-2024-10-24 15:04:38
BRGenomics/-2024-10-24 15:04:38
ATACCoGAPS/-2024-10-24 15:04:37
report.tgz91.0 MiB2025-02-15 16:46:45
long-report.html14.0 MiB2025-02-15 16:45:26
index.html1.3 MiB2025-02-15 16:45:12
kjohnson3-index.html3.3 MiB2025-02-15 16:45:11
lconway-index.html3.3 MiB2025-02-15 16:45:06
palomino7-index.html3.3 MiB2025-02-15 16:45:01
nebbiolo1-index.html2.9 MiB2025-02-15 16:44:58
nebbiolo1-R-instpkgs.html517.3 KiB2025-02-15 16:38:22
120px-Green_Light_Icon.svg.png7.1 KiB2025-02-15 16:38:22
palomino7-R-instpkgs.html460.6 KiB2025-02-15 16:38:22
lconway-R-instpkgs.html602.1 KiB2025-02-15 16:38:22
120px-Red_Light_Icon.svg.png7.0 KiB2025-02-15 16:38:22
report.css11.0 KiB2025-02-15 16:38:22
kjohnson3-R-instpkgs.html591.5 KiB2025-02-15 16:38:22
Renviron.bioc3.3 KiB2025-02-15 16:38:22
nebbiolo1-NodeInfo.html6.9 KiB2025-02-15 16:38:22
120px-Blue_Light_Icon.svg.png7.1 KiB2025-02-15 16:38:22
DEVEL3b.png2.6 KiB2025-02-15 16:38:22
kjohnson3-NodeInfo.html6.7 KiB2025-02-15 16:38:22
lconway-NodeInfo.html6.8 KiB2025-02-15 16:38:22
report.js6.0 KiB2025-02-15 16:38:22
palomino7-NodeInfo.html7.0 KiB2025-02-15 16:38:22
skipped-index.dcf0 B2025-02-15 16:38:21
meat-index.dcf236.2 KiB2025-02-15 16:38:21
pkg_dep_graph.txt376.9 KiB2025-02-15 16:38:21
PROPAGATION_STATUS_DB.txt690.9 KiB2025-02-15 16:38:21
BUILD_STATUS_DB.txt1.0 MiB2025-02-15 16:38:21
kunpeng2-index.html2.0 MiB2025-01-30 18:13:52
kunpeng2-NodeInfo.html7.7 KiB2025-01-30 18:08:43
kunpeng2-R-instpkgs.html531.9 KiB2025-01-30 18:08:43