Welcome to mirrors.dotsrc.org

All our mirrors of open source software are available via http, https, ftp and an onion service. More information about our mirrors including statistics and contact information is available on our mirror info pages.

For information about dotsrc.org and our other services please go to our website.

Index of /bioconductor/checkResults/3.21/bioc-LATEST/

File Name  ↓ File Size  ↓ Date  ↓ 
Parent directory/--
ABSSeq/-2025-02-11 16:43:13
ABarray/-2025-02-11 16:43:13
ACE/-2025-02-11 16:43:13
ACME/-2025-02-11 16:43:13
ADAM/-2025-02-11 16:43:13
ADAMgui/-2025-02-11 16:43:13
ADAPT/-2025-02-11 16:43:13
ADImpute/-2025-02-11 16:43:13
ADaCGH2/-2025-02-11 16:43:13
AGDEX/-2025-02-11 16:43:14
AHMassBank/-2025-02-11 16:43:14
AIMS/-2025-02-11 16:43:14
ALDEx2/-2025-02-11 16:43:14
AMARETTO/-2025-02-11 16:43:14
AMOUNTAIN/-2025-02-11 16:43:15
ANCOMBC/-2025-02-11 16:43:15
ANF/-2025-02-11 16:43:15
APAlyzer/-2025-02-11 16:43:15
APL/-2025-02-11 16:43:15
ARRmNormalization/-2025-02-11 16:43:16
ASAFE/-2025-02-11 16:43:16
ASEB/-2025-02-11 16:43:16
ASGSCA/-2025-02-11 16:43:16
ASICS/-2025-02-11 16:43:16
ASSET/-2025-02-11 16:43:16
ASSIGN/-2025-02-11 16:43:16
ASURAT/-2025-02-11 16:43:16
ASpli/-2025-02-11 16:43:16
ATACCoGAPS/-2024-10-24 15:04:37
ATACseqQC/-2025-02-11 16:43:16
ATACseqTFEA/-2025-02-11 16:43:16
AUCell/-2025-02-11 16:43:16
AWFisher/-2025-02-11 16:43:16
AffiXcan/-2025-02-11 16:43:13
AffyRNADegradation/-2025-02-11 16:43:14
AgiMicroRna/-2025-02-11 16:43:14
AllelicImbalance/-2025-02-11 16:43:14
AlphaBeta/-2025-02-11 16:43:14
AlphaMissenseR/-2025-02-11 16:43:14
AlpsNMR/-2025-02-11 16:43:14
AnVIL/-2025-02-11 16:43:15
AnVILAz/-2025-02-11 16:43:15
AnVILBase/-2025-02-11 16:43:15
AnVILBilling/-2025-02-11 16:43:15
AnVILGCP/-2025-02-11 16:43:15
AnVILPublish/-2025-02-11 16:43:15
AnVILWorkflow/-2025-02-11 16:43:15
Anaquin/-2025-02-11 16:43:15
AneuFinder/-2025-02-11 16:43:15
AnnotationDbi/-2025-02-11 16:43:15
AnnotationFilter/-2025-02-11 16:43:15
AnnotationForge/-2025-02-11 16:43:15
AnnotationHub/-2025-02-11 16:43:15
AnnotationHubData/-2025-02-11 16:43:15
ArrayExpress/-2025-02-11 16:43:16
AssessORF/-2025-02-11 16:43:16
BADER/-2025-02-11 16:43:16
BAGS/-2025-02-11 16:43:16
BANDITS/-2025-02-11 16:43:17
BASiCS/-2025-02-11 16:43:17
BASiCStan/-2025-02-11 16:43:17
BBCAnalyzer/-2025-02-11 16:43:17
BCRANK/-2025-02-11 16:43:17
BEARscc/-2025-02-11 16:43:17
BEAT/-2025-02-11 16:43:17
BERT/-2025-02-11 16:43:18
BEclear/-2025-02-11 16:43:18
BG2/-2025-02-11 16:43:18
BLMA/-2025-02-11 16:43:20
BOBaFIT/-2025-02-11 16:43:20
BPRMeth/-2025-02-11 16:43:20
BRAIN/-2025-02-11 16:43:20
BREW3R.r/-2025-02-11 16:43:20
BRGenomics/-2024-10-24 15:04:38
BSgenome/-2025-02-11 16:43:20
BSgenomeForge/-2025-02-11 16:43:20
BUMHMM/-2025-02-11 16:43:21
BUS/-2025-02-11 16:43:21
BUScorrect/-2025-02-11 16:43:21
BUSpaRse/-2025-02-11 16:43:21
BUSseq/-2025-02-11 16:43:21
BaalChIP/-2025-02-11 16:43:16
BadRegionFinder/-2025-02-11 16:43:16
Banksy/-2025-02-11 16:43:17
BaseSpaceR/-2025-02-11 16:43:17
Basic4Cseq/-2025-02-11 16:43:17
BasicSTARRseq/-2025-02-11 16:43:17
BatchQC/-2025-02-11 16:43:17
BayesKnockdown/-2025-02-11 16:43:17
BayesSpace/-2025-02-11 16:43:17
BeadDataPackR/-2025-02-11 16:43:17
BgeeCall/-2025-02-11 16:43:18
BgeeDB/-2025-02-11 16:43:18
BiFET/-2025-02-11 16:43:18
BiGGR/-2025-02-11 16:40:26
BiRewire/-2025-02-11 16:43:20
BiSeq/-2025-02-11 16:43:20
BicARE/-2025-02-11 16:43:18
BindingSiteFinder/-2025-02-11 16:43:18
BioCartaImage/-2025-02-11 16:43:18
BioCor/-2025-02-11 16:43:18
BioGA/-2025-02-11 16:43:19
BioMVCClass/-2025-02-11 16:43:19
BioNAR/-2025-02-11 16:43:19
BioNERO/-2025-02-11 16:43:19
BioNet/-2025-02-11 16:43:19
BioQC/-2025-02-11 16:43:19
BioTIP/-2025-02-11 16:43:20
Biobase/-2025-02-11 16:43:18
BiocBaseUtils/-2025-02-11 16:43:18
BiocBook/-2025-02-11 16:43:18
BiocCheck/-2025-02-11 16:43:18
BiocFHIR/-2025-02-11 16:43:18
BiocFileCache/-2025-02-11 16:43:18
BiocGenerics/-2025-02-11 16:43:18
BiocHail/-2025-02-11 16:39:16
BiocHubsShiny/-2025-02-11 16:43:18
BiocIO/-2025-02-11 16:43:18
BiocNeighbors/-2025-02-11 16:43:18
BiocOncoTK/-2024-10-24 15:04:38
BiocParallel/-2025-02-11 16:43:19
BiocPkgTools/-2025-02-11 16:43:19
BiocSet/-2025-02-11 16:43:19
BiocSingular/-2025-02-11 16:43:19
BiocSklearn/-2025-02-11 16:43:19
BiocStyle/-2025-02-11 16:43:19
BiocVersion/-2025-02-11 16:43:19
BiocWorkflowTools/-2025-02-11 16:43:19
Biostrings/-2025-02-11 16:43:20
BloodGen3Module/-2025-02-11 16:43:20
BridgeDbR/-2025-02-11 16:43:20
BrowserViz/-2025-02-11 16:43:20
BubbleTree/-2025-02-11 16:43:20
BufferedMatrix/-2025-02-11 16:43:20
BufferedMatrixMethods/-2025-02-11 16:43:20
BulkSignalR/-2025-02-11 16:43:21
BumpyMatrix/-2025-02-11 16:43:21
CAEN/-2025-02-11 16:43:21
CAFE/-2025-02-11 16:43:21
CAGEfightR/-2025-02-11 16:43:21
CAGEr/-2025-02-11 16:43:21
CAMERA/-2025-02-11 16:43:21
CARNIVAL/-2025-02-11 16:43:21
CATALYST/-2025-02-11 16:43:21
CBEA/-2025-02-11 16:43:21
CBNplot/-2025-02-11 16:43:22
CCPROMISE/-2025-02-11 16:43:22
CCPlotR/-2025-02-11 16:43:22
CDI/-2025-02-11 16:43:22
CEMiTool/-2025-02-11 16:43:22
CFAssay/-2025-02-11 16:43:22
CGEN/-2025-02-11 16:43:23
CGHbase/-2025-02-11 16:43:23
CGHcall/-2025-02-11 16:43:23
CGHnormaliter/-2025-02-11 16:43:23
CGHregions/-2025-02-11 16:43:23
CHETAH/-2025-02-11 16:43:23
CHRONOS/-2025-02-11 16:43:24
CIMICE/-2025-02-11 16:43:24
CINdex/-2025-02-11 16:43:24
CMA/-2025-02-11 16:43:25
CNAnorm/-2025-02-11 16:43:25
CNEr/-2025-02-11 16:43:25
CNORdt/-2025-02-11 16:43:25
CNORfeeder/-2025-02-11 16:43:25
CNORfuzzy/-2025-02-11 16:43:25
CNORode/-2025-02-11 16:43:25
CNTools/-2025-02-11 16:43:25
CNVMetrics/-2025-02-11 16:43:25
CNVPanelizer/-2025-02-11 16:43:25
CNVRanger/-2025-02-11 16:43:25
CNVfilteR/-2025-02-11 16:43:25
CNViz/-2025-02-11 16:43:25
CNVrd2/-2025-02-11 16:43:25
COCOA/-2025-02-11 16:43:25
CODEX/-2025-02-11 16:43:25
COMPASS/-2025-02-11 16:43:26
CONFESS/-2025-02-11 16:43:26
CONSTANd/-2025-02-11 16:43:26
COSNet/-2025-02-11 16:43:27
COTAN/-2025-02-11 16:43:27
CRISPRball/-2025-02-11 16:43:27
CRISPRseek/-2025-02-11 16:43:27
CRImage/-2025-02-11 16:43:27
CSAR/-2025-02-11 16:43:27
CSSQ/-2025-02-11 16:43:28
CTDquerier/-2025-02-11 16:43:28
CTSV/-2025-02-11 16:43:28
CTdata/-2025-02-11 16:43:28
CTexploreR/-2025-02-11 16:43:28
CaDrA/-2025-02-11 16:43:21
CaMutQC/-2025-02-11 16:43:21
Cardinal/-2025-02-11 16:43:21
CardinalIO/-2025-02-11 16:43:21
Category/-2025-02-11 16:43:21
CatsCradle/-2025-02-11 16:43:21
CausalR/-2025-02-11 16:43:21
CeTF/-2025-02-11 16:43:22
CellBarcode/-2025-02-11 16:43:22
CellBench/-2025-02-11 16:43:22
CellMapper/-2025-02-11 16:43:22
CellMixS/-2025-02-11 16:43:22
CellNOptR/-2025-02-11 16:43:22
CellScore/-2025-02-11 16:43:22
CellTrails/-2025-02-11 16:43:22
CellaRepertorium/-2024-10-24 15:04:38
CelliD/-2025-02-11 16:43:22
Cepo/-2025-02-11 16:43:22
CexoR/-2025-02-11 16:43:22
ChAMP/-2025-02-11 16:43:23
ChIPComp/-2025-02-11 16:43:23
ChIPQC/-2025-02-11 16:43:23
ChIPXpress/-2025-02-11 16:43:23
ChIPanalyser/-2025-02-11 16:43:23
ChIPexoQual/-2025-02-11 16:43:23
ChIPpeakAnno/-2025-02-11 16:43:23
ChIPseeker/-2025-02-11 16:43:23
ChIPseqR/-2025-02-11 16:43:23
ChIPsim/-2025-02-11 16:43:23
ChemmineOB/-2025-02-11 16:43:23
ChemmineR/-2025-02-11 16:43:23
Chicago/-2025-02-11 16:43:23
ChromHeatMap/-2025-02-11 16:43:24
ChromSCape/-2025-02-11 16:43:24
CircSeqAlignTk/-2025-02-11 16:43:24
CiteFuse/-2025-02-11 16:43:24
ClassifyR/-2025-02-11 16:43:24
CleanUpRNAseq/-2025-02-11 16:43:24
Clomial/-2025-02-11 16:43:24
CluMSID/-2025-02-11 16:43:24
ClustAll/-2025-02-11 16:43:24
ClustIRR/-2025-02-11 16:43:25
ClusterFoldSimilarity/-2025-02-11 16:43:24
ClusterJudge/-2025-02-11 16:43:24
ClusterSignificance/-2025-02-11 16:43:25
CoCiteStats/-2025-02-11 16:43:25
CoGAPS/-2025-02-11 16:43:25
CoSIA/-2025-02-11 16:43:27
Cogito/-2025-02-11 16:43:26
ComPrAn/-2025-02-11 16:43:26
ComplexHeatmap/-2025-02-11 16:43:26
CompoundDb/-2025-02-11 16:43:26
ConsensusClusterPlus/-2025-02-11 16:43:26
CopyNumberPlots/-2025-02-11 16:43:26
CoreGx/-2025-02-11 16:43:26
Cormotif/-2025-02-11 16:43:27
CoverageView/-2025-02-11 16:43:27
CrispRVariants/-2025-02-11 16:43:27
CuratedAtlasQueryR/-2025-02-11 16:43:28
CyTOFpower/-2025-02-11 16:43:28
CytoDx/-2025-02-11 16:43:28
CytoGLMM/-2025-02-11 16:43:28
CytoMDS/-2025-02-11 16:43:28
CytoML/-2025-02-11 16:43:28
CytoPipeline/-2025-02-11 16:43:28
CytoPipelineGUI/-2025-02-11 16:43:29
DAMEfinder/-2025-02-11 16:43:29
DAPAR/-2025-02-11 16:43:29
DART/-2025-02-11 16:43:29
DCATS/-2025-02-11 16:43:29
DECIPHER/-2025-02-11 16:43:29
DEFormats/-2025-02-11 16:43:30
DEGraph/-2025-02-11 16:39:26
DEGreport/-2025-02-11 16:43:30
DEGseq/-2025-02-11 16:43:30
DELocal/-2025-02-11 16:43:30
DEP/-2025-02-11 16:43:30
DEScan2/-2025-02-11 16:43:30
DESeq2/-2025-02-11 16:43:30
DESpace/-2025-02-11 16:43:31
DEWSeq/-2025-02-11 16:43:31
DEXSeq/-2025-02-11 16:43:31
DEqMS/-2025-02-11 16:43:30
DEsingle/-2025-02-11 16:43:31
DEsubs/-2025-02-11 16:43:31
DExMA/-2025-02-11 16:43:31
DFP/-2025-02-11 16:43:31
DFplyr/-2025-02-11 16:43:31
DIAlignR/-2025-02-11 16:43:31
DMCFB/-2025-02-11 16:43:32
DMCHMM/-2025-02-11 16:43:32
DMRScan/-2025-02-11 16:43:32
DMRcaller/-2025-02-11 16:43:32
DMRcate/-2025-02-11 16:43:32
DNABarcodeCompatibility/-2025-02-11 16:43:32
DNABarcodes/-2025-02-11 16:43:32
DNAcopy/-2025-02-11 16:43:32
DNAfusion/-2025-02-11 16:43:32
DNAshapeR/-2025-02-11 16:43:32
DOSE/-2025-02-11 16:43:32
DRIMSeq/-2025-02-11 16:43:32
DSS/-2025-02-11 16:43:32
DTA/-2025-02-11 16:43:32
DaMiRseq/-2025-02-11 16:43:29
Damsel/-2025-02-11 16:43:29
DeMAND/-2025-02-11 16:43:30
DeMixT/-2025-02-11 16:43:30
DeProViR/-2025-02-11 16:43:30
DeconRNASeq/-2025-02-11 16:43:29
DeepPINCS/-2025-02-11 16:43:29
DeepTarget/-2025-02-11 16:43:30
DegCre/-2025-02-11 16:43:30
DegNorm/-2025-02-11 16:43:30
DelayedArray/-2025-02-11 16:43:30
DelayedDataFrame/-2025-02-11 16:43:30
DelayedMatrixStats/-2025-02-11 16:43:30
DelayedRandomArray/-2025-02-11 16:43:30
DelayedTensor/-2025-02-11 16:43:30
DepInfeR/-2025-02-11 16:43:30
DepecheR/-2025-02-11 16:43:30
DiffBind/-2025-02-11 16:43:31
DiffLogo/-2025-02-11 16:43:31
DifferentialRegulation/-2025-02-11 16:43:31
Dino/-2025-02-11 16:43:31
Director/-2025-02-11 16:43:31
DirichletMultinomial/-2025-02-11 16:43:31
DiscoRhythm/-2025-02-11 16:43:31
DominoEffect/-2025-02-11 16:43:32
Doscheda/-2025-02-11 16:43:32
DriverNet/-2025-02-11 16:43:32
DropletUtils/-2025-02-11 16:43:32
DrugVsDisease/-2025-02-11 16:43:32
Dune/-2025-02-11 16:43:33
DuplexDiscovereR/-2025-02-11 16:43:33
DynDoc/-2025-02-11 16:43:33
EBImage/-2025-02-11 16:43:33
EBSEA/-2025-02-11 16:43:33
EBSeq/-2025-02-11 16:43:33
EBarrays/-2025-02-11 16:43:33
EBcoexpress/-2025-02-11 16:43:33
EDASeq/-2025-02-11 16:43:33
EDIRquery/-2025-02-11 16:43:33
EGAD/-2025-02-11 16:43:33
EGSEA/-2025-02-11 16:43:33
ELMER/-2025-02-11 16:43:33
EMDomics/-2025-02-11 16:43:33
ENmix/-2025-02-11 16:43:34
ERSSA/-2025-02-11 16:43:35
EWCE/-2025-02-11 16:43:35
EasyCellType/-2025-02-11 16:43:33
EmpiricalBrownsMethod/-2025-02-11 16:43:33
EnMCB/-2025-02-11 16:43:34
EnhancedVolcano/-2025-02-11 16:43:33
EnrichDO/-2025-02-11 16:43:34
EnrichedHeatmap/-2025-02-11 16:43:34
EnrichmentBrowser/-2025-02-11 16:43:34
EpiCompare/-2025-02-11 16:43:34
EpiDISH/-2025-02-11 16:43:34
EpiMix/-2025-02-11 16:43:34
EpiTxDb/-2025-02-11 16:43:34
EpipwR/-2025-02-11 16:43:34
EventPointer/-2025-02-11 16:43:35
ExCluster/-2025-02-11 16:43:35
ExiMiR/-2025-02-11 16:43:35
ExperimentHub/-2025-02-11 16:43:35
ExperimentHubData/-2025-02-11 16:43:35
ExperimentSubset/-2025-02-11 16:43:35
ExploreModelMatrix/-2025-02-11 16:43:35
ExpressionAtlas/-2025-02-11 16:43:35
FEAST/-2025-02-11 16:43:36
FELLA/-2025-02-11 16:43:36
FGNet/-2025-02-11 16:43:36
FISHalyseR/-2025-02-11 16:43:36
FLAMES/-2025-02-11 16:43:36
FRASER/-2025-02-11 16:43:37
FRGEpistasis/-2025-02-11 16:43:37
FamAgg/-2025-02-11 16:43:35
FastqCleaner/-2025-02-11 16:43:35
FeatSeekR/-2025-02-11 16:43:36
FilterFFPE/-2025-02-11 16:43:36
FindIT2/-2025-02-11 16:43:36
FitHiC/-2025-02-11 16:43:36
FlowSOM/-2025-02-11 16:43:37
FuseSOM/-2025-02-11 16:43:38
G4SNVHunter/-2025-02-11 16:43:38
GA4GHclient/-2025-02-11 16:43:38
GA4GHshiny/-2025-02-11 16:43:38
GARS/-2025-02-11 16:43:38
GAprediction/-2025-02-11 16:43:38
GBScleanR/-2025-02-11 16:43:38
GDCRNATools/-2025-02-11 16:43:38
GDSArray/-2025-02-11 16:43:38
GEM/-2025-02-11 16:43:38
GENESIS/-2025-02-11 16:43:39
GENIE3/-2025-02-11 16:43:39
GEOexplorer/-2025-02-11 16:43:40
GEOfastq/-2025-02-11 16:43:40
GEOmetadb/-2025-02-11 16:43:40
GEOquery/-2025-02-11 16:43:40
GEOsubmission/-2025-02-11 16:43:40
GEWIST/-2025-02-11 16:43:41
GGPA/-2025-02-11 16:43:41
GIGSEA/-2025-02-11 16:43:41
GLAD/-2025-02-11 16:43:41
GMRP/-2025-02-11 16:43:42
GNET2/-2025-02-11 16:43:42
GNOSIS/-2025-02-11 16:43:42
GOSemSim/-2025-02-11 16:43:42
GOTHiC/-2025-02-11 16:43:42
GOexpress/-2025-02-11 16:43:42
GOfuncR/-2025-02-11 16:43:42
GOpro/-2025-02-11 16:43:42
GOstats/-2025-02-11 16:43:42
GPA/-2025-02-11 16:43:42
GRENITS/-2025-02-11 16:43:43
GRaNIE/-2025-02-11 16:43:43
GRmetrics/-2025-02-11 16:43:43
GSALightning/-2025-02-11 16:43:43
GSAR/-2025-02-11 16:43:43
GSCA/-2025-02-11 16:43:43
GSEABase/-2025-02-11 16:43:43
GSEABenchmarkeR/-2025-02-11 16:43:43
GSEAlm/-2025-02-11 16:43:43
GSEAmining/-2025-02-11 16:43:43
GSRI/-2025-02-11 16:43:43
GSReg/-2025-02-11 16:43:43
GSVA/-2025-02-11 16:43:43
GSgalgoR/-2025-02-11 16:43:43
GUIDEseq/-2025-02-11 16:43:43
GWAS.BAYES/-2025-02-11 16:43:44
GWASTools/-2025-02-11 16:43:44
GWENA/-2025-02-11 16:43:44
GateFinder/-2025-02-11 16:43:38
GeDi/-2025-02-11 16:43:38
GenProSeq/-2025-02-11 16:43:40
GenVisR/-2025-02-11 16:43:40
GeneBreak/-2025-02-11 16:43:39
GeneExpressionSignature/-2025-02-11 16:43:39
GeneGA/-2025-02-11 16:43:39
GeneGeneInteR/-2025-02-11 16:43:39
GeneMeta/-2025-02-11 16:43:39
GeneNetworkBuilder/-2025-02-11 16:43:39
GeneOverlap/-2025-02-11 16:43:39
GeneRegionScan/-2025-02-11 16:43:39
GeneSelectMMD/-2025-02-11 16:43:39
GeneStructureTools/-2025-02-11 16:43:39
GeneTonic/-2025-02-11 16:43:39
GeneticsPed/-2025-02-11 16:43:39
GenomAutomorphism/-2025-02-11 16:43:39
GenomeInfoDb/-2025-02-11 16:43:40
GenomicAlignments/-2025-02-11 16:43:40
GenomicDataCommons/-2025-02-11 16:43:40
GenomicDistributions/-2025-02-11 16:43:40
GenomicFeatures/-2025-02-11 16:43:40
GenomicFiles/-2025-02-11 16:43:40
GenomicInteractionNodes/-2025-02-11 16:43:40
GenomicInteractions/-2025-02-11 16:43:40
GenomicOZone/-2025-02-11 16:43:40
GenomicPlot/-2025-02-11 16:43:40
GenomicRanges/-2025-02-11 16:43:40
GenomicScores/-2025-02-11 16:43:40
GenomicSuperSignature/-2025-02-11 16:43:40
GenomicTuples/-2025-02-11 16:43:40
GeoDiff/-2025-02-11 16:43:40
GeoTcgaData/-2025-02-11 16:43:40
GeomxTools/-2025-02-11 16:43:40
GladiaTOX/-2025-02-11 16:43:41
Glimma/-2025-02-11 16:43:41
GloScope/-2025-02-11 16:43:42
GlobalAncova/-2025-02-11 16:43:42
GmicR/-2025-02-11 16:43:42
GrafGen/-2025-02-11 16:43:43
GraphAT/-2025-02-11 16:43:43
GraphAlignment/-2025-02-11 16:43:43
GraphPAC/-2025-02-11 16:43:43
GreyListChIP/-2025-02-11 16:43:43
Guitar/-2025-02-11 16:43:44
Gviz/-2025-02-11 16:43:44
HDF5Array/-2025-02-11 16:43:44
HDTD/-2025-02-11 16:43:44
HELP/-2025-02-11 16:43:44
HEM/-2025-02-11 16:43:44
HERON/-2025-02-11 16:43:44
HGC/-2025-02-11 16:43:45
HIBAG/-2025-02-11 16:43:45
HIPPO/-2025-02-11 16:43:45
HIREewas/-2025-02-11 16:43:45
HMMcopy/-2025-02-11 16:43:45
HPAanalyze/-2025-02-11 16:43:45
HPiP/-2025-02-11 16:43:46
HTSFilter/-2025-02-11 16:43:46
HTSeqGenie/-2025-02-11 16:39:39
HTqPCR/-2024-10-24 15:04:40
Harman/-2025-02-11 16:43:44
HarmonizR/-2025-02-11 16:43:44
Harshlight/-2025-02-11 16:43:44
Heatplus/-2025-02-11 16:43:44
HelloRanges/-2025-02-11 16:43:44
Herper/-2025-02-11 16:43:44
HiCBricks/-2025-02-11 16:43:45
HiCDCPlus/-2025-02-11 16:43:45
HiCDOC/-2025-02-11 16:43:45
HiCExperiment/-2025-02-11 16:43:45
HiCcompare/-2025-02-11 16:43:45
HiContacts/-2025-02-11 16:43:45
HiCool/-2025-02-11 16:43:45
HiLDA/-2025-02-11 16:43:45
HiTC/-2025-02-11 16:43:45
HicAggR/-2025-02-11 16:43:45
HilbertCurve/-2025-02-11 16:43:45
HilbertVis/-2025-02-11 16:43:45
HilbertVisGUI/-2025-02-11 16:39:38
HoloFoodR/-2025-02-11 16:43:45
HuBMAPR/-2025-02-11 16:43:46
HubPub/-2025-02-11 16:43:46
HybridExpress/-2025-02-11 16:43:46
HybridMTest/-2025-02-11 16:43:46
IFAA/-2025-02-11 16:43:47
IHW/-2025-02-11 16:43:47
ILoReg/-2025-02-11 16:43:47
IMAS/-2025-02-11 16:43:47
IMMAN/-2025-02-11 16:43:47
IMPCdata/-2025-02-11 16:43:47
INDEED/-2025-02-11 16:43:47
INPower/-2025-02-11 16:43:47
INSPEcT/-2025-02-11 16:43:47
INTACT/-2025-02-11 16:43:47
IONiseR/-2025-02-11 16:43:48
IPO/-2025-02-11 16:43:48
IRanges/-2025-02-11 16:43:48
ISAnalytics/-2025-02-11 16:43:48
ISLET/-2025-02-11 16:43:48
ISoLDE/-2025-02-11 16:43:49
ITALICS/-2025-02-11 16:43:49
IVAS/-2025-02-11 16:43:49
IWTomics/-2025-02-11 16:43:49
Icens/-2025-02-11 16:43:46
IdeoViz/-2025-02-11 16:43:46
IgGeneUsage/-2025-02-11 16:43:47
InPAS/-2025-02-11 16:43:47
InTAD/-2025-02-11 16:43:47
Informeasure/-2025-02-11 16:43:47
IntEREst/-2025-02-11 16:43:48
InterCellar/-2025-02-11 16:43:48
InteractionSet/-2025-02-11 16:43:48
InteractiveComplexHeatmap/-2025-02-11 16:43:48
IntramiRExploreR/-2025-02-11 16:43:48
IsoBayes/-2025-02-11 16:43:49
IsoCorrectoR/-2025-02-11 16:43:49
IsoCorrectoRGUI/-2025-02-11 16:43:49
IsoformSwitchAnalyzeR/-2025-02-11 16:43:49
KBoost/-2025-02-11 16:43:49
KCsmart/-2025-02-11 16:43:49
KEGGREST/-2025-02-11 16:43:49
KEGGgraph/-2025-02-11 16:43:49
KEGGlincs/-2025-02-11 16:43:49
KinSwingR/-2025-02-11 16:43:49
KnowSeq/-2025-02-11 16:43:49
LACE/-2025-02-11 16:43:50
LBE/-2025-02-11 16:43:50
LEA/-2025-02-11 16:43:50
LOBSTAHS/-2025-02-11 16:43:50
LOLA/-2025-02-11 16:43:50
LPE/-2025-02-11 16:43:51
LRBaseDbi/-2025-02-11 16:43:51
LRcell/-2025-02-11 16:43:51
LedPred/-2025-02-11 16:43:50
LimROTS/-2025-02-11 16:43:50
LinTInd/-2025-02-11 16:43:50
LinkHD/-2025-02-11 16:43:50
Linnorm/-2025-02-11 16:43:50
LiquidAssociation/-2025-02-11 16:43:50
LoomExperiment/-2025-02-11 16:43:51
LymphoSeq/-2025-02-11 16:43:51
M3C/-2025-02-11 16:43:51
M3Drop/-2025-02-11 16:43:51
MACSQuantifyR/-2025-02-11 16:43:51
MACSr/-2025-02-11 16:43:51
MADSEQ/-2025-02-11 16:43:51
MAGAR/-2025-02-11 16:43:51
MAGeCKFlute/-2025-02-11 16:43:51
MAI/-2025-02-11 16:43:51
MAIT/-2025-02-11 16:43:51
MANOR/-2025-02-11 16:43:51
MAPFX/-2025-02-11 16:43:52
MAST/-2025-02-11 16:43:52
MBASED/-2025-02-11 16:43:52
MBAmethyl/-2025-02-11 16:43:52
MBCB/-2025-02-11 16:43:52
MBECS/-2025-02-11 16:43:52
MBQN/-2025-02-11 16:43:52
MBttest/-2025-02-11 16:43:53
MCbiclust/-2025-02-11 16:43:53
MDTS/-2025-02-11 16:43:53
MEAL/-2025-02-11 16:43:53
MEAT/-2025-02-11 16:43:53
MEB/-2025-02-11 16:43:53
MEDIPS/-2025-02-11 16:43:53
MEDME/-2025-02-11 16:43:53
MEIGOR/-2025-02-11 16:43:53
MGFM/-2025-02-11 16:43:55
MGFR/-2025-02-11 16:43:55
MGnifyR/-2025-02-11 16:43:55
MICSQTL/-2025-02-11 16:43:56
MIRA/-2025-02-11 16:43:56
MIRit/-2025-02-11 16:43:56
MLInterfaces/-2025-02-11 16:43:57
MLP/-2025-02-11 16:43:57
MLSeq/-2025-02-11 16:43:57
MMDiff2/-2025-02-11 16:43:57
MMUPHin/-2025-02-11 16:43:57
MODA/-2025-02-11 16:43:57
MOFA2/-2025-02-11 16:43:57
MOGAMUN/-2025-02-11 16:43:57
MOMA/-2025-02-11 16:43:57
MOSClip/-2025-02-11 16:43:57
MOSim/-2025-02-11 16:43:58
MPAC/-2025-02-11 16:43:58
MPFE/-2025-02-11 16:43:58
MPRAnalyze/-2025-02-11 16:43:58
MQmetrics/-2024-10-24 15:04:41
MSA2dist/-2025-02-11 16:43:58
MSPrep/-2025-02-11 16:43:59
MSnID/-2025-02-11 16:43:59
MSnbase/-2025-02-11 16:43:59
MSstats/-2025-02-11 16:43:59
MSstatsBig/-2025-02-11 16:43:59
MSstatsConvert/-2025-02-11 16:43:59
MSstatsLOBD/-2025-02-11 16:43:59
MSstatsLiP/-2025-02-11 16:43:59
MSstatsPTM/-2025-02-11 16:43:59
MSstatsQC/-2025-02-11 16:43:59
MSstatsQCgui/-2025-02-11 16:43:59
MSstatsShiny/-2025-02-11 16:43:59
MSstatsTMT/-2025-02-11 16:43:59
MVCClass/-2025-02-11 16:44:00
MWASTools/-2025-02-11 16:44:00
Maaslin2/-2025-02-11 16:43:51
Macarron/-2025-02-11 16:43:51
MantelCorr/-2025-02-11 16:43:52
MassArray/-2025-02-11 16:43:52
MassSpecWavelet/-2025-02-11 16:43:52
MatrixGenerics/-2025-02-11 16:43:52
MatrixQCvis/-2025-02-11 16:43:52
MatrixRider/-2025-02-11 16:43:52
MeSHDbi/-2025-02-11 16:43:53
MeasurementError.cor/-2025-02-11 16:43:53
Melissa/-2025-02-11 16:43:53
Mergeomics/-2025-02-11 16:43:53
MesKit/-2025-02-11 16:43:53
MetCirc/-2025-02-11 16:43:54
MetID/-2025-02-11 16:43:55
MetMashR/-2025-02-11 16:43:55
MetNet/-2025-02-11 16:43:55
MetaCyto/-2025-02-11 16:43:54
MetaNeighbor/-2025-02-11 16:43:54
MetaPhOR/-2025-02-11 16:43:54
MetaboAnnotation/-2025-02-11 16:43:53
MetaboCoreUtils/-2025-02-11 16:43:53
MetaboDynamics/-2025-02-11 16:43:53
MetaboSignal/-2025-02-11 16:43:54
MethPed/-2025-02-11 16:43:54
MethReg/-2025-02-11 16:43:54
MethTargetedNGS/-2025-02-11 16:43:54
MethylAid/-2025-02-11 16:43:54
MethylMix/-2025-02-11 16:43:55
MethylSeekR/-2025-02-11 16:43:55
Mfuzz/-2025-02-11 16:43:55
MiChip/-2025-02-11 16:43:55
MiPP/-2025-02-11 16:43:56
MiRaGE/-2025-02-11 16:43:56
MicrobiomeProfiler/-2025-02-11 16:43:55
MicrobiotaProcess/-2025-02-11 16:43:55
MineICA/-2025-02-11 16:43:56
MinimumDistance/-2025-02-11 16:43:56
ModCon/-2025-02-11 16:43:57
Modstrings/-2025-02-11 16:43:57
MoleculeExperiment/-2025-02-11 16:43:57
Moonlight2R/-2025-02-11 16:43:57
MoonlightR/-2025-02-11 16:43:57
Motif2Site/-2025-02-11 16:43:58
MotifDb/-2025-02-11 16:43:58
MotifPeeker/-2025-02-11 16:43:58
MouseFM/-2025-02-11 16:43:58
MsBackendMassbank/-2025-02-11 16:43:58
MsBackendMetaboLights/-2025-02-11 16:43:58
MsBackendMgf/-2025-02-11 16:43:58
MsBackendMsp/-2025-02-11 16:43:58
MsBackendRawFileReader/-2025-02-11 16:43:58
MsBackendSql/-2025-02-11 16:43:58
MsCoreUtils/-2025-02-11 16:43:58
MsDataHub/-2025-02-11 16:43:58
MsExperiment/-2025-02-11 16:43:59
MsFeatures/-2025-02-11 16:43:59
MsQuality/-2025-02-11 16:43:59
MuData/-2025-02-11 16:43:59
Mulcom/-2025-02-11 16:43:59
MultiAssayExperiment/-2025-02-11 16:43:59
MultiBaC/-2025-02-11 16:44:00
MultiDataSet/-2025-02-11 16:44:00
MultiMed/-2025-02-11 16:44:00
MultiRNAflow/-2025-02-11 16:44:00
MultimodalExperiment/-2025-02-11 16:44:00
MungeSumstats/-2025-02-11 16:44:00
MutationalPatterns/-2025-02-11 16:44:00
NADfinder/-2025-02-11 16:44:01
NBAMSeq/-2025-02-11 16:44:01
NCIgraph/-2025-02-11 16:39:52
NOISeq/-2025-02-11 16:44:02
NPARC/-2025-02-11 16:44:02
NTW/-2025-02-11 16:44:02
NanoMethViz/-2025-02-11 16:44:01
NanoStringDiff/-2025-02-11 16:44:01
NanoStringNCTools/-2025-02-11 16:44:01
NanoTube/-2025-02-11 16:44:01
Nebulosa/-2025-02-11 16:44:01
NetActivity/-2025-02-11 16:44:01
NetPathMiner/-2025-02-11 16:44:01
NetSAM/-2025-02-11 16:44:01
NeuCA/-2025-02-11 16:44:01
NewWave/-2025-02-11 16:44:01
NoRCE/-2025-02-11 16:44:02
NormalyzerDE/-2025-02-11 16:44:02
NormqPCR/-2025-02-11 16:44:02
NuPoP/-2025-02-11 16:44:02
OCplus/-2025-02-11 16:44:02
OGRE/-2025-02-11 16:44:02
OLIN/-2025-02-11 16:44:02
OLINgui/-2025-02-11 16:44:02
OMICsPCA/-2025-02-11 16:44:03
OPWeight/-2025-02-11 16:44:03
ORFhunteR/-2025-02-11 16:44:04
ORFik/-2025-02-11 16:44:04
OSAT/-2025-02-11 16:44:04
OTUbase/-2025-02-11 16:44:04
OUTRIDER/-2025-02-11 16:44:04
OVESEG/-2025-02-11 16:44:04
OmaDB/-2025-02-11 16:44:03
OmicCircos/-2025-02-11 16:44:03
OmicsMLRepoR/-2025-02-11 16:44:03
Omixer/-2025-02-11 16:44:03
OmnipathR/-2025-02-11 16:44:03
OncoScore/-2025-02-11 16:44:03
OncoSimulR/-2025-02-11 16:42:40
OpenStats/-2025-02-11 16:44:03
OrderedList/-2025-02-11 16:44:03
Organism.dplyr/-2025-02-11 16:44:04
OrganismDbi/-2025-02-11 16:44:04
Oscope/-2025-02-11 16:44:04
OutSplice/-2025-02-11 16:44:04
PAA/-2025-02-11 16:44:04
PADOG/-2025-02-11 16:44:04
PAIRADISE/-2025-02-11 16:44:04
PANR/-2025-02-11 16:44:05
PAST/-2025-02-11 16:44:05
PCAN/-2025-02-11 16:44:05
PCAtools/-2025-02-11 16:44:05
PDATK/-2025-02-11 16:44:05
PECA/-2025-02-11 16:44:05
PICB/-2025-02-11 16:44:06
PICS/-2025-02-11 16:44:07
PING/-2025-02-11 16:44:07
PIPETS/-2025-02-11 16:44:07
PIUMA/-2025-02-11 16:44:07
PLPE/-2025-02-11 16:44:07
PLSDAbatch/-2025-02-11 16:44:07
POMA/-2025-02-11 16:44:08
POWSC/-2025-02-11 16:44:08
PPInfer/-2025-02-11 16:44:08
PREDA/-2025-02-11 16:44:08
PROMISE/-2025-02-11 16:44:08
PRONE/-2025-02-11 16:44:08
PROPER/-2025-02-11 16:44:09
PROPS/-2025-02-11 16:44:09
PROcess/-2025-02-11 16:44:08
PSMatch/-2025-02-11 16:44:09
PWMEnrich/-2025-02-11 16:44:09
PanViz/-2025-02-11 16:44:05
PanomiR/-2025-02-11 16:44:04
Path2PPI/-2025-02-11 16:44:05
PathNet/-2025-02-11 16:44:05
PathoStat/-2025-02-11 16:44:05
PeacoQC/-2025-02-11 16:44:05
Pedixplorer/-2025-02-11 16:44:05
PepSetTest/-2025-02-11 16:44:06
PepsNMR/-2025-02-11 16:44:06
PhIPData/-2025-02-11 16:44:06
PharmacoGx/-2025-02-11 16:44:06
PhenStat/-2025-02-11 16:44:06
PhenoGeneRanker/-2025-02-11 16:44:06
PhosR/-2025-02-11 16:44:06
PhyloProfile/-2025-02-11 16:44:06
Pi/-2024-10-24 15:04:42
Pigengene/-2025-02-11 16:44:07
Pirat/-2025-02-11 16:44:07
PoDCall/-2025-02-11 16:44:07
PolySTest/-2025-02-11 16:44:07
Polytect/-2025-02-11 16:44:08
PrInCE/-2025-02-11 16:44:08
Prostar/-2025-02-11 16:44:09
ProtGenerics/-2025-02-11 16:44:09
ProteoDisco/-2025-02-11 16:44:09
ProteoMM/-2025-02-11 16:44:09
PureCN/-2025-02-11 16:44:09
Pviz/-2025-02-11 16:44:09
QDNAseq/-2025-02-11 16:44:09
QFeatures/-2025-02-11 16:44:09
QSutils/-2025-02-11 16:44:10
QTLExperiment/-2025-02-11 16:44:10
QUBIC/-2025-02-11 16:44:10
Qtlizer/-2025-02-11 16:44:10
QuartPAC/-2025-02-11 16:44:10
QuasR/-2025-02-11 16:44:10
QuaternaryProd/-2025-02-11 16:44:10
R3CPET/-2025-02-11 16:41:21
R453Plus1Toolbox/-2025-02-11 16:44:10
R4RNA/-2025-02-11 16:44:10
RAIDS/-2025-02-11 16:44:10
RAREsim/-2025-02-11 16:44:11
RBGL/-2025-02-11 16:44:11
RBM/-2025-02-11 16:44:11
RBioFormats/-2025-02-11 16:44:11
RBioinf/-2025-02-11 16:44:11
RCAS/-2025-02-11 16:44:11
RCASPAR/-2025-02-11 16:44:11
RCM/-2025-02-11 16:44:11
RCSL/-2025-02-11 16:44:12
RCX/-2025-02-11 16:44:12
RCy3/-2025-02-11 16:44:12
RCyjs/-2025-02-11 16:44:12
RDRToolbox/-2025-02-11 16:44:12
REBET/-2025-02-11 16:44:12
REDseq/-2025-02-11 16:44:12
REMP/-2025-02-11 16:44:13
RESOLVE/-2025-02-11 16:44:13
RGMQL/-2025-02-11 16:41:25
RGSEA/-2025-02-11 16:44:14
RGraph2js/-2025-02-11 16:44:13
RITAN/-2025-02-11 16:44:14
RIVER/-2025-02-11 16:44:14
RImmPort/-2025-02-11 16:44:14
RJMCMCNucleosomes/-2025-02-11 16:44:14
RLMM/-2025-02-11 16:44:14
RLassoCox/-2025-02-11 16:44:14
RMassBank/-2025-02-11 16:44:15
RNAAgeCalc/-2025-02-11 16:44:15
RNASeqPower/-2025-02-11 16:44:15
RNAdecay/-2025-02-11 16:44:15
RNAinteract/-2024-10-24 15:04:43
RNAmodR/-2025-02-11 16:44:15
RNAmodR.AlkAnilineSeq/-2025-02-11 16:44:15
RNAmodR.ML/-2025-02-11 16:44:15
RNAmodR.RiboMethSeq/-2025-02-11 16:44:15
RNAsense/-2025-02-11 16:44:15
RNAseqCovarImpute/-2025-02-11 16:44:15
ROC/-2025-02-11 16:44:15
ROCpAI/-2025-02-11 16:44:15
ROSeq/-2025-02-11 16:44:16
ROTS/-2025-02-11 16:44:16
ROntoTools/-2025-02-11 16:44:16
RPA/-2025-02-11 16:44:16
RProtoBufLib/-2025-02-11 16:44:16
RRHO/-2025-02-11 16:44:16
RSVSim/-2025-02-11 16:44:16
RSeqAn/-2025-02-11 16:44:16
RTCA/-2025-02-11 16:44:16
RTCGA/-2025-02-11 16:44:16
RTCGAToolbox/-2025-02-11 16:44:16
RTN/-2025-02-11 16:44:17
RTNduals/-2025-02-11 16:44:17
RTNsurvival/-2025-02-11 16:44:17
RTopper/-2025-02-11 16:44:17
RUVSeq/-2025-02-11 16:44:17
RUVcorr/-2025-02-11 16:44:17
RUVnormalize/-2025-02-11 16:44:17
RVS/-2025-02-11 16:44:17
RadioGx/-2025-02-11 16:44:10
RaggedExperiment/-2025-02-11 16:44:10
RandomWalkRestartMH/-2024-10-24 15:04:42
RankProd/-2025-02-11 16:44:11
RareVariantVis/-2025-02-11 16:44:11
Rarr/-2025-02-11 16:44:11
RbcBook1/-2025-02-11 16:44:11
Rbec/-2025-02-11 16:44:11
Rbowtie/-2025-02-11 16:44:11
Rbowtie2/-2025-02-11 16:44:11
Rbwa/-2025-02-11 16:44:11
RcisTarget/-2025-02-11 16:44:11
Rcollectl/-2025-02-11 16:40:01
Rcpi/-2025-02-11 16:44:11
Rcwl/-2025-02-11 16:44:12
RcwlPipelines/-2025-02-11 16:44:12
Rdisop/-2025-02-11 16:44:12
ReUseData/-2025-02-11 16:44:13
ReactomeContentService4R/-2025-02-11 16:44:12
ReactomeGSA/-2025-02-11 16:44:12
ReactomeGraph4R/-2025-02-11 16:44:12
ReactomePA/-2025-02-11 16:44:12
ReadqPCR/-2025-02-11 16:44:12
RedeR/-2025-02-11 16:44:12
RedisParam/-2025-02-11 16:44:12
ReducedExperiment/-2025-02-11 16:44:12
RegEnrich/-2025-02-11 16:44:13
RegionalST/-2025-02-11 16:44:13
RepViz/-2025-02-11 16:44:13
Repitools/-2025-02-11 16:44:13
ReportingTools/-2025-02-11 16:44:13
ResidualMatrix/-2025-02-11 16:44:13
Rfastp/-2025-02-11 16:44:13
RgnTX/-2025-02-11 16:44:13
Rgraphviz/-2025-02-11 16:44:14
Rhdf5lib/-2025-02-11 16:44:14
Rhisat2/-2025-02-11 16:44:14
Rhtslib/-2025-02-11 16:44:14
RiboCrypt/-2025-02-11 16:44:14
RiboDiPA/-2025-02-11 16:44:14
RiboProfiling/-2025-02-11 16:44:14
Risa/-2024-10-24 15:04:43
Rmagpie/-2025-02-11 16:44:15
Rmmquant/-2025-02-11 16:44:15
RnBeads/-2025-02-11 16:44:15
RnaSeqSampleSize/-2025-02-11 16:44:15
Rnits/-2025-02-11 16:44:15
RolDE/-2025-02-11 16:44:15
Rqc/-2025-02-11 16:44:16
Rsamtools/-2025-02-11 16:44:16
Rsubread/-2025-02-11 16:44:16
Rtpca/-2025-02-11 16:44:17
Rtreemix/-2025-02-11 16:44:17
Rvisdiff/-2025-02-11 16:44:17
S4Arrays/-2025-02-11 16:44:17
S4Vectors/-2025-02-11 16:44:17
SAIGEgds/-2025-02-11 16:44:17
SANTA/-2025-02-11 16:44:17
SARC/-2025-02-11 16:44:18
SBGNview/-2025-02-11 16:44:18
SBMLR/-2025-02-11 16:44:18
SC3/-2025-02-11 16:44:18
SCAN.UPC/-2025-02-11 16:44:18
SCANVIS/-2025-02-11 16:44:18
SCArray/-2025-02-11 16:44:18
SCArray.sat/-2025-02-11 16:44:18
SCBN/-2025-02-11 16:44:18
SCFA/-2025-02-11 16:44:19
SCOPE/-2025-02-11 16:44:19
SCnorm/-2025-02-11 16:44:19
SDAMS/-2025-02-11 16:44:20
SELEX/-2025-02-11 16:44:21
SEtools/-2025-02-11 16:44:21
SGCP/-2025-02-11 16:44:22
SGSeq/-2025-02-11 16:44:22
SIAMCAT/-2025-02-11 16:44:22
SICtools/-2025-02-11 16:44:22
SIM/-2025-02-11 16:44:22
SIMAT/-2025-02-11 16:44:22
SIMD/-2025-02-11 16:44:22
SIMLR/-2025-02-11 16:44:23
SLqPCR/-2025-02-11 16:44:23
SMAD/-2025-02-11 16:44:23
SMITE/-2025-02-11 16:44:23
SNAGEE/-2025-02-11 16:44:24
SNPRelate/-2025-02-11 16:44:24
SNPediaR/-2025-02-11 16:44:24
SNPhood/-2025-02-11 16:44:24
SOMNiBUS/-2025-02-11 16:44:24
SPEM/-2025-02-11 16:44:25
SPIA/-2025-02-11 16:44:25
SPIAT/-2025-02-11 16:44:25
SPLINTER/-2025-02-11 16:44:26
SPONGE/-2025-02-11 16:44:26
SPOTlight/-2025-02-11 16:44:26
SPsimSeq/-2025-02-11 16:44:26
SQLDataFrame/-2025-02-11 16:44:26
SRAdb/-2025-02-11 16:44:26
STATegRa/-2025-02-11 16:44:27
STRINGdb/-2025-02-11 16:44:27
STdeconvolve/-2025-02-11 16:44:27
SUITOR/-2025-02-11 16:44:27
SVMDO/-2025-02-11 16:44:28
SWATH2stats/-2025-02-11 16:44:28
SamSPECTRAL/-2025-02-11 16:44:17
Scale4C/-2025-02-11 16:44:18
ScaledMatrix/-2025-02-11 16:44:18
Sconify/-2025-02-11 16:44:19
ScreenR/-2025-02-11 16:44:20
SemDist/-2025-02-11 16:44:21
SeqArray/-2025-02-11 16:44:21
SeqGSEA/-2025-02-11 16:44:21
SeqGate/-2025-02-11 16:44:21
SeqSQC/-2025-02-11 16:44:21
SeqVarTools/-2025-02-11 16:44:21
SharedObject/-2025-02-11 16:44:22
ShortRead/-2025-02-11 16:44:22
SiPSiC/-2025-02-11 16:44:23
SigCheck/-2025-02-11 16:44:22
SigFuge/-2025-02-11 16:44:22
SigsPack/-2025-02-11 16:44:22
SimBu/-2025-02-11 16:44:22
SimFFPE/-2025-02-11 16:44:22
SingleCellAlleleExperiment/-2025-02-11 16:44:23
SingleCellExperiment/-2025-02-11 16:44:23
SingleCellSignalR/-2025-02-11 16:44:23
SingleMoleculeFootprinting/-2025-02-11 16:44:23
SingleR/-2025-02-11 16:44:23
SomaticSignatures/-2025-02-11 16:44:24
SpaNorm/-2025-02-11 16:44:24
SpaceMarkers/-2025-02-11 16:44:24
SpacePAC/-2025-02-11 16:44:24
Spaniel/-2025-02-11 16:44:24
SparseArray/-2025-02-11 16:44:24
SparseSignatures/-2025-02-11 16:44:24
SpatialCPie/-2025-02-11 16:44:25
SpatialDecon/-2025-02-11 16:44:25
SpatialExperiment/-2025-02-11 16:44:25
SpatialExperimentIO/-2025-02-11 16:44:25
SpatialFeatureExperiment/-2025-02-11 16:44:25
SpatialOmicsOverlay/-2025-02-11 16:44:25
SpeCond/-2025-02-11 16:44:25
Spectra/-2025-02-11 16:44:25
SpectraQL/-2025-02-11 16:44:25
SpectralTAD/-2025-02-11 16:44:25
SpliceWiz/-2025-02-11 16:44:26
SplicingFactory/-2025-02-11 16:44:26
SplicingGraphs/-2025-02-11 16:44:26
SplineDV/-2025-02-11 16:44:26
SpotClean/-2025-02-11 16:44:26
SpotSweeper/-2025-02-11 16:44:26
StabMap/-2025-02-11 16:44:27
Statial/-2025-02-11 16:44:27
Streamer/-2025-02-11 16:44:27
Structstrings/-2025-02-11 16:44:27
StructuralVariantAnnotation/-2025-02-11 16:44:27
SubCellBarCode/-2025-02-11 16:44:27
SummarizedBenchmark/-2024-10-24 15:04:43
SummarizedExperiment/-2025-02-11 16:44:27
Summix/-2025-02-11 16:44:27
SurfR/-2025-02-11 16:44:28
SwathXtend/-2025-02-11 16:44:28
SynExtend/-2025-02-11 16:44:28
SynMut/-2025-02-11 16:44:28
TADCompare/-2025-02-11 16:44:28
TAPseq/-2025-02-11 16:44:29
TBSignatureProfiler/-2025-02-11 16:44:29
TCC/-2025-02-11 16:44:29
TCGAbiolinks/-2025-02-11 16:44:29
TCGAutils/-2025-02-11 16:44:29
TCseq/-2025-02-11 16:44:29
TDbasedUFE/-2025-02-11 16:44:29
TDbasedUFEadv/-2025-02-11 16:44:29
TEKRABber/-2025-02-11 16:44:29
TENxIO/-2025-02-11 16:44:29
TEQC/-2025-02-11 16:44:29
TFARM/-2025-02-11 16:44:29
TFBSTools/-2025-02-11 16:44:29
TFEA.ChIP/-2025-02-11 16:44:29
TFHAZ/-2025-02-11 16:44:29
TFutils/-2025-02-11 16:44:29
TIN/-2025-02-11 16:44:30
TMSig/-2025-02-11 16:44:30
TMixClust/-2025-02-11 16:44:30
TOAST/-2025-02-11 16:44:30
TOP/-2025-02-11 16:44:31
TPP/-2025-02-11 16:44:31
TPP2D/-2025-02-11 16:44:31
TREG/-2025-02-11 16:44:32
TRESS/-2025-02-11 16:44:32
TRONCO/-2025-02-11 16:44:32
TSAR/-2025-02-11 16:44:32
TSCAN/-2025-02-11 16:44:32
TTMap/-2025-02-11 16:44:32
TVTB/-2025-02-11 16:44:32
TargetDecoy/-2025-02-11 16:44:29
TargetScore/-2025-02-11 16:44:29
TargetSearch/-2025-02-11 16:44:29
TileDBArray/-2025-02-11 16:44:30
TissueEnrich/-2025-02-11 16:44:30
TitanCNA/-2025-02-11 16:44:30
TnT/-2025-02-11 16:44:30
ToxicoGx/-2025-02-11 16:44:31
TrIdent/-2025-02-11 16:44:32
TrajectoryGeometry/-2025-02-11 16:44:31
TrajectoryUtils/-2025-02-11 16:44:31
TransView/-2025-02-11 16:44:31
TreeAndLeaf/-2025-02-11 16:44:32
TreeSummarizedExperiment/-2025-02-11 16:44:32
Trendy/-2025-02-11 16:44:32
TurboNorm/-2025-02-11 16:44:32
TypeInfo/-2025-02-11 16:44:33
UCSC.utils/-2025-02-11 16:44:33
UCell/-2025-02-11 16:44:33
UMI4Cats/-2025-02-11 16:44:33
UNDO/-2025-02-11 16:44:33
UPDhmm/-2025-02-11 16:44:33
Ularcirc/-2025-02-11 16:44:33
UniProt.ws/-2025-02-11 16:44:33
Uniquorn/-2025-02-11 16:44:33
VAExprs/-2025-02-11 16:44:33
VCFArray/-2025-02-11 16:44:34
VDJdive/-2025-02-11 16:44:34
VERSO/-2025-02-11 16:44:34
VaSP/-2025-02-11 16:44:34
VanillaICE/-2025-02-11 16:44:33
VarCon/-2025-02-11 16:44:33
VariantAnnotation/-2025-02-11 16:44:33
VariantExperiment/-2025-02-11 16:44:33
VariantFiltering/-2025-02-11 16:44:34
VariantTools/-2025-02-11 16:44:34
VegaMC/-2025-02-11 16:44:34
VennDetail/-2025-02-11 16:44:34
ViSEAGO/-2025-02-11 16:44:34
VisiumIO/-2025-02-11 16:44:34
Voyager/-2025-02-11 16:44:34
VplotR/-2025-02-11 16:44:34
Wrench/-2025-02-11 16:44:35
XDE/-2025-02-11 16:44:35
XINA/-2025-02-11 16:44:35
XNAString/-2025-02-11 16:44:35
XVector/-2025-02-11 16:44:35
Xeva/-2025-02-11 16:44:35
YAPSA/-2025-02-11 16:44:35
ZygosityPredictor/-2025-02-11 16:44:36
a4/-2025-02-11 16:43:13
a4Base/-2025-02-11 16:43:13
a4Classif/-2025-02-11 16:43:13
a4Core/-2025-02-11 16:43:13
a4Preproc/-2025-02-11 16:43:13
a4Reporting/-2025-02-11 16:43:13
aCGH/-2025-02-11 16:43:13
abseqR/-2025-02-11 16:43:13
acde/-2025-02-11 16:43:13
adSplit/-2025-02-11 16:43:13
adductomicsR/-2025-02-11 16:43:13
adverSCarial/-2025-02-11 16:43:13
affxparser/-2025-02-11 16:43:13
affy/-2025-02-11 16:43:13
affyContam/-2025-02-11 16:43:13
affyILM/-2025-02-11 16:43:13
affyPLM/-2025-02-11 16:43:14
affycomp/-2025-02-11 16:43:13
affycoretools/-2025-02-11 16:43:13
affyio/-2025-02-11 16:43:14
affylmGUI/-2025-02-11 16:43:14
aggregateBioVar/-2025-02-11 16:43:14
agilp/-2025-02-11 16:43:14
airpart/-2025-02-11 16:43:14
alabaster/-2025-02-11 16:43:14
alabaster.base/-2025-02-11 16:43:14
alabaster.bumpy/-2025-02-11 16:43:14
alabaster.files/-2025-02-11 16:43:14
alabaster.mae/-2025-02-11 16:43:14
alabaster.matrix/-2025-02-11 16:43:14
alabaster.ranges/-2025-02-11 16:43:14
alabaster.sce/-2025-02-11 16:43:14
alabaster.schemas/-2025-02-11 16:43:14
alabaster.se/-2025-02-11 16:43:14
alabaster.spatial/-2025-02-11 16:43:14
alabaster.string/-2025-02-11 16:43:14
alabaster.vcf/-2025-02-11 16:43:14
alevinQC/-2025-02-11 16:43:14
altcdfenvs/-2025-02-11 16:43:14
amplican/-2025-02-11 16:43:15
animalcules/-2025-02-11 16:43:15
annaffy/-2025-02-11 16:43:15
annmap/-2025-02-11 16:43:15
annotate/-2025-02-11 16:43:15
annotationTools/-2025-02-11 16:43:15
annotatr/-2025-02-11 16:43:15
anota/-2025-02-11 16:43:15
anota2seq/-2025-02-11 16:43:15
antiProfiles/-2025-02-11 16:43:15
apComplex/-2025-02-11 16:43:15
apeglm/-2025-02-11 16:43:15
appreci8R/-2025-02-11 16:43:15
aroma.light/-2025-02-11 16:43:15
arrayMvout/-2025-02-11 16:43:16
arrayQuality/-2025-02-11 16:43:16
arrayQualityMetrics/-2025-02-11 16:43:16
artMS/-2025-02-11 16:43:16
assorthead/-2025-02-11 16:43:16
atSNP/-2025-02-11 16:43:16
atena/-2025-02-11 16:43:16
attract/-2025-02-11 16:43:16
autonomics/-2025-02-11 16:43:16
awst/-2025-02-11 16:43:16
bacon/-2025-02-11 16:43:16
ballgown/-2025-02-11 16:43:16
bambu/-2025-02-11 16:43:17
bamsignals/-2025-02-11 16:43:17
bandle/-2025-02-11 16:43:17
banocc/-2025-02-11 16:43:17
barcodetrackR/-2025-02-11 16:43:17
basecallQC/-2025-02-11 16:43:17
basilisk/-2025-02-11 16:43:17
basilisk.utils/-2025-02-11 16:43:17
batchelor/-2025-02-11 16:43:17
bayNorm/-2025-02-11 16:43:17
baySeq/-2025-02-11 16:43:17
bcSeq/-2025-02-11 16:43:17
beachmat/-2025-02-11 16:43:17
beachmat.hdf5/-2025-02-11 16:43:17
beachmat.tiledb/-2025-02-11 16:43:17
beadarray/-2025-02-11 16:43:17
beer/-2025-02-11 16:43:18
benchdamic/-2025-02-11 16:43:18
betaHMM/-2025-02-11 16:43:18
bettr/-2025-02-11 16:43:18
bgx/-2025-02-11 16:43:18
bigmelon/-2025-02-11 16:43:18
bioCancer/-2025-02-11 16:43:18
bioDist/-2025-02-11 16:43:19
bioassayR/-2025-02-11 16:43:18
biobroom/-2025-02-11 16:43:18
biobtreeR/-2025-02-11 16:41:54
biocGraph/-2025-02-11 16:43:18
biocViews/-2025-02-11 16:43:19
biocmake/-2025-02-11 16:43:18
biocroxytest/-2025-02-11 16:43:19
biocthis/-2025-02-11 16:43:19
biodb/-2025-02-11 16:43:19
biodbChebi/-2025-02-11 16:43:19
biodbExpasy/-2024-10-24 15:04:38
biodbHmdb/-2025-02-11 16:43:19
biodbKegg/-2024-10-24 15:04:38
biodbNcbi/-2025-02-11 16:43:19
biodbNci/-2025-02-11 16:43:19
biodbUniprot/-2025-02-11 16:43:19
biomaRt/-2025-02-11 16:43:19
biomformat/-2025-02-11 16:43:19
biomvRCNS/-2025-02-11 16:43:19
biosigner/-2025-02-11 16:43:19
biotmle/-2025-02-11 16:43:20
biovizBase/-2025-02-11 16:43:20
biscuiteer/-2025-02-11 16:43:20
blacksheepr/-2025-02-11 16:43:20
blima/-2025-02-11 16:43:20
bluster/-2025-02-11 16:43:20
bnbc/-2025-02-11 16:43:20
bnem/-2025-02-11 16:43:20
borealis/-2025-02-11 16:43:20
brainflowprobes/-2024-10-24 15:04:38
branchpointer/-2025-02-11 16:43:20
breakpointR/-2025-02-11 16:43:20
brendaDb/-2025-02-11 16:43:20
broadSeq/-2025-02-11 16:43:20
bsseq/-2025-02-11 16:43:20
bugsigdbr/-2025-02-11 16:43:20
bumphunter/-2025-02-11 16:43:21
cBioPortalData/-2025-02-11 16:43:21
cTRAP/-2025-02-11 16:43:28
cageminer/-2025-02-11 16:43:21
calm/-2025-02-11 16:43:21
canceR/-2025-02-11 16:43:21
cancerclass/-2025-02-11 16:43:21
cardelino/-2025-02-11 16:43:21
casper/-2025-02-11 16:43:21
categoryCompare/-2025-02-11 16:43:21
cbaf/-2025-02-11 16:43:21
cbpManager/-2025-02-11 16:43:22
ccImpute/-2025-02-11 16:43:22
ccfindR/-2025-02-11 16:43:22
ccmap/-2025-02-11 16:43:22
ccrepe/-2025-02-11 16:43:22
ceRNAnetsim/-2025-02-11 16:43:22
celaref/-2025-02-11 16:43:22
celda/-2025-02-11 16:43:22
cellbaseR/-2025-02-11 16:43:22
cellity/-2025-02-11 16:43:22
cellmigRation/-2025-02-11 16:43:22
cellscape/-2025-02-11 16:43:22
cellxgenedp/-2025-02-11 16:43:22
censcyt/-2025-02-11 16:43:22
cfDNAPro/-2025-02-11 16:43:23
cfTools/-2025-02-11 16:43:23
cfdnakit/-2025-02-11 16:43:23
cghMCR/-2025-02-11 16:43:23
chevreulPlot/-2025-02-11 16:43:23
chevreulProcess/-2025-02-11 16:43:23
chevreulShiny/-2025-02-11 16:43:23
chihaya/-2025-02-11 16:43:23
chimeraviz/-2025-02-11 16:43:23
chipenrich/-2025-02-11 16:43:23
chipseq/-2025-02-11 16:43:23
chopsticks/-2025-02-11 16:43:23
chromDraw/-2025-02-11 16:43:23
chromPlot/-2025-02-11 16:43:24
chromVAR/-2025-02-11 16:43:24
chromstaR/-2025-02-11 16:43:24
cicero/-2025-02-11 16:43:24
circRNAprofiler/-2025-02-11 16:43:24
cisPath/-2025-02-11 16:43:24
cleanUpdTSeq/-2025-02-11 16:43:24
cleaver/-2025-02-11 16:43:24
clevRvis/-2025-02-11 16:43:24
cliProfiler/-2025-02-11 16:43:24
clippda/-2025-02-11 16:43:24
clipper/-2025-02-11 16:43:24
cliqueMS/-2025-02-11 16:43:24
clst/-2025-02-11 16:43:24
clstutils/-2025-02-11 16:43:24
clustComp/-2025-02-11 16:43:24
clusterExperiment/-2025-02-11 16:43:24
clusterProfiler/-2025-02-11 16:43:24
clusterSeq/-2025-02-11 16:43:25
clusterStab/-2025-02-11 16:43:25
clustifyr/-2025-02-11 16:43:25
cmapR/-2025-02-11 16:43:25
cn.farms/-2025-02-11 16:43:25
cn.mops/-2025-02-11 16:43:25
cnvGSA/-2025-02-11 16:43:25
coGPS/-2025-02-11 16:43:26
coMET/-2025-02-11 16:43:26
coMethDMR/-2025-02-11 16:43:26
coRdon/-2025-02-11 16:43:26
codelink/-2025-02-11 16:43:25
cogena/-2025-02-11 16:43:25
cogeqc/-2025-02-11 16:43:25
cola/-2025-02-11 16:43:26
comapr/-2025-02-11 16:43:26
combi/-2025-02-11 16:43:26
compEpiTools/-2025-02-11 16:43:26
compSPOT/-2025-02-11 16:43:26
compcodeR/-2025-02-11 16:43:26
concordexR/-2025-02-11 16:43:26
condiments/-2025-02-11 16:43:26
consICA/-2025-02-11 16:43:26
consensus/-2025-02-11 16:43:26
consensusDE/-2025-02-11 16:43:26
consensusOV/-2025-02-11 16:43:26
consensusSeekeR/-2025-02-11 16:43:26
conumee/-2025-02-11 16:43:26
convert/-2025-02-11 16:43:26
copa/-2025-02-11 16:43:26
corral/-2025-02-11 16:43:27
coseq/-2025-02-11 16:43:27
cosmiq/-2025-02-11 16:43:27
cosmosR/-2025-02-11 16:43:27
countsimQC/-2025-02-11 16:43:27
covEB/-2025-02-11 16:43:27
covRNA/-2025-02-11 16:43:27
cpvSNP/-2025-02-11 16:43:27
cqn/-2025-02-11 16:43:27
crisprBase/-2025-02-11 16:43:27
crisprBowtie/-2025-02-11 16:43:27
crisprBwa/-2025-02-11 16:43:27
crisprDesign/-2025-02-11 16:43:27
crisprScore/-2025-02-11 16:43:27
crisprShiny/-2025-02-11 16:43:27
crisprVerse/-2025-02-11 16:43:27
crisprViz/-2025-02-11 16:43:27
crlmm/-2025-02-11 16:43:27
crossmeta/-2025-02-11 16:43:27
csaw/-2025-02-11 16:43:28
csdR/-2025-02-11 16:43:28
ctc/-2025-02-11 16:43:28
ctsGE/-2025-02-11 16:43:28
cummeRbund/-2025-02-11 16:43:28
customCMPdb/-2025-02-11 16:43:28
customProDB/-2025-02-11 16:43:28
cyanoFilter/-2025-02-11 16:43:28
cycle/-2025-02-11 16:43:28
cydar/-2025-02-11 16:43:28
cypress/-2025-02-11 16:43:28
cytoKernel/-2025-02-11 16:43:28
cytoMEM/-2025-02-11 16:43:28
cytofQC/-2025-02-11 16:43:28
cytolib/-2025-02-11 16:43:28
cytomapper/-2025-02-11 16:43:28
cytoviewer/-2025-02-11 16:43:29
dStruct/-2025-02-11 16:43:32
daMA/-2025-02-11 16:43:29
dada2/-2025-02-11 16:43:29
dagLogo/-2025-02-11 16:43:29
dar/-2025-02-11 16:43:29
dcGSA/-2025-02-11 16:43:29
dcanr/-2025-02-11 16:43:29
dce/-2025-02-11 16:43:29
ddCt/-2025-02-11 16:43:29
ddPCRclust/-2025-02-11 16:43:29
dearseq/-2025-02-11 16:43:29
debCAM/-2025-02-11 16:43:29
debrowser/-2025-02-11 16:43:29
decompTumor2Sig/-2025-02-11 16:43:29
decontX/-2025-02-11 16:43:29
decontam/-2025-02-11 16:43:29
deconvR/-2025-02-11 16:43:29
decoupleR/-2025-02-11 16:43:29
deepSNV/-2025-02-11 16:43:29
deltaCaptureC/-2025-02-11 16:43:30
deltaGseg/-2025-02-11 16:43:30
demuxSNP/-2025-02-11 16:43:30
demuxmix/-2025-02-11 16:43:30
densvis/-2025-02-11 16:43:30
derfinder/-2025-02-11 16:43:30
derfinderHelper/-2025-02-11 16:43:30
derfinderPlot/-2025-02-11 16:43:30
destiny/-2025-02-11 16:43:31
diffGeneAnalysis/-2025-02-11 16:43:31
diffHic/-2025-02-11 16:43:31
diffUTR/-2025-02-11 16:43:31
diffcoexp/-2025-02-11 16:43:31
diffcyt/-2025-02-11 16:43:31
diffuStats/-2025-02-11 16:43:31
diggit/-2025-02-11 16:43:31
dinoR/-2025-02-11 16:43:31
dir.expiry/-2025-02-11 16:43:31
discordant/-2025-02-11 16:43:31
distinct/-2025-02-11 16:43:31
dittoSeq/-2025-02-11 16:43:31
divergence/-2025-02-11 16:43:32
dks/-2025-02-11 16:43:32
dmrseq/-2025-02-11 16:43:32
dominoSignal/-2025-02-11 16:43:32
doppelgangR/-2025-02-11 16:43:32
doseR/-2025-02-11 16:43:32
doubletrouble/-2025-02-11 16:43:32
drawProteins/-2025-02-11 16:43:32
dreamlet/-2025-02-11 16:43:32
drugTargetInteractions/-2025-02-11 16:43:32
dupRadar/-2025-02-11 16:43:33
dyebias/-2025-02-11 16:43:33
easier/-2025-02-11 16:43:33
easyRNASeq/-2025-02-11 16:43:33
easylift/-2025-02-11 16:43:33
easyreporting/-2025-02-11 16:43:33
ecolitk/-2025-02-11 16:43:33
edge/-2025-02-11 16:43:33
edgeR/-2025-02-11 16:43:33
eds/-2025-02-11 16:43:33
eiR/-2025-02-11 16:43:33
eisaR/-2025-02-11 16:43:33
enhancerHomologSearch/-2025-02-11 16:43:34
enrichViewNet/-2025-02-11 16:43:34
enrichplot/-2025-02-11 16:43:34
ensembldb/-2025-02-11 16:43:34
epiNEM/-2025-02-11 16:43:34
epialleleR/-2025-02-11 16:43:34
epidecodeR/-2025-02-11 16:43:34
epigenomix/-2025-02-11 16:43:34
epigraHMM/-2025-02-11 16:43:34
epimutacions/-2025-02-11 16:43:34
epiregulon/-2025-02-11 16:43:34
epiregulon.extra/-2025-02-11 16:43:34
epistack/-2025-02-11 16:43:34
epistasisGA/-2025-02-11 16:43:34
epivizr/-2025-02-11 16:43:34
epivizrChart/-2025-02-11 16:43:34
epivizrData/-2025-02-11 16:43:34
epivizrServer/-2025-02-11 16:43:34
epivizrStandalone/-2025-02-11 16:43:35
erccdashboard/-2025-02-11 16:43:35
erma/-2025-02-11 16:43:35
esATAC/-2025-02-11 16:43:35
escape/-2025-02-11 16:43:35
escheR/-2025-02-11 16:43:35
esetVis/-2025-02-11 16:43:35
eudysbiome/-2025-02-11 16:43:35
evaluomeR/-2025-02-11 16:43:35
extraChIPs/-2025-02-11 16:43:35
fCCAC/-2025-02-11 16:43:36
fCI/-2025-02-11 16:43:36
fabia/-2025-02-11 16:43:35
factDesign/-2025-02-11 16:43:35
factR/-2025-02-11 16:43:35
faers/-2025-02-11 16:43:35
famat/-2025-02-11 16:43:35
fastLiquidAssociation/-2025-02-11 16:43:35
fastreeR/-2025-02-11 16:43:35
fastseg/-2025-02-11 16:43:36
fcScan/-2025-02-11 16:43:36
fdrame/-2025-02-11 16:43:36
fedup/-2025-02-11 16:43:36
fenr/-2025-02-11 16:43:36
ffpe/-2025-02-11 16:43:36
fgga/-2025-02-11 16:43:36
fgsea/-2025-02-11 16:43:36
findIPs/-2025-02-11 16:43:36
fishpond/-2025-02-11 16:43:36
flagme/-2025-02-11 16:43:36
flowAI/-2025-02-11 16:43:36
flowBeads/-2025-02-11 16:43:36
flowBin/-2025-02-11 16:43:36
flowCHIC/-2025-02-11 16:43:36
flowClean/-2025-02-11 16:43:36
flowClust/-2025-02-11 16:43:36
flowCore/-2025-02-11 16:43:37
flowCut/-2025-02-11 16:43:37
flowCyBar/-2025-02-11 16:43:37
flowDensity/-2025-02-11 16:43:37
flowFP/-2025-02-11 16:43:37
flowGate/-2025-02-11 16:43:37
flowGraph/-2025-02-11 16:43:37
flowMatch/-2025-02-11 16:43:37
flowMeans/-2025-02-11 16:43:37
flowMerge/-2025-02-11 16:43:37
flowPeaks/-2025-02-11 16:43:37
flowPloidy/-2025-02-11 16:43:37
flowPlots/-2025-02-11 16:43:37
flowSpecs/-2025-02-11 16:43:37
flowStats/-2025-02-11 16:43:37
flowTime/-2025-02-11 16:43:37
flowTrans/-2025-02-11 16:43:37
flowVS/-2025-02-11 16:43:37
flowViz/-2025-02-11 16:43:37
flowWorkspace/-2025-02-11 16:43:37
flowcatchR/-2025-02-11 16:43:36
fmcsR/-2025-02-11 16:43:37
fmrs/-2025-02-11 16:43:37
fobitools/-2025-02-11 16:43:37
frenchFISH/-2025-02-11 16:43:37
frma/-2025-02-11 16:43:37
frmaTools/-2025-02-11 16:43:37
funOmics/-2025-02-11 16:43:38
funtooNorm/-2025-02-11 16:43:38
gCrisprTools/-2025-02-11 16:43:38
gDNAx/-2025-02-11 16:43:38
gDR/-2025-02-11 16:43:38
gDRcore/-2025-02-11 16:43:38
gDRimport/-2025-02-11 16:43:38
gDRstyle/-2025-02-11 16:43:38
gDRutils/-2025-02-11 16:43:38
gINTomics/-2025-02-11 16:43:41
gaga/-2025-02-11 16:43:38
gage/-2025-02-11 16:43:38
garfield/-2025-02-11 16:43:38
gatom/-2025-02-11 16:43:38
gcapc/-2025-02-11 16:43:38
gcatest/-2025-02-11 16:43:38
gcrma/-2025-02-11 16:43:38
gdsfmt/-2025-02-11 16:43:38
geNetClassifier/-2025-02-11 16:43:39
gemini/-2025-02-11 16:43:39
gemma.R/-2025-02-11 16:43:39
genArise/-2025-02-11 16:43:39
geneAttribution/-2025-02-11 16:43:39
geneClassifiers/-2025-02-11 16:43:39
geneRecommender/-2025-02-11 16:43:39
geneRxCluster/-2025-02-11 16:43:39
geneXtendeR/-2025-02-11 16:43:39
genefilter/-2025-02-11 16:43:39
genefu/-2025-02-11 16:43:39
geneplast/-2025-02-11 16:43:39
geneplotter/-2025-02-11 16:43:39
genoCN/-2025-02-11 16:43:39
genomation/-2025-02-11 16:43:39
genomeIntervals/-2025-02-11 16:43:40
genomes/-2025-02-11 16:43:40
genomicInstability/-2025-02-11 16:43:40
geomeTriD/-2025-02-11 16:43:40
gep2pep/-2025-02-11 16:43:41
gespeR/-2025-02-11 16:43:41
getDEE2/-2025-02-11 16:43:41
geva/-2025-02-11 16:43:41
geyser/-2025-02-11 16:43:41
gg4way/-2025-02-11 16:43:41
ggbio/-2025-02-11 16:43:41
ggcyto/-2025-02-11 16:43:41
ggkegg/-2025-02-11 16:43:41
ggmanh/-2025-02-11 16:43:41
ggmsa/-2025-02-11 16:43:41
ggsc/-2025-02-11 16:43:41
ggseqalign/-2025-02-11 16:43:41
ggspavis/-2025-02-11 16:43:41
ggtree/-2025-02-11 16:43:41
ggtreeDendro/-2025-02-11 16:43:41
ggtreeExtra/-2025-02-11 16:43:41
ggtreeSpace/-2025-02-11 16:43:41
ginmappeR/-2025-02-11 16:43:41
girafe/-2025-02-11 16:43:41
glmGamPoi/-2025-02-11 16:43:42
glmSparseNet/-2025-02-11 16:43:42
globalSeq/-2025-02-11 16:43:42
globaltest/-2025-02-11 16:43:42
gmapR/-2025-02-11 16:43:42
gmoviz/-2025-02-11 16:43:42
goProfiles/-2025-02-11 16:43:42
goSTAG/-2025-02-11 16:43:42
goSorensen/-2025-02-11 16:43:42
goTools/-2025-02-11 16:43:42
goseq/-2025-02-11 16:43:42
gpls/-2025-02-11 16:43:42
gpuMagic/-2025-02-11 16:43:42
granulator/-2025-02-11 16:43:43
graper/-2025-02-11 16:43:43
graph/-2025-02-11 16:43:43
graphite/-2025-02-11 16:43:43
groHMM/-2025-02-11 16:43:43
gscreend/-2025-02-11 16:43:43
gsean/-2025-02-11 16:43:43
gtrellis/-2025-02-11 16:43:43
gwascat/-2025-02-11 16:43:44
gwasurvivr/-2025-02-11 16:43:44
gypsum/-2025-02-11 16:43:44
h5mread/-2025-02-11 16:43:44
h5vc/-2025-02-11 16:43:44
hapFabia/-2025-02-11 16:43:44
hca/-2025-02-11 16:43:44
hdxmsqc/-2025-02-11 16:43:44
heatmaps/-2025-02-11 16:43:44
hermes/-2025-02-11 16:43:44
hiAnnotator/-2025-02-11 16:43:45
hiReadsProcessor/-2025-02-11 16:43:45
hicVennDiagram/-2025-02-11 16:43:45
hierGWAS/-2025-02-11 16:43:45
hierinf/-2025-02-11 16:43:45
hipathia/-2025-02-11 16:43:45
hmdbQuery/-2025-02-11 16:43:45
hoodscanR/-2025-02-11 16:43:45
hopach/-2025-02-11 16:43:45
hpar/-2025-02-11 16:43:45
hummingbird/-2025-02-11 16:43:46
hypeR/-2025-02-11 16:43:46
hyperdraw/-2025-02-11 16:43:46
hypergraph/-2025-02-11 16:43:46
iASeq/-2025-02-11 16:43:46
iBBiG/-2025-02-11 16:43:46
iBMQ/-2025-02-11 16:40:55
iCARE/-2025-02-11 16:43:46
iCNV/-2025-02-11 16:43:46
iCOBRA/-2025-02-11 16:43:46
iCheck/-2025-02-11 16:43:46
iChip/-2025-02-11 16:43:46
iClusterPlus/-2025-02-11 16:43:46
iGC/-2025-02-11 16:43:47
iNETgrate/-2025-02-11 16:43:47
iPAC/-2025-02-11 16:43:48
iPath/-2025-02-11 16:43:48
iSEE/-2025-02-11 16:43:48
iSEEde/-2025-02-11 16:43:48
iSEEfier/-2025-02-11 16:43:48
iSEEhex/-2025-02-11 16:43:48
iSEEhub/-2025-02-11 16:43:48
iSEEindex/-2025-02-11 16:43:48
iSEEpathways/-2025-02-11 16:43:48
iSEEtree/-2025-02-11 16:43:48
iSEEu/-2025-02-11 16:43:48
iSeq/-2025-02-11 16:43:48
iasva/-2025-02-11 16:43:46
ibh/-2025-02-11 16:43:46
icetea/-2025-02-11 16:43:46
ideal/-2025-02-11 16:43:46
idiogram/-2025-02-11 16:43:46
idpr/-2025-02-11 16:43:46
idr2d/-2025-02-11 16:43:47
igvR/-2025-02-11 16:43:47
igvShiny/-2025-02-11 16:43:47
illuminaio/-2025-02-11 16:43:47
imcRtools/-2025-02-11 16:43:47
immApex/-2025-02-11 16:43:47
immunoClust/-2025-02-11 16:43:47
immunogenViewer/-2025-02-11 16:43:47
immunotation/-2025-02-11 16:43:47
impute/-2025-02-11 16:43:47
infercnv/-2025-02-11 16:43:47
infinityFlow/-2025-02-11 16:43:47
intansv/-2025-02-11 16:43:48
interacCircos/-2025-02-11 16:43:48
interactiveDisplay/-2025-02-11 16:43:48
interactiveDisplayBase/-2025-02-11 16:43:48
ipdDb/-2025-02-11 16:43:48
isobar/-2025-02-11 16:43:49
isomiRs/-2025-02-11 16:43:49
iterativeBMA/-2025-02-11 16:43:49
iterativeBMAsurv/-2025-02-11 16:43:49
ivygapSE/-2025-02-11 16:43:49
karyoploteR/-2025-02-11 16:43:49
katdetectr/-2025-02-11 16:43:49
kebabs/-2025-02-11 16:43:49
keggorthology/-2025-02-11 16:43:49
kissDE/-2025-02-11 16:43:49
kmcut/-2025-02-11 16:43:49
knowYourCG/-2025-02-11 16:43:49
koinar/-2025-02-11 16:43:49
lapmix/-2025-02-11 16:43:50
ldblock/-2025-02-11 16:43:50
lefser/-2025-02-11 16:43:50
lemur/-2025-02-11 16:43:50
les/-2025-02-11 16:43:50
levi/-2025-02-11 16:43:50
lfa/-2025-02-11 16:43:50
limma/-2025-02-11 16:43:50
limmaGUI/-2025-02-11 16:43:50
limpca/-2025-02-11 16:43:50
lineagespot/-2025-02-11 16:43:50
lionessR/-2025-02-11 16:43:50
lipidr/-2025-02-11 16:43:50
lisaClust/-2025-02-11 16:43:50
lmdme/-2025-02-11 16:43:50
loci2path/-2025-02-11 16:43:50
logicFS/-2025-02-11 16:43:50
lpNet/-2025-02-11 16:43:51
lpsymphony/-2025-02-11 16:43:51
lumi/-2025-02-11 16:43:51
lute/-2025-02-11 16:43:51
m6Aboost/-2025-02-11 16:43:51
mBPCR/-2025-02-11 16:43:52
mCSEA/-2025-02-11 16:43:53
maCorrPlot/-2025-02-11 16:43:51
maPredictDSC/-2025-02-11 16:43:52
maSigPro/-2025-02-11 16:43:52
maaslin3/-2025-02-11 16:43:51
made4/-2025-02-11 16:43:51
maftools/-2025-02-11 16:43:51
magpie/-2025-02-11 16:43:51
magrene/-2025-02-11 16:43:51
makecdfenv/-2025-02-11 16:43:51
mapscape/-2025-02-11 16:43:52
mariner/-2025-02-11 16:43:52
marr/-2025-02-11 16:43:52
marray/-2025-02-11 16:43:52
martini/-2025-02-11 16:43:52
maser/-2025-02-11 16:43:52
maskBAD/-2025-02-11 16:43:52
massiR/-2025-02-11 16:43:52
mastR/-2025-02-11 16:43:52
matchBox/-2025-02-11 16:43:52
matter/-2025-02-11 16:43:52
mbQTL/-2025-02-11 16:43:53
mbkmeans/-2025-02-11 16:43:52
mdp/-2025-02-11 16:43:53
mdqc/-2025-02-11 16:43:53
megadepth/-2025-02-11 16:43:53
memes/-2025-02-11 16:43:53
meshes/-2025-02-11 16:43:53
meshr/-2025-02-11 16:43:53
messina/-2025-02-11 16:43:53
metaCCA/-2025-02-11 16:43:54
metaMS/-2025-02-11 16:43:54
metaSeq/-2025-02-11 16:43:54
metabCombiner/-2025-02-11 16:43:53
metabinR/-2025-02-11 16:43:53
metabolomicsWorkbenchR/-2025-02-11 16:43:54
metabomxtr/-2025-02-11 16:43:54
metagene2/-2025-02-11 16:43:54
metagenomeSeq/-2025-02-11 16:43:54
metahdep/-2025-02-11 16:43:54
metapod/-2025-02-11 16:43:54
metapone/-2025-02-11 16:43:54
metaseqR2/-2025-02-11 16:43:54
methInheritSim/-2025-02-11 16:43:54
methimpute/-2025-02-11 16:43:54
methodical/-2025-02-11 16:43:54
methrix/-2025-02-11 16:43:54
methyLImp2/-2025-02-11 16:43:54
methylCC/-2025-02-11 16:43:54
methylGSA/-2025-02-11 16:43:54
methylInheritance/-2025-02-11 16:43:55
methylKit/-2025-02-11 16:43:55
methylMnM/-2025-02-11 16:43:55
methylPipe/-2025-02-11 16:43:55
methylSig/-2025-02-11 16:43:55
methylclock/-2025-02-11 16:43:54
methylscaper/-2025-02-11 16:43:55
methylumi/-2025-02-11 16:43:55
mfa/-2025-02-11 16:43:55
mgsa/-2025-02-11 16:43:55
miQC/-2025-02-11 16:43:56
miRBaseConverter/-2025-02-11 16:43:56
miRLAB/-2025-02-11 16:43:56
miRNAmeConverter/-2025-02-11 16:43:56
miRNApath/-2025-02-11 16:43:56
miRNAtap/-2025-02-11 16:43:56
miRSM/-2025-02-11 16:43:56
miRcomp/-2025-02-11 16:43:56
miRspongeR/-2025-02-11 16:43:56
mia/-2025-02-11 16:43:55
miaSim/-2025-02-11 16:43:55
miaViz/-2025-02-11 16:43:55
microRNA/-2025-02-11 16:43:55
microSTASIS/-2025-02-11 16:43:56
microbiome/-2025-02-11 16:43:55
microbiomeDASim/-2025-02-11 16:43:55
microbiomeExplorer/-2025-02-11 16:43:55
microbiomeMarker/-2024-10-24 15:04:41
midasHLA/-2025-02-11 16:43:56
miloR/-2025-02-11 16:43:56
mimager/-2025-02-11 16:43:56
mina/-2025-02-11 16:43:56
minet/-2025-02-11 16:43:56
minfi/-2025-02-11 16:43:56
mirIntegrator/-2025-02-11 16:43:56
mirTarRnaSeq/-2025-02-11 16:43:56
missMethyl/-2025-02-11 16:43:56
missRows/-2025-02-11 16:43:56
mist/-2025-02-11 16:43:56
mistyR/-2025-02-11 16:43:57
mitch/-2025-02-11 16:43:57
mitoClone2/-2025-02-11 16:43:57
mixOmics/-2025-02-11 16:43:57
mnem/-2025-02-11 16:43:57
moanin/-2025-02-11 16:43:57
mobileRNA/-2025-02-11 16:43:57
mogsa/-2025-02-11 16:43:57
monaLisa/-2025-02-11 16:43:57
monocle/-2025-02-11 16:43:57
mosaics/-2025-02-11 16:43:57
mosbi/-2025-02-11 16:43:57
mosdef/-2025-02-11 16:43:58
motifStack/-2025-02-11 16:43:58
motifTestR/-2025-02-11 16:43:58
motifbreakR/-2025-02-11 16:43:58
motifcounter/-2025-02-11 16:43:58
motifmatchr/-2025-02-11 16:43:58
mpra/-2025-02-11 16:43:58
msImpute/-2025-02-11 16:43:59
msPurity/-2025-02-11 16:43:59
msa/-2025-02-11 16:43:58
msgbsR/-2025-02-11 16:43:59
mslp/-2025-02-11 16:43:59
msmsEDA/-2025-02-11 16:43:59
msmsTests/-2025-02-11 16:43:59
mspms/-2025-02-11 16:43:59
msqrob2/-2025-02-11 16:43:59
multiClust/-2025-02-11 16:44:00
multiGSEA/-2025-02-11 16:44:00
multiHiCcompare/-2025-02-11 16:44:00
multiMiR/-2025-02-11 16:44:00
multiWGCNA/-2025-02-11 16:44:00
multicrispr/-2025-02-11 16:44:00
multiscan/-2025-02-11 16:44:00
multistateQTL/-2025-02-11 16:44:00
multtest/-2025-02-11 16:44:00
mumosa/-2025-02-11 16:44:00
muscat/-2025-02-11 16:44:00
muscle/-2025-02-11 16:44:00
musicatk/-2025-02-11 16:44:00
mygene/-2025-02-11 16:44:00
myvariant/-2025-02-11 16:44:00
mzID/-2025-02-11 16:44:00
mzR/-2025-02-11 16:44:00
nanotatoR/-2024-10-24 15:04:41
ncGTW/-2025-02-11 16:44:01
ncRNAtools/-2025-02-11 16:44:01
ncdfFlow/-2025-02-11 16:44:01
ndexr/-2025-02-11 16:44:01
nearBynding/-2025-02-11 16:44:01
nempi/-2025-02-11 16:44:01
netDx/-2025-02-11 16:44:01
netOmics/-2024-10-24 15:04:41
netSmooth/-2025-02-11 16:44:01
netZooR/-2025-02-11 16:44:01
netboost/-2025-02-11 16:44:01
nethet/-2025-02-11 16:44:01
netprioR/-2025-02-11 16:44:01
netresponse/-2025-02-11 16:44:01
ngsReports/-2025-02-11 16:44:01
nipalsMCIA/-2025-02-11 16:44:01
nnNorm/-2025-02-11 16:44:02
nnSVG/-2025-02-11 16:44:02
nondetects/-2025-02-11 16:44:02
normalize450K/-2025-02-11 16:44:02
normr/-2025-02-11 16:44:02
npGSEA/-2025-02-11 16:44:02
nuCpos/-2025-02-11 16:44:02
nucleR/-2025-02-11 16:44:02
nucleoSim/-2025-02-11 16:44:02
nullranges/-2025-02-11 16:44:02
occugene/-2025-02-11 16:44:02
octad/-2025-02-11 16:44:02
odseq/-2025-02-11 16:44:02
oligo/-2025-02-11 16:44:02
oligoClasses/-2025-02-11 16:44:02
omXplore/-2025-02-11 16:44:03
omada/-2025-02-11 16:44:03
omicRexposome/-2025-02-11 16:44:03
omicade4/-2025-02-11 16:44:03
omicplotR/-2025-02-11 16:44:03
omicsPrint/-2025-02-11 16:44:03
omicsViewer/-2025-02-11 16:44:03
ompBAM/-2025-02-11 16:44:03
oncomix/-2025-02-11 16:44:03
oncoscanR/-2025-02-11 16:44:03
onlineFDR/-2025-02-11 16:44:03
ontoProc/-2025-02-11 16:44:03
openCyto/-2025-02-11 16:44:03
openPrimeR/-2025-02-11 16:44:03
oposSOM/-2025-02-11 16:44:03
oppar/-2025-02-11 16:44:03
oppti/-2025-02-11 16:44:03
optimalFlow/-2025-02-11 16:44:03
orthogene/-2025-02-11 16:44:04
orthos/-2025-02-11 16:44:04
pRoloc/-2025-02-11 16:44:08
pRolocGUI/-2025-02-11 16:44:08
packFinder/-2025-02-11 16:44:04
padma/-2025-02-11 16:44:04
pageRank/-2025-02-11 16:44:04
paircompviz/-2025-02-11 16:44:04
pairedGSEA/-2025-02-11 16:44:04
pairkat/-2025-02-11 16:44:04
pandaR/-2025-02-11 16:44:04
panelcn.mops/-2025-02-11 16:44:04
panp/-2025-02-11 16:44:04
pareg/-2025-02-11 16:44:05
parglms/-2025-02-11 16:44:05
parody/-2025-02-11 16:44:05
partCNV/-2025-02-11 16:44:05
pathRender/-2025-02-11 16:44:05
pathifier/-2025-02-11 16:44:05
pathlinkR/-2025-02-11 16:44:05
pathview/-2025-02-11 16:44:05
pathwayPCA/-2025-02-11 16:44:05
paxtoolsr/-2025-02-11 16:44:05
pcaExplorer/-2025-02-11 16:44:05
pcaMethods/-2025-02-11 16:44:05
pdInfoBuilder/-2025-02-11 16:44:05
peakPantheR/-2025-02-11 16:44:05
peco/-2025-02-11 16:44:05
pengls/-2025-02-11 16:44:05
pepStat/-2025-02-11 16:44:06
pepXMLTab/-2025-02-11 16:44:06
periodicDNA/-2025-02-11 16:44:06
pfamAnalyzeR/-2025-02-11 16:44:06
pgca/-2025-02-11 16:44:06
pgxRpi/-2025-02-11 16:44:06
phantasus/-2025-02-11 16:44:06
phantasusLite/-2025-02-11 16:44:06
phenoTest/-2025-02-11 16:44:06
phenomis/-2025-02-11 16:44:06
phenopath/-2025-02-11 16:44:06
philr/-2025-02-11 16:44:06
phosphonormalizer/-2025-02-11 16:44:06
phyloseq/-2025-02-11 16:44:06
piano/-2025-02-11 16:44:06
pickgene/-2025-02-11 16:44:06
pipeComp/-2025-02-11 16:44:07
pipeFrame/-2025-02-11 16:44:07
planet/-2025-02-11 16:44:07
planttfhunter/-2025-02-11 16:44:07
plasmut/-2025-02-11 16:44:07
plgem/-2025-02-11 16:44:07
plier/-2025-02-11 16:44:07
plotGrouper/-2025-02-11 16:44:07
plotgardener/-2025-02-11 16:44:07
plyinteractions/-2025-02-11 16:44:07
plyranges/-2025-02-11 16:44:07
plyxp/-2025-02-11 16:44:07
pmm/-2025-02-11 16:44:07
pmp/-2025-02-11 16:44:07
podkat/-2025-02-11 16:44:07
pogos/-2025-02-11 16:44:07
polyester/-2024-10-24 15:04:42
powerTCR/-2025-02-11 16:44:08
ppcseq/-2025-02-11 16:44:08
pqsfinder/-2025-02-11 16:44:08
pram/-2025-02-11 16:44:08
prebs/-2025-02-11 16:44:08
preciseTAD/-2025-02-11 16:44:08
preprocessCore/-2025-02-11 16:44:08
primirTSS/-2025-02-11 16:44:08
proActiv/-2025-02-11 16:44:08
proBAMr/-2025-02-11 16:44:08
proDA/-2025-02-11 16:44:08
procoil/-2025-02-11 16:44:08
profileScoreDist/-2025-02-11 16:44:08
profileplyr/-2025-02-11 16:44:08
progeny/-2025-02-11 16:44:08
projectR/-2025-02-11 16:44:08
protGear/-2025-02-11 16:44:09
proteinProfiles/-2025-02-11 16:44:09
psichomics/-2025-02-11 16:44:09
psygenet2r/-2024-10-24 15:04:42
ptairMS/-2025-02-11 16:44:09
puma/-2025-02-11 16:44:09
pvac/-2025-02-11 16:44:09
pvca/-2025-02-11 16:44:09
pwalign/-2025-02-11 16:44:09
qPLEXanalyzer/-2025-02-11 16:44:10
qckitfastq/-2025-02-11 16:44:09
qcmetrics/-2025-02-11 16:44:09
qmtools/-2025-02-11 16:44:09
qpcrNorm/-2025-02-11 16:44:09
qpgraph/-2025-02-11 16:44:09
qsea/-2025-02-11 16:44:10
qsmooth/-2025-02-11 16:44:10
qsvaR/-2025-02-11 16:44:10
quantiseqr/-2025-02-11 16:44:10
quantro/-2025-02-11 16:44:10
quantsmooth/-2025-02-11 16:44:10
qusage/-2025-02-11 16:44:10
qvalue/-2025-02-11 16:44:10
r3Cseq/-2025-02-11 16:44:10
rBLAST/-2025-02-11 16:44:11
rBiopaxParser/-2025-02-11 16:44:11
rCGH/-2025-02-11 16:44:11
rDGIdb/-2024-10-24 15:04:42
rGADEM/-2025-02-11 16:44:13
rGREAT/-2025-02-11 16:44:14
rGenomeTracks/-2025-02-11 16:44:13
rRDP/-2025-02-11 16:44:16
rSWeeP/-2025-02-11 16:44:16
rScudo/-2025-02-11 16:44:16
rTRM/-2025-02-11 16:44:17
rTRMui/-2025-02-11 16:44:17
rWikiPathways/-2025-02-11 16:44:17
raer/-2025-02-11 16:44:10
rain/-2025-02-11 16:44:10
ramr/-2025-02-11 16:44:10
ramwas/-2025-02-11 16:44:11
randPack/-2025-02-11 16:44:11
randRotation/-2025-02-11 16:44:11
rawDiag/-2025-02-11 16:44:11
rawrr/-2025-02-11 16:44:11
rbsurv/-2025-02-11 16:44:11
rcellminer/-2025-02-11 16:44:11
rebook/-2025-02-11 16:44:12
receptLoss/-2025-02-11 16:44:12
reconsi/-2025-02-11 16:44:12
recount/-2025-02-11 16:44:12
recount3/-2025-02-11 16:44:12
recountmethylation/-2025-02-11 16:44:12
recoup/-2025-02-11 16:44:12
regionReport/-2025-02-11 16:44:13
regionalpcs/-2025-02-11 16:44:13
regioneR/-2025-02-11 16:44:13
regioneReloaded/-2025-02-11 16:44:13
regsplice/-2025-02-11 16:44:13
regutools/-2025-02-11 16:44:13
retrofit/-2025-02-11 16:44:13
rexposome/-2025-02-11 16:44:13
rfPred/-2025-02-11 16:44:13
rfaRm/-2025-02-11 16:44:13
rgoslin/-2025-02-11 16:44:13
rgsepd/-2025-02-11 16:44:14
rhdf5/-2025-02-11 16:44:14
rhdf5client/-2025-02-11 16:44:14
rhdf5filters/-2025-02-11 16:44:14
rhinotypeR/-2025-02-11 16:44:14
riboSeqR/-2025-02-11 16:44:14
ribor/-2025-02-11 16:44:14
ribosomeProfilingQC/-2025-02-11 16:44:14
rifi/-2025-02-11 16:44:14
rifiComparative/-2025-02-11 16:44:14
rmelting/-2025-02-11 16:44:15
rmspc/-2025-02-11 16:44:15
rnaEditr/-2025-02-11 16:44:15
rnaseqcomp/-2025-02-11 16:44:15
roar/-2025-02-11 16:44:15
roastgsa/-2025-02-11 16:44:15
rols/-2025-02-11 16:44:15
ropls/-2025-02-11 16:44:16
rprimer/-2025-02-11 16:44:16
rpx/-2025-02-11 16:44:16
rqt/-2025-02-11 16:44:16
rqubic/-2025-02-11 16:44:16
rrvgo/-2025-02-11 16:44:16
rsbml/-2025-02-11 16:41:28
rsemmed/-2025-02-11 16:44:16
rtracklayer/-2025-02-11 16:44:17
runibic/-2025-02-11 16:41:28
sRACIPE/-2025-02-11 16:44:26
sSNAPPY/-2025-02-11 16:44:26
sSeq/-2025-02-11 16:44:26
safe/-2025-02-11 16:44:17
sagenhaft/-2025-02-11 16:44:17
sampleClassifier/-2025-02-11 16:44:17
sangeranalyseR/-2025-02-11 16:44:17
sangerseqR/-2025-02-11 16:44:17
sarks/-2025-02-11 16:44:18
saseR/-2025-02-11 16:44:18
satuRn/-2025-02-11 16:44:18
scAnnotatR/-2025-02-11 16:44:18
scBFA/-2025-02-11 16:44:18
scBubbletree/-2025-02-11 16:44:18
scCB2/-2025-02-11 16:44:18
scClassify/-2025-02-11 16:44:18
scDD/-2025-02-11 16:44:19
scDDboost/-2025-02-11 16:44:19
scDataviz/-2025-02-11 16:44:18
scDblFinder/-2025-02-11 16:44:18
scDesign3/-2025-02-11 16:44:19
scDiagnostics/-2025-02-11 16:44:19
scDotPlot/-2025-02-11 16:44:19
scFeatureFilter/-2025-02-11 16:44:19
scFeatures/-2025-02-11 16:44:19
scGPS/-2025-02-11 16:44:19
scHOT/-2025-02-11 16:44:19
scMET/-2025-02-11 16:44:19
scMerge/-2025-02-11 16:44:19
scMitoMut/-2025-02-11 16:44:19
scMultiSim/-2025-02-11 16:44:19
scPCA/-2025-02-11 16:44:20
scPipe/-2025-02-11 16:44:20
scQTLtools/-2025-02-11 16:44:20
scRNAseqApp/-2025-02-11 16:44:20
scReClassify/-2025-02-11 16:44:20
scRecover/-2025-02-11 16:44:20
scRepertoire/-2025-02-11 16:44:20
scShapes/-2025-02-11 16:44:20
scTGIF/-2025-02-11 16:44:20
scTHI/-2025-02-11 16:44:20
scTensor/-2025-02-11 16:44:20
scTreeViz/-2025-02-11 16:44:20
scanMiR/-2025-02-11 16:44:18
scanMiRApp/-2025-02-11 16:44:18
scater/-2025-02-11 16:44:18
scatterHatch/-2025-02-11 16:44:18
sccomp/-2025-02-11 16:44:18
scde/-2025-02-11 16:44:19
scds/-2025-02-11 16:44:19
schex/-2025-02-11 16:44:19
scider/-2025-02-11 16:44:19
scifer/-2025-02-11 16:44:19
scmap/-2025-02-11 16:44:19
scmeth/-2025-02-11 16:44:19
scone/-2025-02-11 16:44:19
scoreInvHap/-2025-02-11 16:44:19
scoup/-2025-02-11 16:44:20
scp/-2025-02-11 16:44:20
scran/-2025-02-11 16:44:20
scrapper/-2025-02-11 16:44:20
screenCounter/-2025-02-11 16:44:20
scruff/-2025-02-11 16:44:20
scry/-2025-02-11 16:44:20
scuttle/-2025-02-11 16:44:20
scviR/-2025-02-11 16:44:20
seahtrue/-2025-02-11 16:44:20
sechm/-2025-02-11 16:44:20
segmentSeq/-2025-02-11 16:44:21
segmenter/-2025-02-11 16:44:21
selectKSigs/-2025-02-11 16:44:21
semisup/-2025-02-11 16:44:21
seq.hotSPOT/-2025-02-11 16:44:21
seq2pathway/-2025-02-11 16:44:21
seqArchR/-2025-02-11 16:44:21
seqArchRplus/-2025-02-11 16:44:21
seqCAT/-2025-02-11 16:44:21
seqLogo/-2025-02-11 16:44:21
seqPattern/-2025-02-11 16:44:21
seqTools/-2025-02-11 16:44:21
seqcombo/-2025-02-11 16:44:21
seqsetvis/-2025-02-11 16:44:21
sesame/-2025-02-11 16:44:21
sevenC/-2025-02-11 16:44:21
sevenbridges/-2025-02-11 16:44:21
shiny.gosling/-2025-02-11 16:44:22
shinyMethyl/-2025-02-11 16:44:22
shinyepico/-2025-02-11 16:44:22
sigFeature/-2025-02-11 16:44:22
siggenes/-2025-02-11 16:44:22
sights/-2025-02-11 16:44:22
signatureSearch/-2025-02-11 16:44:22
signeR/-2025-02-11 16:44:22
signifinder/-2025-02-11 16:44:22
sigsquared/-2025-02-11 16:44:22
simPIC/-2025-02-11 16:44:23
similaRpeak/-2025-02-11 16:44:22
simona/-2025-02-11 16:44:23
simpleSeg/-2025-02-11 16:44:23
simplifyEnrichment/-2025-02-11 16:44:23
sincell/-2025-02-11 16:44:23
single/-2024-10-24 15:04:43
singleCellTK/-2025-02-11 16:44:23
singscore/-2025-02-11 16:44:23
sitadela/-2025-02-11 16:44:23
sitePath/-2025-02-11 16:44:23
sizepower/-2025-02-11 16:44:23
sketchR/-2025-02-11 16:44:23
skewr/-2025-02-11 16:44:23
slalom/-2025-02-11 16:44:23
slingshot/-2025-02-11 16:44:23
smartid/-2025-02-11 16:44:23
smoothclust/-2025-02-11 16:44:24
smoppix/-2025-02-11 16:44:24
snapcount/-2025-02-11 16:44:24
snifter/-2025-02-11 16:44:24
snm/-2025-02-11 16:44:24
snpStats/-2025-02-11 16:44:24
soGGi/-2025-02-11 16:44:24
sosta/-2025-02-11 16:44:24
spaSim/-2025-02-11 16:44:24
sparrow/-2025-02-11 16:44:24
sparseMatrixStats/-2025-02-11 16:44:24
sparsenetgls/-2025-02-11 16:44:24
spatialDE/-2025-02-11 16:44:25
spatialFDA/-2025-02-11 16:44:25
spatialHeatmap/-2025-02-11 16:44:25
spatialSimGP/-2025-02-11 16:44:25
spatzie/-2025-02-11 16:44:25
specL/-2025-02-11 16:44:25
speckle/-2025-02-11 16:44:25
spicyR/-2025-02-11 16:44:25
spikeLI/-2025-02-11 16:44:25
spiky/-2025-02-11 16:44:25
spillR/-2025-02-11 16:44:25
spkTools/-2025-02-11 16:44:25
splatter/-2025-02-11 16:44:26
splineTimeR/-2025-02-11 16:44:26
splots/-2025-02-11 16:44:26
spoon/-2025-02-11 16:44:26
spqn/-2025-02-11 16:44:26
squallms/-2025-02-11 16:44:26
srnadiff/-2025-02-11 16:44:26
ssPATHS/-2025-02-11 16:44:26
sscu/-2025-02-11 16:44:26
ssize/-2025-02-11 16:44:26
ssrch/-2025-02-11 16:44:26
ssviz/-2025-02-11 16:44:27
stJoincount/-2025-02-11 16:44:27
staRank/-2025-02-11 16:44:27
stageR/-2025-02-11 16:44:27
standR/-2025-02-11 16:44:27
statTarget/-2025-02-11 16:44:27
stepNorm/-2025-02-11 16:44:27
strandCheckR/-2025-02-11 16:44:27
struct/-2025-02-11 16:44:27
structToolbox/-2025-02-11 16:44:27
subSeq/-2025-02-11 16:44:27
supersigs/-2025-02-11 16:44:27
supraHex/-2025-02-11 16:44:27
surfaltr/-2025-02-11 16:44:27
survClust/-2025-02-11 16:44:28
survcomp/-2025-02-11 16:44:28
survtype/-2025-02-11 16:44:28
sva/-2025-02-11 16:44:28
svaNUMT/-2025-02-11 16:44:28
svaRetro/-2025-02-11 16:44:28
swfdr/-2025-02-11 16:44:28
switchBox/-2025-02-11 16:44:28
switchde/-2025-02-11 16:44:28
synapsis/-2025-02-11 16:44:28
synapter/-2025-02-11 16:44:28
synergyfinder/-2025-02-11 16:44:28
synlet/-2025-02-11 16:44:28
syntenet/-2025-02-11 16:44:28
systemPipeR/-2025-02-11 16:44:28
systemPipeShiny/-2025-02-11 16:44:28
systemPipeTools/-2025-02-11 16:44:28
tLOH/-2025-02-11 16:44:30
tRNA/-2025-02-11 16:44:32
tRNAdbImport/-2025-02-11 16:44:32
tRNAscanImport/-2025-02-11 16:44:32
tRanslatome/-2025-02-11 16:44:31
tadar/-2025-02-11 16:44:28
tanggle/-2025-02-11 16:44:29
target/-2025-02-11 16:44:29
tenXplore/-2025-02-11 16:44:29
ternarynet/-2025-02-11 16:44:29
terraTCGAdata/-2025-02-11 16:44:29
tidyCoverage/-2025-02-11 16:44:30
tidyFlowCore/-2025-02-11 16:44:30
tidySingleCellExperiment/-2025-02-11 16:44:30
tidySpatialExperiment/-2025-02-11 16:44:30
tidySummarizedExperiment/-2025-02-11 16:44:30
tidybulk/-2025-02-11 16:44:29
tidyomics/-2025-02-11 16:44:30
tidysbml/-2025-02-11 16:44:30
tidytof/-2025-02-11 16:44:30
tigre/-2025-02-11 16:44:30
tilingArray/-2025-02-11 16:44:30
timeOmics/-2025-02-11 16:44:30
timecourse/-2025-02-11 16:44:30
timescape/-2025-02-11 16:44:30
tkWidgets/-2025-02-11 16:44:30
tomoda/-2025-02-11 16:44:30
tomoseqr/-2025-02-11 16:44:31
topGO/-2025-02-11 16:44:31
topconfects/-2025-02-11 16:44:31
topdownr/-2025-02-11 16:44:31
tpSVG/-2025-02-11 16:44:31
trackViewer/-2025-02-11 16:44:31
tracktables/-2025-02-11 16:44:31
tradeSeq/-2025-02-11 16:44:31
transcriptR/-2025-02-11 16:44:31
transcriptogramer/-2025-02-11 16:44:31
transformGamPoi/-2025-02-11 16:44:31
transite/-2025-02-11 16:44:31
transmogR/-2025-02-11 16:44:31
transomics2cytoscape/-2025-02-11 16:44:31
traseR/-2025-02-11 16:44:31
traviz/-2025-02-11 16:44:31
treeclimbR/-2025-02-11 16:44:32
treeio/-2025-02-11 16:44:32
treekoR/-2025-02-11 16:44:32
tricycle/-2025-02-11 16:44:32
trigger/-2025-02-11 16:44:32
trio/-2025-02-11 16:44:32
triplex/-2025-02-11 16:44:32
tripr/-2025-02-11 16:44:32
ttgsea/-2025-02-11 16:44:32
tweeDEseq/-2025-02-11 16:44:32
twilight/-2025-02-11 16:44:32
twoddpcr/-2025-02-11 16:44:33
txcutr/-2025-02-11 16:44:33
txdbmaker/-2025-02-11 16:44:33
tximeta/-2025-02-11 16:44:33
tximport/-2025-02-11 16:44:33
uSORT/-2025-02-11 16:44:33
uncoverappLib/-2025-02-11 16:44:33
unifiedWMWqPCR/-2025-02-11 16:44:33
universalmotif/-2025-02-11 16:44:33
updateObject/-2025-02-11 16:44:33
variancePartition/-2025-02-11 16:44:33
vbmp/-2025-02-11 16:44:34
velociraptor/-2025-02-11 16:44:34
veloviz/-2025-02-11 16:44:34
vidger/-2025-02-11 16:44:34
viper/-2025-02-11 16:44:34
visiumStitched/-2025-02-11 16:44:34
vissE/-2025-02-11 16:44:34
vsclust/-2025-02-11 16:44:34
vsn/-2025-02-11 16:44:34
vtpnet/-2025-02-11 16:44:34
vulcan/-2025-02-11 16:44:34
waddR/-2025-02-11 16:44:34
wateRmelon/-2025-02-11 16:44:34
wavClusteR/-2025-02-11 16:44:35
weaver/-2025-02-11 16:44:35
webbioc/-2025-02-11 16:44:35
weitrix/-2025-02-11 16:44:35
widgetTools/-2025-02-11 16:44:35
wiggleplotr/-2025-02-11 16:44:35
wpm/-2025-02-11 16:44:35
wppi/-2025-02-11 16:44:35
xCell2/-2025-02-11 16:44:35
xcms/-2025-02-11 16:44:35
xcore/-2025-02-11 16:44:35
xenLite/-2025-02-11 16:44:35
xmapbridge/-2025-02-11 16:44:35
yamss/-2025-02-11 16:44:35
yarn/-2025-02-11 16:44:35
zFPKM/-2025-02-11 16:44:36
zellkonverter/-2025-02-11 16:44:35
zenith/-2025-02-11 16:44:35
zinbwave/-2025-02-11 16:44:36
zitools/-2025-02-11 16:44:36
zlibbioc/-2025-02-11 16:44:36
120px-Blue_Light_Icon.svg.png7.1 KiB2025-02-11 16:37:50
120px-Green_Light_Icon.svg.png7.1 KiB2025-02-11 16:37:50
120px-Red_Light_Icon.svg.png7.0 KiB2025-02-11 16:37:50
BUILD_STATUS_DB.txt1.0 MiB2025-02-11 16:37:49
DEVEL3b.png2.6 KiB2025-02-11 16:37:50
PROPAGATION_STATUS_DB.txt691.2 KiB2025-02-11 16:37:49
Renviron.bioc3.3 KiB2025-02-11 16:37:50
index.html1.3 MiB2025-02-11 16:44:51
kjohnson3-NodeInfo.html6.7 KiB2025-02-11 16:37:50
kjohnson3-R-instpkgs.html591.3 KiB2025-02-11 16:37:50
kjohnson3-index.html3.3 MiB2025-02-11 16:44:51
kunpeng2-NodeInfo.html7.7 KiB2025-01-30 18:08:43
kunpeng2-R-instpkgs.html531.9 KiB2025-01-30 18:08:43
kunpeng2-index.html2.0 MiB2025-01-30 18:13:52
lconway-NodeInfo.html6.8 KiB2025-02-11 16:37:50
lconway-R-instpkgs.html601.9 KiB2025-02-11 16:37:50
lconway-index.html3.3 MiB2025-02-11 16:44:45
long-report.html14.0 MiB2025-02-11 16:45:06
meat-index.dcf236.2 KiB2025-02-11 16:37:49
nebbiolo1-NodeInfo.html6.9 KiB2025-02-11 16:37:50
nebbiolo1-R-instpkgs.html517.2 KiB2025-02-11 16:37:50
nebbiolo1-index.html2.9 MiB2025-02-11 16:44:37
palomino7-NodeInfo.html7.0 KiB2025-02-11 16:37:50
palomino7-R-instpkgs.html460.4 KiB2025-02-11 16:37:50
palomino7-index.html3.3 MiB2025-02-11 16:44:40
pkg_dep_graph.txt376.9 KiB2025-02-11 16:37:49
report.css11.0 KiB2025-02-11 16:37:50
report.js6.0 KiB2025-02-11 16:37:50
report.tgz90.9 MiB2025-02-11 16:46:18
skipped-index.dcf0 B2025-02-11 16:37:49