Package: variants Version: 1.30.0 Command: chmod a+r variants -R && F:\biocbuild\bbs-3.20-bioc\R\bin\R.exe CMD build --keep-empty-dirs --no-resave-data variants StartedAt: 2025-04-03 11:39:20 -0400 (Thu, 03 Apr 2025) EndedAt: 2025-04-03 11:40:23 -0400 (Thu, 03 Apr 2025) EllapsedTime: 63.6 seconds RetCode: 0 Status: OK PackageFile: variants_1.30.0.tar.gz PackageFileSize: 4.84 MiB