Package: variants Version: 1.30.0 Command: /home/biocbuild/bbs-3.20-bioc/R/bin/R CMD INSTALL variants StartedAt: 2025-04-03 11:13:00 -0400 (Thu, 03 Apr 2025) EndedAt: 2025-04-03 11:13:23 -0400 (Thu, 03 Apr 2025) EllapsedTime: 23.2 seconds RetCode: 0 Status: OK