Package: variants Version: 1.30.0 Command: /home/biocbuild/bbs-3.20-bioc/R/bin/R CMD build --keep-empty-dirs --no-resave-data variants StartedAt: 2025-01-28 13:11:41 -0500 (Tue, 28 Jan 2025) EndedAt: 2025-01-28 13:12:40 -0500 (Tue, 28 Jan 2025) EllapsedTime: 58.5 seconds RetCode: 0 Status: OK PackageFile: variants_1.30.0.tar.gz PackageFileSize: 4.84 MiB