Package: variants Version: 1.30.0 Command: /Library/Frameworks/R.framework/Resources/bin/R CMD INSTALL variants StartedAt: 2025-04-03 11:14:13 -0400 (Thu, 03 Apr 2025) EndedAt: 2025-04-03 11:14:42 -0400 (Thu, 03 Apr 2025) EllapsedTime: 29.2 seconds RetCode: 0 Status: OK