Package: sequencing Version: 1.30.0 Command: /home/biocbuild/bbs-3.20-bioc/R/bin/R CMD INSTALL sequencing StartedAt: 2025-01-28 13:00:17 -0500 (Tue, 28 Jan 2025) EndedAt: 2025-01-28 13:00:45 -0500 (Tue, 28 Jan 2025) EllapsedTime: 27.3 seconds RetCode: 0 Status: OK