Package: rnaseqGene Version: 1.30.0 Command: chmod a+r rnaseqGene -R && F:\biocbuild\bbs-3.20-bioc\R\bin\R.exe CMD build --keep-empty-dirs --no-resave-data rnaseqGene StartedAt: 2025-04-03 11:34:14 -0400 (Thu, 03 Apr 2025) EndedAt: 2025-04-03 11:37:04 -0400 (Thu, 03 Apr 2025) EllapsedTime: 169.9 seconds RetCode: 0 Status: OK PackageFile: rnaseqGene_1.30.0.tar.gz PackageFileSize: 694.5 KiB