Package: rnaseqDTU Version: 1.26.0 Command: /home/biocbuild/bbs-3.20-bioc/R/bin/R CMD INSTALL rnaseqDTU StartedAt: 2025-04-03 11:13:07 -0400 (Thu, 03 Apr 2025) EndedAt: 2025-04-03 11:13:44 -0400 (Thu, 03 Apr 2025) EllapsedTime: 37.2 seconds RetCode: 0 Status: OK