Package: methylationArrayAnalysis Version: 1.30.0 Command: F:\biocbuild\bbs-3.20-bioc\R\bin\R.exe CMD INSTALL methylationArrayAnalysis StartedAt: 2025-01-28 13:02:02 -0500 (Tue, 28 Jan 2025) EndedAt: 2025-01-28 13:05:42 -0500 (Tue, 28 Jan 2025) EllapsedTime: 220.7 seconds RetCode: 0 Status: OK