Package: methylationArrayAnalysis Version: 1.30.0 Command: chmod a+r methylationArrayAnalysis -R && F:\biocbuild\bbs-3.20-bioc\R\bin\R.exe CMD build --keep-empty-dirs --no-resave-data methylationArrayAnalysis StartedAt: 2025-01-28 13:09:59 -0500 (Tue, 28 Jan 2025) EndedAt: 2025-01-28 13:20:06 -0500 (Tue, 28 Jan 2025) EllapsedTime: 607.5 seconds RetCode: 1 Status: ERROR PackageFile: None PackageFileSize: NA