Package: methylationArrayAnalysis Version: 1.29.0 Command: chmod a+r methylationArrayAnalysis -R && C:\Users\biocbuild\bbs-3.20-bioc\R\bin\R.exe CMD build --keep-empty-dirs --no-resave-data methylationArrayAnalysis StartedAt: 2024-07-09 13:10:10 -0400 (Tue, 09 Jul 2024) EndedAt: 2024-07-09 13:23:17 -0400 (Tue, 09 Jul 2024) EllapsedTime: 786.7 seconds RetCode: 0 Status: OK PackageFile: methylationArrayAnalysis_1.29.0.tar.gz PackageFileSize: 217.6 MiB