Package: methylationArrayAnalysis Version: 1.30.0 Command: /home/biocbuild/bbs-3.20-bioc/R/bin/R CMD build --keep-empty-dirs --no-resave-data methylationArrayAnalysis StartedAt: 2025-02-07 13:06:09 -0500 (Fri, 07 Feb 2025) EndedAt: 2025-02-07 13:14:40 -0500 (Fri, 07 Feb 2025) EllapsedTime: 511.7 seconds RetCode: 1 Status: ERROR PackageFile: None PackageFileSize: NA