############################################################################## ############################################################################## ### ### Running command: ### ### /Library/Frameworks/R.framework/Resources/bin/R CMD INSTALL methylationArrayAnalysis ### ############################################################################## ############################################################################## * installing to library ‘/Library/Frameworks/R.framework/Versions/4.4-x86_64/Resources/library’ ERROR: failed to lock directory ‘/Library/Frameworks/R.framework/Versions/4.4-x86_64/Resources/library’ for modifying Try removing ‘/Library/Frameworks/R.framework/Versions/4.4-x86_64/Resources/library/00LOCK-methylationArrayAnalysis’