Package: methylationArrayAnalysis Version: 1.30.0 Command: /Library/Frameworks/R.framework/Resources/bin/R CMD INSTALL methylationArrayAnalysis StartedAt: 2024-11-15 13:00:45 -0500 (Fri, 15 Nov 2024) EndedAt: 2024-11-15 13:03:41 -0500 (Fri, 15 Nov 2024) EllapsedTime: 175.8 seconds RetCode: 0 Status: OK