| Back to Workflows build report for BioC 3.20 |
This page was generated on 2025-04-03 13:02 -0400 (Thu, 03 Apr 2025).
A | |||||||||
| QUICK STATS | OS / Arch | INSTALL | BUILD | ||||||||||
| nebbiolo2 | Linux (Ubuntu 24.04.1 LTS) / x86_64 |
|
| ||||||||||
| palomino8 | Windows Server 2022 Datacenter / x64 |
|
| ||||||||||
| merida1 | macOS 12.7.5 Monterey / x86_64 |
|
| ||||||||||
| Package | Maintainer | INSTALL | BUILD | ||||||||||
| 1/30 | annotation 1.30.0 (landing page) | Bioconductor Package Maintainer | OK | ERROR | |||||||||
| 2/30 | arrays 1.32.0 (landing page) | Bioconductor Package Maintainer | OK | OK | |||||||||
| 3/30 | BiocMetaWorkflow 1.28.0 (landing page) | Mike Smith | OK | OK | |||||||||
| 4/30 | BP4RNAseq 1.16.0 (landing page) | Shanwen Sun | OK | OK | |||||||||
| 5/30 | CAGEWorkflow 1.22.0 (landing page) | Malte Thodberg | OK | OK | |||||||||
| 6/30 | chipseqDB 1.30.0 (landing page) | Aaron Lun | OK | OK | |||||||||
| 7/30 | csawUsersGuide 1.22.0 (landing page) | Aaron Lun | OK | OK | |||||||||
| 8/30 | cytofWorkflow 1.30.0 (landing page) | Mark D. Robinson | OK | OK | |||||||||
| 9/30 | EGSEA123 1.30.0 (landing page) | Matthew Ritchie | OK | OK | |||||||||
| 10/30 | ExpHunterSuite 1.14.0 (landing page) | James Perkins | OK | OK | |||||||||
| 11/30 | ExpressionNormalizationWorkflow 1.32.0 (landing page) | Karthikeyan Murugesan | OK | OK | |||||||||
| 12/30 | fluentGenomics 1.18.0 (landing page) | Stuart Lee | OK | ERROR | |||||||||
| 13/30 | generegulation 1.30.0 (landing page) | Bioconductor Package Maintainer | OK | OK | |||||||||
| 14/30 | GeoMxWorkflows 1.12.0 (landing page) | Maddy Griswold | OK | OK | |||||||||
| 15/30 | highthroughputassays (landing page) | ... NOT SUPPORTED ... | |||||||||||
| 16/30 | liftOver 1.30.0 (landing page) | Bioconductor Package Maintainer | OK | OK | |||||||||
| 17/30 | maEndToEnd 2.26.0 (landing page) | Stefanie Reisenauer | OK | OK | |||||||||
| 18/30 | methylationArrayAnalysis 1.30.0 (landing page) | Jovana Maksimovic | ERROR | ERROR | |||||||||
| 19/30 | recountWorkflow 1.30.0 (landing page) | Leonardo Collado-Torres | OK | OK | |||||||||
| 20/30 | RNAseq123 1.30.0 (landing page) | Matthew Ritchie | OK | OK | |||||||||
| 21/30 | rnaseqDTU 1.26.0 (landing page) | Michael Love | OK | OK | |||||||||
| 22/30 | rnaseqGene 1.30.0 (landing page) | Michael Love | OK | OK | |||||||||
| 23/30 | RnaSeqGeneEdgeRQL 1.30.0 (landing page) | Yunshun Chen | OK | OK | |||||||||
| 24/30 | seqpac 1.6.0 (landing page) | Daniel Natt | OK | OK | |||||||||
| 25/30 | sequencing 1.30.0 (landing page) | Bioconductor Package Maintainer | OK | OK | |||||||||
| 26/30 | simpleSingleCell 1.30.0 (landing page) | Aaron Lun | OK | OK | |||||||||
| 27/30 | SingscoreAMLMutations 1.22.0 (landing page) | Dharmesh D. Bhuva | OK | OK | |||||||||
| 28/30 | spicyWorkflow 1.6.0 (landing page) | SOMS Maintainer | OK | ERROR | |||||||||
| 29/30 | TCGAWorkflow 1.30.0 (landing page) | Tiago Chedraoui Silva | OK | OK | |||||||||
| 30/30 | variants 1.30.0 (landing page) | Bioconductor Package Maintainer | OK | OK | |||||||||