Package: maEndToEnd Version: 2.26.0 Command: F:\biocbuild\bbs-3.20-bioc\R\bin\R.exe CMD INSTALL maEndToEnd StartedAt: 2025-01-28 13:02:03 -0500 (Tue, 28 Jan 2025) EndedAt: 2025-01-28 13:02:38 -0500 (Tue, 28 Jan 2025) EllapsedTime: 34.9 seconds RetCode: 0 Status: OK