Package: maEndToEnd Version: 2.26.0 Command: /home/biocbuild/bbs-3.20-bioc/R/bin/R CMD INSTALL maEndToEnd StartedAt: 2025-01-28 13:00:45 -0500 (Tue, 28 Jan 2025) EndedAt: 2025-01-28 13:01:11 -0500 (Tue, 28 Jan 2025) EllapsedTime: 26.7 seconds RetCode: 0 Status: OK