Package: liftOver Version: 1.30.0 Command: F:\biocbuild\bbs-3.20-bioc\R\bin\R.exe CMD INSTALL liftOver StartedAt: 2025-02-07 13:02:12 -0500 (Fri, 07 Feb 2025) EndedAt: 2025-02-07 13:02:45 -0500 (Fri, 07 Feb 2025) EllapsedTime: 33.4 seconds RetCode: 0 Status: OK