Package: liftOver Version: 1.30.0 Command: chmod a+r liftOver -R && F:\biocbuild\bbs-3.20-bioc\R\bin\R.exe CMD build --keep-empty-dirs --no-resave-data liftOver StartedAt: 2025-02-07 13:08:34 -0500 (Fri, 07 Feb 2025) EndedAt: 2025-02-07 13:09:32 -0500 (Fri, 07 Feb 2025) EllapsedTime: 58.0 seconds RetCode: 0 Status: OK PackageFile: liftOver_1.30.0.tar.gz PackageFileSize: 4.374 MiB