Package: liftOver Version: 1.30.0 Command: /home/biocbuild/bbs-3.20-bioc/R/bin/R CMD build --keep-empty-dirs --no-resave-data liftOver StartedAt: 2025-04-03 11:17:39 -0400 (Thu, 03 Apr 2025) EndedAt: 2025-04-03 11:18:37 -0400 (Thu, 03 Apr 2025) EllapsedTime: 58.0 seconds RetCode: 0 Status: OK PackageFile: liftOver_1.30.0.tar.gz PackageFileSize: 4.374 MiB