Package: generegulation Version: 1.30.0 Command: F:\biocbuild\bbs-3.20-bioc\R\bin\R.exe CMD INSTALL generegulation StartedAt: 2025-04-03 11:20:59 -0400 (Thu, 03 Apr 2025) EndedAt: 2025-04-03 11:21:43 -0400 (Thu, 03 Apr 2025) EllapsedTime: 43.9 seconds RetCode: 0 Status: OK