Package: generegulation Version: 1.30.0 Command: chmod a+r generegulation -R && F:\biocbuild\bbs-3.20-bioc\R\bin\R.exe CMD build --keep-empty-dirs --no-resave-data generegulation StartedAt: 2025-04-03 11:27:04 -0400 (Thu, 03 Apr 2025) EndedAt: 2025-04-03 11:28:08 -0400 (Thu, 03 Apr 2025) EllapsedTime: 63.9 seconds RetCode: 0 Status: OK PackageFile: generegulation_1.30.0.tar.gz PackageFileSize: 1.235 MiB