Package: fluentGenomics Version: 1.18.0 Command: /home/biocbuild/bbs-3.20-bioc/R/bin/R CMD INSTALL fluentGenomics StartedAt: 2025-04-03 11:12:58 -0400 (Thu, 03 Apr 2025) EndedAt: 2025-04-03 11:13:31 -0400 (Thu, 03 Apr 2025) EllapsedTime: 33.4 seconds RetCode: 0 Status: OK