Package: fluentGenomics Version: 1.18.0 Command: /home/biocbuild/bbs-3.20-bioc/R/bin/R CMD build --keep-empty-dirs --no-resave-data fluentGenomics StartedAt: 2025-04-03 11:16:57 -0400 (Thu, 03 Apr 2025) EndedAt: 2025-04-03 11:20:05 -0400 (Thu, 03 Apr 2025) EllapsedTime: 188.1 seconds RetCode: 0 Status: OK PackageFile: fluentGenomics_1.18.0.tar.gz PackageFileSize: 5.457 MiB