Package: csawUsersGuide Version: 1.22.0 Command: /Library/Frameworks/R.framework/Resources/bin/R CMD INSTALL csawUsersGuide StartedAt: 2025-04-03 11:14:04 -0400 (Thu, 03 Apr 2025) EndedAt: 2025-04-03 11:14:09 -0400 (Thu, 03 Apr 2025) EllapsedTime: 5.1 seconds RetCode: 0 Status: OK