Package: csawUsersGuide Version: 1.22.0 Command: /Library/Frameworks/R.framework/Resources/bin/R CMD build --keep-empty-dirs --no-resave-data csawUsersGuide StartedAt: 2025-04-03 11:17:04 -0400 (Thu, 03 Apr 2025) EndedAt: 2025-04-03 11:17:12 -0400 (Thu, 03 Apr 2025) EllapsedTime: 8.0 seconds RetCode: 0 Status: OK PackageFile: csawUsersGuide_1.22.0.tar.gz PackageFileSize: 36.06 KiB