Package: arrays Version: 1.32.0 Command: chmod a+r arrays -R && F:\biocbuild\bbs-3.20-bioc\R\bin\R.exe CMD build --keep-empty-dirs --no-resave-data arrays StartedAt: 2025-01-28 13:06:26 -0500 (Tue, 28 Jan 2025) EndedAt: 2025-01-28 13:06:55 -0500 (Tue, 28 Jan 2025) EllapsedTime: 29.6 seconds RetCode: 0 Status: OK PackageFile: arrays_1.32.0.tar.gz PackageFileSize: 9.64 MiB