Package: arrays Version: 1.32.0 Command: /home/biocbuild/bbs-3.20-bioc/R/bin/R CMD INSTALL arrays StartedAt: 2025-04-03 11:12:53 -0400 (Thu, 03 Apr 2025) EndedAt: 2025-04-03 11:12:58 -0400 (Thu, 03 Apr 2025) EllapsedTime: 4.4 seconds RetCode: 0 Status: OK