Package: arrays Version: 1.32.0 Command: /Library/Frameworks/R.framework/Resources/bin/R CMD INSTALL arrays StartedAt: 2025-01-28 13:00:23 -0500 (Tue, 28 Jan 2025) EndedAt: 2025-01-28 13:00:38 -0500 (Tue, 28 Jan 2025) EllapsedTime: 15.1 seconds RetCode: 0 Status: OK