Package: annotation Version: 1.30.0 Command: F:\biocbuild\bbs-3.20-bioc\R\bin\R.exe CMD INSTALL annotation StartedAt: 2025-01-28 13:02:23 -0500 (Tue, 28 Jan 2025) EndedAt: 2025-01-28 13:02:56 -0500 (Tue, 28 Jan 2025) EllapsedTime: 32.5 seconds RetCode: 0 Status: OK