Package: annotation Version: 1.30.0 Command: /home/biocbuild/bbs-3.20-bioc/R/bin/R CMD INSTALL annotation StartedAt: 2025-04-03 11:13:37 -0400 (Thu, 03 Apr 2025) EndedAt: 2025-04-03 11:14:06 -0400 (Thu, 03 Apr 2025) EllapsedTime: 29.1 seconds RetCode: 0 Status: OK