Package: TCGAWorkflow Version: 1.30.0 Command: /home/biocbuild/bbs-3.20-bioc/R/bin/R CMD INSTALL TCGAWorkflow StartedAt: 2025-01-28 13:00:43 -0500 (Tue, 28 Jan 2025) EndedAt: 2025-01-28 13:01:43 -0500 (Tue, 28 Jan 2025) EllapsedTime: 60.3 seconds RetCode: 0 Status: OK