Package: TCGAWorkflow Version: 1.30.0 Command: /Library/Frameworks/R.framework/Resources/bin/R CMD INSTALL TCGAWorkflow StartedAt: 2025-04-03 11:14:49 -0400 (Thu, 03 Apr 2025) EndedAt: 2025-04-03 11:16:05 -0400 (Thu, 03 Apr 2025) EllapsedTime: 75.7 seconds RetCode: 0 Status: OK