Package: RnaSeqGeneEdgeRQL Version: 1.30.0 Command: F:\biocbuild\bbs-3.20-bioc\R\bin\R.exe CMD INSTALL RnaSeqGeneEdgeRQL StartedAt: 2025-01-28 13:01:26 -0500 (Tue, 28 Jan 2025) EndedAt: 2025-01-28 13:01:38 -0500 (Tue, 28 Jan 2025) EllapsedTime: 12.6 seconds RetCode: 0 Status: OK