Package: RnaSeqGeneEdgeRQL Version: 1.30.0 Command: /home/biocbuild/bbs-3.20-bioc/R/bin/R CMD build --keep-empty-dirs --no-resave-data RnaSeqGeneEdgeRQL StartedAt: 2025-01-28 13:09:13 -0500 (Tue, 28 Jan 2025) EndedAt: 2025-01-28 13:10:22 -0500 (Tue, 28 Jan 2025) EllapsedTime: 69.0 seconds RetCode: 0 Status: OK PackageFile: RnaSeqGeneEdgeRQL_1.30.0.tar.gz PackageFileSize: 1.595 MiB