Package: RnaSeqGeneEdgeRQL Version: 1.30.0 Command: /Library/Frameworks/R.framework/Resources/bin/R CMD INSTALL RnaSeqGeneEdgeRQL StartedAt: 2025-01-28 13:00:47 -0500 (Tue, 28 Jan 2025) EndedAt: 2025-01-28 13:01:24 -0500 (Tue, 28 Jan 2025) EllapsedTime: 36.6 seconds RetCode: 0 Status: OK