Package: RnaSeqGeneEdgeRQL Version: 1.30.0 Command: /Library/Frameworks/R.framework/Resources/bin/R CMD build --keep-empty-dirs --no-resave-data RnaSeqGeneEdgeRQL StartedAt: 2025-01-28 13:33:37 -0500 (Tue, 28 Jan 2025) EndedAt: 2025-01-28 13:37:02 -0500 (Tue, 28 Jan 2025) EllapsedTime: 205.5 seconds RetCode: 0 Status: OK PackageFile: RnaSeqGeneEdgeRQL_1.30.0.tar.gz PackageFileSize: 2.561 MiB