Package: RNAseq123 Version: 1.30.0 Command: /Library/Frameworks/R.framework/Resources/bin/R CMD build --keep-empty-dirs --no-resave-data RNAseq123 StartedAt: 2025-04-03 11:23:18 -0400 (Thu, 03 Apr 2025) EndedAt: 2025-04-03 11:25:35 -0400 (Thu, 03 Apr 2025) EllapsedTime: 137.4 seconds RetCode: 0 Status: OK PackageFile: RNAseq123_1.30.0.tar.gz PackageFileSize: 7.245 MiB