Package: ExpressionNormalizationWorkflow Version: 1.32.0 Command: /home/biocbuild/bbs-3.20-bioc/R/bin/R CMD INSTALL ExpressionNormalizationWorkflow StartedAt: 2025-04-03 11:13:00 -0400 (Thu, 03 Apr 2025) EndedAt: 2025-04-03 11:13:20 -0400 (Thu, 03 Apr 2025) EllapsedTime: 20.1 seconds RetCode: 0 Status: OK