Package: ExpressionNormalizationWorkflow Version: 1.32.0 Command: /home/biocbuild/bbs-3.20-bioc/R/bin/R CMD build --keep-empty-dirs --no-resave-data ExpressionNormalizationWorkflow StartedAt: 2025-04-03 11:16:56 -0400 (Thu, 03 Apr 2025) EndedAt: 2025-04-03 11:21:50 -0400 (Thu, 03 Apr 2025) EllapsedTime: 294.1 seconds RetCode: 0 Status: OK PackageFile: ExpressionNormalizationWorkflow_1.32.0.tar.gz PackageFileSize: 3.421 MiB