Package: ExpHunterSuite Version: 1.14.0 Command: /Library/Frameworks/R.framework/Resources/bin/R CMD build --keep-empty-dirs --no-resave-data ExpHunterSuite StartedAt: 2025-01-28 13:11:25 -0500 (Tue, 28 Jan 2025) EndedAt: 2025-01-28 13:20:56 -0500 (Tue, 28 Jan 2025) EllapsedTime: 571.4 seconds RetCode: 0 Status: OK PackageFile: ExpHunterSuite_1.14.0.tar.gz PackageFileSize: 4.112 MiB